BEGIN:VCALENDAR
VERSION:2.0
PRODID:-//Human Service Forum - ECPv6.15.20//NONSGML v1.0//EN
CALSCALE:GREGORIAN
METHOD:PUBLISH
X-WR-CALNAME:Human Service Forum
X-ORIGINAL-URL:https://www.humanserviceforum.org
X-WR-CALDESC:Events for Human Service Forum
REFRESH-INTERVAL;VALUE=DURATION:PT1H
X-Robots-Tag:noindex
X-PUBLISHED-TTL:PT1H
BEGIN:VTIMEZONE
TZID:America/New_York
BEGIN:DAYLIGHT
TZOFFSETFROM:-0500
TZOFFSETTO:-0400
TZNAME:EDT
DTSTART:20250309T070000
END:DAYLIGHT
BEGIN:STANDARD
TZOFFSETFROM:-0400
TZOFFSETTO:-0500
TZNAME:EST
DTSTART:20251102T060000
END:STANDARD
BEGIN:DAYLIGHT
TZOFFSETFROM:-0500
TZOFFSETTO:-0400
TZNAME:EDT
DTSTART:20260308T070000
END:DAYLIGHT
BEGIN:STANDARD
TZOFFSETFROM:-0400
TZOFFSETTO:-0500
TZNAME:EST
DTSTART:20261101T060000
END:STANDARD
BEGIN:DAYLIGHT
TZOFFSETFROM:-0500
TZOFFSETTO:-0400
TZNAME:EDT
DTSTART:20270314T070000
END:DAYLIGHT
BEGIN:STANDARD
TZOFFSETFROM:-0400
TZOFFSETTO:-0500
TZNAME:EST
DTSTART:20271107T060000
END:STANDARD
END:VTIMEZONE
BEGIN:VEVENT
DTSTART;TZID=America/New_York:20260430T080000
DTEND;TZID=America/New_York:20260430T170000
DTSTAMP:20260423T120951
CREATED:20260303T195400Z
LAST-MODIFIED:20260303T195400Z
UID:10007948-1777536000-1777568400@www.humanserviceforum.org
SUMMARY:Autism Connections' 34th Annual Autism Conference
DESCRIPTION:We are pleased to announce the 34th annual Autism Conference on April 30\, 2026!\nThis exciting event is designed to foster a sense of community among a diverse group of attendees\, including parents\, caregivers\, individuals with autism and autistic individuals\, extended family members and friends\, educators\, social workers\, and other professionals. \nThe Autism Conference offers a unique opportunity to engage with exhibitors and presenters who will share valuable insights and resources\, providing knowledge\, inspiration and motivation to expand your circle of supports. We are dedicated to focusing on resources that address the needs of individuals across all life stages. \nWe are particularly excited to announce our keynote speaker\, Dr. Daniel Wendler\, PsyD\, clinical psychologist\, bestselling author\, and autistic self-advocate\, who brings powerful insights on neurodiversity\, inclusion\, and human connection through both professional expertise and lived experience. In addition to the keynote\, participants can look forward to an all-new and expanded line-up of 18 Breakout Sessions! \nWe strive to make this event available to as many people as possible. If you are experiencing financial constraints and are interested in attending the conference at a discounted price\, let us know by checking the Request Financial Support box on the registration form. Thanks to a generous grant from the Doug Flutie\, Jr. Foundation for Autism we are able to offer up to a 100% discount on a limited number of tickets. \nFor all general event questions\, please email us at AutismConference@servicenet.org.
URL:https://www.humanserviceforum.org/event/autism-connections-34th-annual-autism-conference/
CATEGORIES:Community Calendar,HSF Member Event
ORGANIZER;CN="ServiceNet":MAILTO:wpayson@servicenet.org
END:VEVENT
BEGIN:VEVENT
DTSTART;TZID=America/New_York:20260430T100000
DTEND;TZID=America/New_York:20260430T113000
DTSTAMP:20260423T120951
CREATED:20260408T131610Z
LAST-MODIFIED:20260408T131610Z
UID:10008020-1777543200-1777548600@www.humanserviceforum.org
SUMMARY:Dispute Resolution Training
DESCRIPTION:Build your skills for navigating conflict in housing work. In this session\, facilitator Kayla Allen will explore how conflict shows up\, help you identify your personal conflict style\, and offer practical strategies for managing challenging situations. Participants will gain insight into the underlying dynamics of conflict and learn how to reframe concerns in ways that support resolution\, leaving with tools you can apply right away.
URL:https://www.humanserviceforum.org/event/dispute-resolution-training/
CATEGORIES:Community Calendar,HSF Member Event
END:VEVENT
BEGIN:VEVENT
DTSTART;TZID=America/New_York:20260430T113000
DTEND;TZID=America/New_York:20260430T170000
DTSTAMP:20260423T120951
CREATED:20260408T133412Z
LAST-MODIFIED:20260408T133412Z
UID:10008023-1777548600-1777568400@www.humanserviceforum.org
SUMMARY:Dispute Resolution Training
DESCRIPTION:Build your skills for navigating conflict in housing work. In this session\, facilitator Kayla Allen will explore how conflict shows up\, help you identify your personal conflict style\, and offer practical strategies for managing challenging situations. Participants will gain insight into the underlying dynamics of conflict and learn how to reframe concerns in ways that support resolution\, leaving with tools you can apply right away.
URL:https://www.humanserviceforum.org/event/dispute-resolution-training-2/
CATEGORIES:Community Calendar,HSF Member Event
END:VEVENT
BEGIN:VEVENT
DTSTART;TZID=America/New_York:20260430T143000
DTEND;TZID=America/New_York:20260430T160000
DTSTAMP:20260423T120951
CREATED:20260423T104200Z
LAST-MODIFIED:20260423T104200Z
UID:10008117-1777559400-1777564800@www.humanserviceforum.org
SUMMARY:Hilltown Resource Providers Networking Event
DESCRIPTION:
URL:https://www.humanserviceforum.org/event/hilltown-resource-providers-networking-event/
CATEGORIES:Community Calendar,HSF Member Event
END:VEVENT
BEGIN:VEVENT
DTSTART;TZID=America/New_York:20260430T170000
DTEND;TZID=America/New_York:20260430T183000
DTSTAMP:20260423T120951
CREATED:20260414T163645Z
LAST-MODIFIED:20260414T163645Z
UID:10008042-1777568400-1777573800@www.humanserviceforum.org
SUMMARY:AI in Education
DESCRIPTION:
URL:https://www.humanserviceforum.org/event/ai-in-education/
CATEGORIES:Community Calendar,HSF Member Event
END:VEVENT
BEGIN:VEVENT
DTSTART;TZID=America/New_York:20260430T173000
DTEND;TZID=America/New_York:20260430T203000
DTSTAMP:20260423T120951
CREATED:20260310T163323Z
LAST-MODIFIED:20260310T163323Z
UID:10007965-1777570200-1777581000@www.humanserviceforum.org
SUMMARY:Elevating Together: A Celebration of Youth\, Legacy & Leadership
DESCRIPTION:For more than a century\, the Urban League of Springfield has expanded opportunity\, strengthened families\, and invested in the future of our community. This year\, we invite you to join us for an inspiring evening that celebrates that legacy and the leaders helping to shape what comes next. \nElevating Together: A Celebration of Youth\, Legacy & Leadership will bring together civic leaders\, corporate partners\, and community champions for a powerful evening of recognition\, music\, and community impact. \nThroughout the evening we will honor outstanding leaders whose work continues to uplift and empower our community while supporting the programs that serve youth\, families\, and seniors across Springfield.
URL:https://www.humanserviceforum.org/event/elevating-together-a-celebration-of-youth-legacy-leadership/
CATEGORIES:Community Calendar,HSF Member Event
END:VEVENT
END:VCALENDAR