BEGIN:VCALENDAR
VERSION:2.0
PRODID:-//Human Service Forum - ECPv6.15.20//NONSGML v1.0//EN
CALSCALE:GREGORIAN
METHOD:PUBLISH
X-ORIGINAL-URL:https://www.humanserviceforum.org
X-WR-CALDESC:Events for Human Service Forum
REFRESH-INTERVAL;VALUE=DURATION:PT1H
X-Robots-Tag:noindex
X-PUBLISHED-TTL:PT1H
BEGIN:VTIMEZONE
TZID:America/New_York
BEGIN:DAYLIGHT
TZOFFSETFROM:-0500
TZOFFSETTO:-0400
TZNAME:EDT
DTSTART:20250309T070000
END:DAYLIGHT
BEGIN:STANDARD
TZOFFSETFROM:-0400
TZOFFSETTO:-0500
TZNAME:EST
DTSTART:20251102T060000
END:STANDARD
BEGIN:DAYLIGHT
TZOFFSETFROM:-0500
TZOFFSETTO:-0400
TZNAME:EDT
DTSTART:20260308T070000
END:DAYLIGHT
BEGIN:STANDARD
TZOFFSETFROM:-0400
TZOFFSETTO:-0500
TZNAME:EST
DTSTART:20261101T060000
END:STANDARD
BEGIN:DAYLIGHT
TZOFFSETFROM:-0500
TZOFFSETTO:-0400
TZNAME:EDT
DTSTART:20270314T070000
END:DAYLIGHT
BEGIN:STANDARD
TZOFFSETFROM:-0400
TZOFFSETTO:-0500
TZNAME:EST
DTSTART:20271107T060000
END:STANDARD
END:VTIMEZONE
BEGIN:VEVENT
DTSTART;TZID=America/New_York:20260521T090000
DTEND;TZID=America/New_York:20260521T103000
DTSTAMP:20260423T193641
CREATED:20250703T142353Z
LAST-MODIFIED:20251120T130504Z
UID:10007636-1779354000-1779359400@www.humanserviceforum.org
SUMMARY:HSF I.T. Roundtable
DESCRIPTION:A benefit for HSF members. IT professionals in Human Services — you are not alone! Join peers in a monthly roundtable discussion to connect with others who understand your work\, crowdsource solutions\, and share challenges. We are stronger together. \nGet updates on any Roundtables by registering here: https://lp.constantcontactpages.com/ev/reg/3s7thg3 \n  \nIf you have not previously attended\, or are not registered please contact Jeff Tingley for more information. \n  \n 
URL:https://www.humanserviceforum.org/event/hsf-i-t-roundtable/2026-05-21/
LOCATION:Online via Zoom
CATEGORIES:Community Calendar,HSF Event,HSF Member Event
ATTACH;FMTTYPE=image/png:https://www.humanserviceforum.org/wp-content/uploads/2025/07/I.T.-Roundtable.png
END:VEVENT
BEGIN:VEVENT
DTSTART;TZID=America/New_York:20260521T100000
DTEND;TZID=America/New_York:20260521T110000
DTSTAMP:20260423T193641
CREATED:20260422T114531Z
LAST-MODIFIED:20260422T114531Z
UID:10008057-1779357600-1779361200@www.humanserviceforum.org
SUMMARY:In-Service Training - Key Considerations for Estate Planning
DESCRIPTION:Come discuss what is needed to create an estate plan! Learn what estate planning is\, what happens when someone plans ahead\, and what a Will can and cannot do for them. A personalized plan can ensure that your consumers are protected and that their loved ones are cared for and are left feeling secure. \nGet these questions answered and more: \nQ: How to avoid common missteps with Beneficiary Designations?\nQ: How to prepare for the possibility of becoming incapacitated and unable to make financial and medical decisions for oneself?\nQ: Should there be a Durable Power of Attorney in place to give someone the authority to manage property in the event of becoming incapacitated?\nQ: How can someone ensure that a surviving spouse won’t disinherit their children accidently or on purpose?\nQ: What is probate? Why do people want to avoid it\, and how can it be avoided?\nQ: What’s the difference between a Will and a Trust?\nQ: What is a Healthcare Power of Attorney and why is it considered critical to have one?\nQ: What happens to property if someone dies without even a Will?\nQ: How should families with a person with special needs plan differently? \nPresented by: Kimberly A. Pisinski\, Attorney \nRegister here: https://lifepathma-org.zoom.us/meeting/register/ODtAQMWWSj-EzLdA_tiSKQ#/registration
URL:https://www.humanserviceforum.org/event/in-service-training-key-considerations-for-estate-planning/
LOCATION:Online via Zoom
CATEGORIES:Community Calendar,HSF Member Event
ATTACH;FMTTYPE=image/png:https://www.humanserviceforum.org/wp-content/uploads/2026/04/In-Service-banner.png
END:VEVENT
BEGIN:VEVENT
DTSTART;TZID=America/New_York:20260527T080000
DTEND;TZID=America/New_York:20260527T170000
DTSTAMP:20260423T193641
CREATED:20260408T115008Z
LAST-MODIFIED:20260408T121956Z
UID:10008016-1779868800-1779901200@www.humanserviceforum.org
SUMMARY:20TH ANNUAL Fair Housing & Civil Rights Conference
DESCRIPTION:Join the 20th annual Fair Housing & Civil Rights Conference May 27-28!2 days of workshops + a social hour + plenary speakers + and moreGet your tickets ($100) and learn more: https://fhcrconference.com/New for 2026:– Incredibly low ticket prices ($75 less than last year) thanks to a generous contribution from Massachusetts Fair Housing Center– New location at Holyoke Community CollegeThis conference is live and in person. Lunch and morning refreshments are included with your registration. Join us for the free social hour at the end of Day 1\, with refreshments\, raffles and more!
URL:https://www.humanserviceforum.org/event/20th-annual-fair-housing-civil-rights-conference/2026-05-27/
CATEGORIES:Community Calendar,HSF Member Event
ATTACH;FMTTYPE=image/jpeg:https://www.humanserviceforum.org/wp-content/uploads/2026/04/fair-housing.jpg
END:VEVENT
BEGIN:VEVENT
DTSTART;TZID=America/New_York:20260527T090000
DTEND;TZID=America/New_York:20260527T123000
DTSTAMP:20260423T193641
CREATED:20260330T144624Z
LAST-MODIFIED:20260420T160350Z
UID:10007994-1779872400-1779885000@www.humanserviceforum.org
SUMMARY:Supervisory Skills Certificate Series: Spring 2026
DESCRIPTION:Give new supervisors the skills they need to succeed.  If you are planning on promoting\, or have just promoted someone to a supervisory position help them hit the ground running with this 8 week course.  With HSF’s strong team of seasoned presenters covering a wide range of knowledge from different points of view\, we cover theory\, soft skills\, and hard facts.  Conversation topics range from harassment law and insurance liability to finding common purpose in a team and how to transition from peer to supervisor\, and much much more. \nRegister an individual who is eligible for a certificate\, or a space for your agency to send someone different to each session depending on who the topic will benefit most. \nThis series is presented over Zoom. Series runs 8 consecutive weeks starting  May 13th 9am-12:30pm all session.  Full series is $600 for members\, $1200 for nonmembers. \n \nSeries Topics and Dates: \n\nSupervising Former Peers and Establishing Healthy Boundaries- Wednesday May 13th\n\nThis training equips internally promoted leaders with the tools to successfully manage former peers while fostering trust\, accountability\, and healthy team dynamics. Leaders will explore the psychological and practical aspects of  transitioning into authority roles\, develop strategies for setting and enforcing boundaries\, refine their leadership identity\, and enhance their communication and feedback techniques. \nPresented by Will Weche; Willful Change LLC \n\nCyber Security- Wednesday May 20th\n\nWith the threat of cyber attacks continuing to rise\, with an increased focus on social engineering\, no one can afford to hide their heads in the sand and pretend that everything is ok.  With a focus on practical\, simple\, daily steps that one can take\, this session seeks to minimize risk to you\, your organization\, and your clients. \nPresented by Chris Wisneski; Whittlesey \n\nEmployment Law- Wednesday May 27th\n\nAvoid missteps that can lead to expensive and time-consuming litigation.  Learn from practicing attorneys on the wording of the law\, along with how that wording is actually applied. Covering a wide range of subjects to clear up misconceptions and acknowledging pitfalls\, this session is packed with useful information that every organization needs. \nPresented by Skoler-Abbott \n\nTeam Building and Conflict Resolution- Wednesday June 3rd\n\nThrough discussions that will include team activities and individual reflection\, forge a shared understanding of team-building and the essential skills for conflict resolution and negotiation that facilitate the development of strong\, cohesive\, effective teams. Make your team stronger than the sum of their parts\, drive unity\, and be able to address conflict when it does happen. \nPresented by Dr. Lucie Lewis and Janine Fondon \n\nCulturally Responsive Supervision- Wednesday June 10th\n\nJoin us as we take a deep look at the many aspects that make up our identities and how they impact our leadership\,  our organizations and the people we serve.  Improve our skills in having conversations about our differences in a way that encourages learning and growth while building intersectional resilience.  We will strengthen our ability to have important dialogues\, navigate predictable tensions and avoid pitfalls that lead to disconnection. This session helps supervisors cultivate trusting\, creative and connected diverse working relationships. \nPresented by Regi Wingo and JAC Patriss; Growing a New Heart \n\nLiability and Benefits- Wednesday June 17th\n\nGain a better understanding of Insurance\, and how it affects you\, your team and your organizations. Understand what coverage you have\, and might need\, in a variety of situations from daily operations to special fundraising events.  Learn the various forms of benefits available to understand what you have and be able to help explain to your team what their options are. \nPresented by Ben Garvey; Hub International \n\nRetention: Rewards and Accountability – Wednesday June 24th\n\nPeople don’t leave jobs; they leave bad supervisors. This session puts a focus on how a supervisor can strengthen and grow those who report to them\, creating an environment where employees want to stay.  Covering how to multiple the strengths of your team\, how to discipline in a way that productive\, and how to praise\, we will learn how to create a work environment centered on retention. \nPresented by Diana Brooks; Diana Brooks Associates \n\nLeadership Communication- Wednesday July 1st\n\nThis session looks at the building blocks of communicating clear messages to others.  In a core aspect of leadership that is often taken for granted\, those who excel at communicating often excel in supervision.  Learn to avoid noise and interference\, and how to properly process feedback to fine tune your messages for clearer understanding. \nPresented by Jeff Tingley; Human Service Forum \n  \nSupervisory Skills Series Sponsor: \n \nHSF Annual Sponsors: \n     \n     \n\n     \n  \n\n\n\n\n\n 
URL:https://www.humanserviceforum.org/event/supervisory-skills-certificate-series-spring-2026/2026-05-27/
LOCATION:Online via Zoom
CATEGORIES:Community Calendar,HSF Event,HSF Member Event,HSF Non Member Event,Workshop
ATTACH;FMTTYPE=image/png:https://www.humanserviceforum.org/wp-content/uploads/2024/12/Supe-Series-Choose-Your-Trainings-1.png
END:VEVENT
BEGIN:VEVENT
DTSTART;TZID=America/New_York:20260528T130000
DTEND;TZID=America/New_York:20260528T160000
DTSTAMP:20260423T193641
CREATED:20260408T132257Z
LAST-MODIFIED:20260408T132257Z
UID:10008021-1779973200-1779984000@www.humanserviceforum.org
SUMMARY:Community Action Awareness Day
DESCRIPTION:
URL:https://www.humanserviceforum.org/event/community-action-awareness-day/
CATEGORIES:Community Calendar,HSF Member Event
END:VEVENT
BEGIN:VEVENT
DTSTART;TZID=America/New_York:20260529T093000
DTEND;TZID=America/New_York:20260529T113000
DTSTAMP:20260423T193641
CREATED:20260414T142913Z
LAST-MODIFIED:20260414T142913Z
UID:10008041-1780047000-1780054200@www.humanserviceforum.org
SUMMARY:Western MA Network to End Homelessness10th Annual Regional Gathering
DESCRIPTION:
URL:https://www.humanserviceforum.org/event/western-ma-network-to-end-homelessness10th-annual-regional-gathering/
CATEGORIES:Community Calendar,HSF Member Event
END:VEVENT
BEGIN:VEVENT
DTSTART;TZID=America/New_York:20260601T080000
DTEND;TZID=America/New_York:20260601T170000
DTSTAMP:20260423T193641
CREATED:20260413T123709Z
LAST-MODIFIED:20260413T123709Z
UID:10008033-1780300800-1780333200@www.humanserviceforum.org
SUMMARY:
DESCRIPTION:You’re invited to join Access Care Partners’ Virtual Walk\, Run\, or Roll happening June 1–7! Whether you walk\, dance\, bike\, or roll\, every move you make supports older adults\, individuals with disabilities\, and caregivers in our community. Complete a 5K or Move your way for one hour during the week Do it anytime\, anywhere!Registration is just $25 — and you can even fundraise for a chance to earn a fun\, free gift! Sign up today: givebutter.com/stepintosummer/joinWe’re also seeking sponsors to help make this event even more impactful! Interested in getting involved? Contact us at x329 for more details.Let’s move together for a cause that matters!
URL:https://www.humanserviceforum.org/event/164421/
CATEGORIES:Community Calendar,HSF Member Event
END:VEVENT
BEGIN:VEVENT
DTSTART;TZID=America/New_York:20260601T130000
DTEND;TZID=America/New_York:20260601T150000
DTSTAMP:20260423T193641
CREATED:20260211T125634Z
LAST-MODIFIED:20260211T125634Z
UID:10007829-1780318800-1780326000@www.humanserviceforum.org
SUMMARY:Memory Training
DESCRIPTION:A four-week workshop series (2 hours for each session)\, this workshop is for people with mild age-related memory challenges\, Memory Training teaches memory-enhancing techniques and practical strategies to boost memory functioning. Not intended for people with dementia or Alzheimer’s. \n\nWinter 2026: Fridays from February 27-March 23\, 12:30-2:30 p.m. In-person at the Holyoke Senior Center\n\nSummer 2026: Mondays\, June 1-22\, 1:00-3:00 p.m. In-person at Chicopee RiverMills Senior Center\nFall 2026: Tuesdays\, October 6 – 27\, 1:00-3:00 p.m. In-person at Mont Marie Senior Housing\, Holyoke
URL:https://www.humanserviceforum.org/event/memory-training/2026-06-01/
CATEGORIES:Community Calendar,HSF Member Event
END:VEVENT
BEGIN:VEVENT
DTSTART;TZID=America/New_York:20260601T130000
DTEND;TZID=America/New_York:20260601T150000
DTSTAMP:20260423T193641
CREATED:20260413T122658Z
LAST-MODIFIED:20260413T122658Z
UID:10008028-1780318800-1780326000@www.humanserviceforum.org
SUMMARY:Memory Training
DESCRIPTION:A four-week workshop series (2 hours for each session)\, this workshop is for people with mild age-related memory challenges\, Memory Training teaches memory-enhancing techniques and practical strategies to boost memory functioning. Not intended for people with dementia or Alzheimer’s. \n\n**Registration is Closed as of 3/3/2026**  Winter 2026: Fridays from February 27-March 23\, 12:30-2:30 p.m. In-person at the Holyoke Senior Center\nSummer 2026: Mondays\, June 1-22\, 1:00-3:00 p.m. In-person at Chicopee RiverMills Senior Center\nFall 2026: Tuesdays\, October 6 – 27\, 1:00-3:00 p.m. In-person at Mont Marie Senior Housing\, Holyoke
URL:https://www.humanserviceforum.org/event/memory-training-2/2026-06-01/
CATEGORIES:Community Calendar,HSF Member Event
END:VEVENT
BEGIN:VEVENT
DTSTART;TZID=America/New_York:20260602T090000
DTEND;TZID=America/New_York:20260602T103000
DTSTAMP:20260423T193641
CREATED:20260302T154542Z
LAST-MODIFIED:20260302T154542Z
UID:10007939-1780390800-1780396200@www.humanserviceforum.org
SUMMARY:HSF Virtual HR Roundtable
DESCRIPTION:Open to HSF Members. Join us for a monthly discussion with fellow HR professionals from human service organizations. Connect with others doing similar work\, share challenges\, and explore solutions. We are stronger together. \n  \nGet updates on any Roundtables by registering here: https://lp.constantcontactpages.com/ev/reg/3s7thg3 \n  \nIf you have not previously attended\, or are not registered please contact Jeff Tingley for more information. \n 
URL:https://www.humanserviceforum.org/event/hsf-virtual-hr-roundtable-3/2026-06-02/
LOCATION:Online via Zoom
CATEGORIES:Community Calendar,HSF Event,HSF Member Event,HSF Non Member Event
ATTACH;FMTTYPE=image/png:https://www.humanserviceforum.org/wp-content/uploads/2025/07/HR-Roundtable.png
END:VEVENT
BEGIN:VEVENT
DTSTART;TZID=America/New_York:20260603T173000
DTEND;TZID=America/New_York:20260603T183000
DTSTAMP:20260423T193641
CREATED:20260422T130434Z
LAST-MODIFIED:20260422T130434Z
UID:10008060-1780507800-1780511400@www.humanserviceforum.org
SUMMARY:Academy for Financial Wellness - a four part financial literacy series
DESCRIPTION:Presented by Liberty Bank and HSF\, hosted by MHA\, the Academy for Financial Wellness is a step-by-step program designed to help you\nbuild financial independence. Through expert-led sessions\, you’ll gain the knowledge and confidence to\nmanage your money\, improve your credit\, and achieve short term and long financial goals. Create your path\, register today! \nThis four part series is no additional cost to HSF Members and is presented by Dawn Creighton; Liberty Bank\, with guests. The series runs every Wednesday in June at the MHA Auditorium from 5:30pm to 6:30pm. \nParticipants will get \n\nHands on learning with financial experts\nOne-on-one credit review opportunities\nInformation about Liberty Bank products designed to support your financial success including\n\nCredit Builder Loan and Saver Program\nBanksmart Account\nIndividual Development Accounts\n\n\n\n \nSeries Topics \n\nWhy Bank?– assess your financial health to set goals for your short and long term financial wellness.\nBudget Like a Pro– – Create & maintain a personalized spending plan that fits your life\nBuild and Repair Credit– Tools designed to help improve your score and uncover financial opportunities\nBecome a Homeowner-Learn about buying a home and understand mortgage options & down payment programs available to you\n\nThe series also offers chances to meet with a Financial Advisor. \n  \nSeries Host: \n \nHSF Annual Sponsors: \n     \n     \n\n     \n  \n\n\n\n\n\n 
URL:https://www.humanserviceforum.org/event/academy-for-financial-wellness-a-four-part-financial-literacy-series/2026-06-03/
LOCATION:MHA\, 350 Memorial Drive\, Chicopee\, MA\, 01020\, United States
CATEGORIES:Community Calendar,HSF Event,HSF Member Event,HSF Non Member Event,Workshop
ATTACH;FMTTYPE=image/png:https://www.humanserviceforum.org/wp-content/uploads/2026/04/Academy-for-Financial-Wellness-banner.png
GEO:42.1129961;-72.5774764
X-APPLE-STRUCTURED-LOCATION;VALUE=URI;X-ADDRESS=MHA 350 Memorial Drive Chicopee MA 01020 United States;X-APPLE-RADIUS=500;X-TITLE=350 Memorial Drive:geo:-72.5774764,42.1129961
END:VEVENT
BEGIN:VEVENT
DTSTART;TZID=America/New_York:20260605T100000
DTEND;TZID=America/New_York:20260605T170000
DTSTAMP:20260423T193641
CREATED:20260219T175854Z
LAST-MODIFIED:20260303T184740Z
UID:10007847-1780653600-1780678800@www.humanserviceforum.org
SUMMARY:28th Annual Golf Tournament
DESCRIPTION:This year is our 28th Annual Golf Tournament! Take advantage of a gorgeous location at the Crumpin-Fox Club. The tournament features a fantastic golfer package and outstanding course as your support keeps JA’s programs going strong. It promises to be a day you and your team will be talking about until next year! \nPlease email Amie Miarecki at amiarecki@jawm.org to sponsor our mission to empower young people to reach their full potential! \nRegistration Begins at 8:00am\nShotgun Start at 10:00am\nCrumpin-Fox Golf Club\n87 Parmenter Road Bernardston\, MA
URL:https://www.humanserviceforum.org/event/28th-annual-golf-tournament/
CATEGORIES:Community Calendar,HSF Member Event
ATTACH;FMTTYPE=image/jpeg:https://www.humanserviceforum.org/wp-content/uploads/2026/02/golf-event.jpg
END:VEVENT
BEGIN:VEVENT
DTSTART;TZID=America/New_York:20260611T083000
DTEND;TZID=America/New_York:20260611T100000
DTSTAMP:20260423T193641
CREATED:20260303T184920Z
LAST-MODIFIED:20260303T184920Z
UID:10007881-1781166600-1781172000@www.humanserviceforum.org
SUMMARY:Leaders Lounge
DESCRIPTION:Join us for Leaders Lounge—a free\, informal monthly meetup on the second Thursday of every month for nonprofit leaders and community builders. \nHosted by United Way of Pioneer Valley’s Community Leadership Connect\, it’s a space to share ideas\, test solutions\, and learn of best practices. All are welcome to join the conversation! \nCome as you are to connect\, grow\, and recharge in a welcoming\, relaxed atmosphere. We can’t wait to see you there!
URL:https://www.humanserviceforum.org/event/leaders-lounge-4/2026-06-11/
LOCATION:United Way of Pioneer Valley\, 1441 Main Street\, Suite 137\, Springfield\, MA\, 01103\, United States
CATEGORIES:Community Calendar,HSF Member Event
END:VEVENT
BEGIN:VEVENT
DTSTART;TZID=America/New_York:20260713T103000
DTEND;TZID=America/New_York:20260713T143000
DTSTAMP:20260423T193641
CREATED:20260414T134239Z
LAST-MODIFIED:20260414T134239Z
UID:10008035-1783938600-1783953000@www.humanserviceforum.org
SUMMARY:Compassionate Accountable Conversations
DESCRIPTION:Join us on July 13\, 14\, and 17\, 10:30am-2:30pm Eastern Time \nCompassionate Accountable Conversations is a three-day training series preparing individuals\, communities\, organizations\, and coalitions that are strengthening their transformative work towards healing and equity-based relationships in divisive times. Sometimes we engage with people who are exhibiting habits of dominance within their interpersonal conflict. We may also notice these habits within our own interventions. When this happens\, we need to be prepared to hold Compassionate Accountable Conversations that help interrupt dominance patterns and safely create the conditions where change becomes possible.
URL:https://www.humanserviceforum.org/event/compassionate-accountable-conversations-2/
LOCATION:Online via Zoom
CATEGORIES:Community Calendar,HSF Member Event
ATTACH;FMTTYPE=image/png:https://www.humanserviceforum.org/wp-content/uploads/2026/04/CAC-Logo.png
END:VEVENT
BEGIN:VEVENT
DTSTART;TZID=America/New_York:20261003T123000
DTEND;TZID=America/New_York:20261003T143000
DTSTAMP:20260423T193641
CREATED:20260413T122950Z
LAST-MODIFIED:20260413T122950Z
UID:10008031-1791030600-1791037800@www.humanserviceforum.org
SUMMARY:A Matter of Balance–Managing Concerns About Falls
DESCRIPTION:An 8-session workshop series (2 hours for each session) taking place once per a week\, this workshop teaches practical strategies to reduce the fear of falling and explores medical\, behavioral\, and environmental risk factors for falls\, stressing the importance of developing an exercise plan. \n\nSummer 2026: Wednesdays from May 5-June 24\, 10:00am – 12:00pm In-person at Belchertown Senior Center\nFall 2026: Thursdays from October 3-22\, 12:30-2:30pm at South Hadley Senior Center
URL:https://www.humanserviceforum.org/event/a-matter-of-balance-managing-concerns-about-falls/2026-10-03/
CATEGORIES:Community Calendar,HSF Member Event
END:VEVENT
END:VCALENDAR