BEGIN:VCALENDAR
VERSION:2.0
PRODID:-//Human Service Forum - ECPv6.15.20//NONSGML v1.0//EN
CALSCALE:GREGORIAN
METHOD:PUBLISH
X-WR-CALNAME:Human Service Forum
X-ORIGINAL-URL:https://www.humanserviceforum.org
X-WR-CALDESC:Events for Human Service Forum
REFRESH-INTERVAL;VALUE=DURATION:PT1H
X-Robots-Tag:noindex
X-PUBLISHED-TTL:PT1H
BEGIN:VTIMEZONE
TZID:America/New_York
BEGIN:DAYLIGHT
TZOFFSETFROM:-0500
TZOFFSETTO:-0400
TZNAME:EDT
DTSTART:20240310T070000
END:DAYLIGHT
BEGIN:STANDARD
TZOFFSETFROM:-0400
TZOFFSETTO:-0500
TZNAME:EST
DTSTART:20241103T060000
END:STANDARD
BEGIN:DAYLIGHT
TZOFFSETFROM:-0500
TZOFFSETTO:-0400
TZNAME:EDT
DTSTART:20250309T070000
END:DAYLIGHT
BEGIN:STANDARD
TZOFFSETFROM:-0400
TZOFFSETTO:-0500
TZNAME:EST
DTSTART:20251102T060000
END:STANDARD
BEGIN:DAYLIGHT
TZOFFSETFROM:-0500
TZOFFSETTO:-0400
TZNAME:EDT
DTSTART:20260308T070000
END:DAYLIGHT
BEGIN:STANDARD
TZOFFSETFROM:-0400
TZOFFSETTO:-0500
TZNAME:EST
DTSTART:20261101T060000
END:STANDARD
END:VTIMEZONE
BEGIN:VEVENT
DTSTART;TZID=America/New_York:20251021T100000
DTEND;TZID=America/New_York:20251021T113000
DTSTAMP:20260424T141202
CREATED:20250917T123612Z
LAST-MODIFIED:20251007T150615Z
UID:10007458-1761040800-1761046200@www.humanserviceforum.org
SUMMARY:COSA Providers Fair
DESCRIPTION:Hello human services professionals! You’re invited to the COSA Providers Fair\, a wonderful chance to connect with colleagues and learn about the amazing work happening throughout Hampshire County. This is a relaxed tabling event where you can network\, share information about your programs\, and discover valuable resources from other agencies. Let’s come together to discuss current services and initiatives and strengthen our community partnerships. \n\n\n\n \n\n\n\nWe’ll also be holding our COSA Annual Meeting at the event and all COSA members are encouraged to attend. This is your opportunity to participate in the election of Board officers\, hear reports on the past year\, and get a peek at topics for the coming year. Don’t miss out on this great chance to reconnect with your peers and get a table to showcase your organization.  \n\n\n\n \n\n\n\nRegister for a table today! Tables are limited and available on a first-come\, first-served basis. Non-members pay a $30 fee\, but for COSA members\, it’s completely free. Light refreshments will be available.
URL:https://www.humanserviceforum.org/event/cosa-providers-fair-2/
CATEGORIES:Community Calendar,HSF Member Event
END:VEVENT
BEGIN:VEVENT
DTSTART;TZID=America/New_York:20251022T080000
DTEND;TZID=America/New_York:20251022T170000
DTSTAMP:20260424T141202
CREATED:20250917T130824Z
LAST-MODIFIED:20250917T130824Z
UID:10007461-1761120000-1761152400@www.humanserviceforum.org
SUMMARY:2025 MNN Annual Conference
DESCRIPTION:Every year\, the MNN Annual Conference convenes one of the largest gatherings of nonprofit professionals in the state. This year’s Conference\, titled Stronger Together\, will take place on Wednesday\, October 22\, at the DCU Center in Worcester. \nIn a time of unprecedented challenges and change\, it is important for nonprofits to come together. This year’s event will provide nonprofits with great opportunities to find strength through unity\, connectivity\, and learning. \nThe day-long event will include: \n\nA conversation with Attorney General Andrea Campbell\nAn engaging keynote panel\, moderated by Wyona Lynch-McWhite of The Social Innovation Forum\nOver 25 workshops and expert roundtable sessions\nNetworking opportunities\nThe presentation of Lifetime Achievement Awards\n\nTo register for the 2025 Conference\, please click here. Early Bird rates are available now through September 18\, so be sure to register early to take advantage of the discount and save 25% or more off the regular cost! \nFor information about sponsorship and program book advertising opportunities\, please click here.
URL:https://www.humanserviceforum.org/event/2025-mnn-annual-conference/
CATEGORIES:Community Calendar,HSF Member Event
END:VEVENT
BEGIN:VEVENT
DTSTART;TZID=America/New_York:20251022T080000
DTEND;TZID=America/New_York:20251022T170000
DTSTAMP:20260424T141202
CREATED:20251021T130736Z
LAST-MODIFIED:20251021T130736Z
UID:10007502-1761120000-1761152400@www.humanserviceforum.org
SUMMARY:Safe Passage Grant a Wish Sign Up Begins
DESCRIPTION:It’s never too early to start thinking about holiday cheer! We’re looking for some special magic makers to help make the holiday season special for children experiencing domestic violence. If that’s you you can go to safepass.org/grant-a-wish today to bring a little magic into the world!
URL:https://www.humanserviceforum.org/event/safe-passage-grant-a-wish-sign-up-begins/
CATEGORIES:Community Calendar,HSF Member Event
ATTACH;FMTTYPE=image/jpeg:https://www.humanserviceforum.org/wp-content/uploads/2025/10/safe-passage.jpg
END:VEVENT
BEGIN:VEVENT
DTSTART;TZID=America/New_York:20251022T090000
DTEND;TZID=America/New_York:20251022T123000
DTSTAMP:20260424T141202
CREATED:20250916T183543Z
LAST-MODIFIED:20251015T141144Z
UID:10007452-1761123600-1761136200@www.humanserviceforum.org
SUMMARY:Liability and Benefits- Supervisory Skills Certificate Series: Fall 2025- Choose Your Training
DESCRIPTION:Single sessions of HSF’s Supervisory Skills Series are now available for registration. \nGive new supervisors the skills they need to succeed.  If you are planning on promoting\, or have just promoted someone to a supervisory position help them hit the ground running with this 8 week course.  With HSF’s strong team of seasoned presenters covering a wide range of knowledge from different points of view\, we cover theory\, soft skills\, and hard facts.  Conversation topics range from harassment law and insurance liability to finding common purpose in a team and how to show faith in those who work for you\, and much much more. \nLiability and Benefit- Wed October 22nd 2025 \nGain a better understanding of Insurance\, and how it affects you\, your team and your organizations. Understand what coverage you have\, and might need\, in a variety of situations from daily operations to special fundraising events.  Learn the various forms of benefits available to understand what you have and be able to help explain to your team what their options are. \nPresented by Ben Garvey and Val Francis; Hub International \nThis series is presented over Zoom. 9am-12:30pm all session. Each Session  is $150 for members\, $250 for nonmembers. \n \nOther Series Dates and Topics: \nEmployment Law Wed October 29th 2025 \nAvoid missteps that can lead to expensive and time-consuming litigation.  Learn from practicing attorneys on the wording of the law\, along with how that wording is actually applied. Covering a wide range of subjects to clear up misconceptions and acknowledging pitfalls\, this session is packed with useful information that every organization needs. \nPresented by Skoler-Abbott \nCyber Security Wed November 5th 2025 \nWith the threat of cyber attacks continuing to rise\, with an increased focus on social engineering\, no one can afford to hide their heads in the sand and pretend that everything is ok.  With a focus on practical\, simple\, daily steps that one can take\, this session seeks to minimize risk to you\, your organization\, and your clients. \nPresented by Chris Wisneski; Whittlesey \nLead with Influence- Wed November 12th 2025 \nWhether they mean to or not\, each person exerts influence over others.  With this session learn 10 steps a person could take to add intentionality to that and influence people like a leader. Create a sphere of impact that leaves a lasting positing impression on those you work closely with\, leading to them influencing others positively as well. \nPresented by Will Weche; Willful Change LLC \nLeadership Communication Wed November 19th 2025 \nThis session looks at the building blocks of communicating clear messages to others.  In a core aspect of leadership that is often taken for granted\, those who excel at communicating often excel in supervision.  Learn to avoid noise and interference\, and how to properly process feedback to fine tune your messages for clearer understanding. \nPresented by Jeff Tingley; Human Service Forum \nSupervisory Skills Series Sponsor: \n \nHSF Annual Sponsors: \n     \n     \n\n     \n\n    \n\n 
URL:https://www.humanserviceforum.org/event/supervisory-skills-certificate-series-fall-2025-choose-your-training-5/
CATEGORIES:Community Calendar,HSF Event,HSF Member Event,HSF Non Member Event,Workshop
ATTACH;FMTTYPE=image/png:https://www.humanserviceforum.org/wp-content/uploads/2025/09/benefits.png
END:VEVENT
BEGIN:VEVENT
DTSTART;TZID=America/New_York:20251022T110000
DTEND;TZID=America/New_York:20251022T120000
DTSTAMP:20260424T141202
CREATED:20250917T114024Z
LAST-MODIFIED:20251014T180131Z
UID:10007389-1761130800-1761134400@www.humanserviceforum.org
SUMMARY:Building Resilience from Within
DESCRIPTION:This six-week series was developed to help prevent caregiver burnout but is open to anyone experiencing heightened stress in their lives.\nPresenter Reina Goldberg will teach simple techniques to build core resilience including mindfulness\, gentle movement\, and guided visualization. The ongoing nature of the series strengthens connection\, reduces feelings of isolation\, and empowers individuals with tools to address their most pressing needs for stress reduction. \nOctober 22nd through November 26th\n(10/22\, 10/29\, 11/5\, 11/12\, 11/19 & 11/26)\nWednesdays 11-11:45 on Zoom (Participants will receive a Zoom link prior to the first session) \nThe program is free\, open to all\, and no experience is required. To ensure accessibility\, all exercises can be done seated or standing and every session is recorded so participants can watch or rewatch at their convenience. Registration is required. For more information and/or to register: scan the QR code in the image\, call 413-737-2601 or contact Tammy Morton: t.morton@jfswm.org
URL:https://www.humanserviceforum.org/event/building-resilience-from-within-2/2025-10-22/
CATEGORIES:Community Calendar,HSF Member Event
ATTACH;FMTTYPE=image/png:https://www.humanserviceforum.org/wp-content/uploads/2025/09/BUILDING-RESILIENCE-FROM-WITHIN-AUTUMN-2025.png
ORGANIZER;CN="Jewish Family Service of Western Massachusetts":MAILTO:info@jfswm.org
END:VEVENT
BEGIN:VEVENT
DTSTART;TZID=America/New_York:20251022T120000
DTEND;TZID=America/New_York:20251022T170000
DTSTAMP:20260424T141202
CREATED:20251022T101631Z
LAST-MODIFIED:20251022T101631Z
UID:10007511-1761134400-1761152400@www.humanserviceforum.org
SUMMARY:Community Care Package Drive
DESCRIPTION:Each year\, our Community Care Package Drive reminds us what kindness looks like in action. Last year\, your generosity helped us bring comfort and essentials to hundreds of families across our communities.\n\n\nWe’re doing it again\, and we need your help to keep it going.\n\n\nIf you’re able to donate\, organize a collection\, or spread the word\, you’ll help us reach even more families who count on our support.\n\n\nPlease share this with your friends\, families\, workplaces\, and any platforms where it can make a difference. Every box\, every share\, every small act matters.\n\n\nLet’s move hope forward. Thank you for your help.
URL:https://www.humanserviceforum.org/event/community-care-package-drive-2/
CATEGORIES:Community Calendar,HSF Member Event
ATTACH;FMTTYPE=image/jpeg:https://www.humanserviceforum.org/wp-content/uploads/2025/10/package-drive.jpg
END:VEVENT
BEGIN:VEVENT
DTSTART;TZID=America/New_York:20251023T163000
DTEND;TZID=America/New_York:20251023T183000
DTSTAMP:20260424T141202
CREATED:20251009T141723Z
LAST-MODIFIED:20251009T141723Z
UID:10007493-1761237000-1761244200@www.humanserviceforum.org
SUMMARY:Haunted House Fundraiser
DESCRIPTION:The bone-chilling season for ghosts\, ghouls\, and scary frights is finally here! In celebration\, ServiceNet’s Prospect Meadow Farm is hosting its first-ever haunted house fundraiser October 23-25.There will be two public haunted house events during the fundraiser:Kids’ Haunted House – Oct. 23\, 4:30- 6:30 p.m. – Family and sensory friendly!Adults’ Haunted House – Oct. 25\, 6-8 p.m. Hot beverages and baked goods from Rooster Cafe Facepainting at the Kids’ Haunted House 6 p.m. Goat parade at Kids’ Haunted House Silent Auction\, raffle\, and pre-orders for gift baskets with a 10 percent discount!Tickets for the haunted houses can be purchased online. https://hubs.la/Q03MMSK70Ticket sales at the door will be limited.
URL:https://www.humanserviceforum.org/event/haunted-house-fundraiser/
CATEGORIES:Community Calendar,HSF Member Event
ORGANIZER;CN="ServiceNet":MAILTO:wpayson@servicenet.org
END:VEVENT
BEGIN:VEVENT
DTSTART;TZID=America/New_York:20251023T180000
DTEND;TZID=America/New_York:20251023T190000
DTSTAMP:20260424T141202
CREATED:20251021T140819Z
LAST-MODIFIED:20251021T140819Z
UID:10007508-1761242400-1761246000@www.humanserviceforum.org
SUMMARY:What’s New in Breast Cancer Radiation: Faster\, Safer\, Targeted Care
DESCRIPTION:Join Radiation Oncologist Dr. Seth Kaufman for an informative talk about the latest breakthroughs in breast cancer treatment including how advanced radiation techniques are making treatment quicker\, more precise\, and easier on the body. Discover how new data and diagnostic tools are helping to better predict which patients might not need radiation at all.
URL:https://www.humanserviceforum.org/event/whats-new-in-breast-cancer-radiation-faster-safer-targeted-care/
CATEGORIES:Community Calendar,HSF Member Event
ATTACH;FMTTYPE=image/jpeg:https://www.humanserviceforum.org/wp-content/uploads/2025/10/breast.jpg
END:VEVENT
BEGIN:VEVENT
DTSTART;TZID=America/New_York:20251025T160000
DTEND;TZID=America/New_York:20251025T180000
DTSTAMP:20260424T141202
CREATED:20251007T125158Z
LAST-MODIFIED:20251007T125158Z
UID:10007485-1761408000-1761415200@www.humanserviceforum.org
SUMMARY:Fostering Creativity: Youth Art Showcase
DESCRIPTION:Join us for an art gallery style event featuring the creative designs\, artwork\, and messages from youth who are in and who have been in foster care. Through art\, these talented young creators will share their perspectives\, challenge stereotypes\, and spark important conversations about foster care and adoption. \nJoin us at the New Art Center in Newton for a gallery-style event showcasing their inspiring artwork. In addition to viewing the art\, you’ll also have the chance to hear directly from some of the artists during a panel discussion\, where they’ll share their personal experiences and insights\, offering a deeper understanding of the stories behind their creations. \nWhy You Can’t Miss This Event: \nExperience the Artwork: Discover the unique\, powerful stories behind each piece\nHear Their Stories: Listen to compelling talks from the speakers as they share the inspiration for their creations.\nSupport the Cause: Purchase products featuring the designs created by this year’s featured artists\, with proceeds supporting MARE initiatives.\nMake a Difference: Learn about the many ways you can raise awareness about adoption from foster care and help change lives.
URL:https://www.humanserviceforum.org/event/fostering-creativity-youth-art-showcase-2/
LOCATION:New Art Center\, 61 Washington Park\, Newton\, MA\, 02460\, United States
CATEGORIES:Community Calendar,HSF Member Event
ATTACH;FMTTYPE=image/jpeg:https://www.humanserviceforum.org/wp-content/uploads/2025/10/TTL-9832-scaled.jpg
ORGANIZER;CN="Massachusetts Adoption Resource Exchange":MAILTO:anae@mareinc.org
END:VEVENT
END:VCALENDAR