BEGIN:VCALENDAR
VERSION:2.0
PRODID:-//Human Service Forum - ECPv6.15.20//NONSGML v1.0//EN
CALSCALE:GREGORIAN
METHOD:PUBLISH
X-WR-CALNAME:Human Service Forum
X-ORIGINAL-URL:https://www.humanserviceforum.org
X-WR-CALDESC:Events for Human Service Forum
REFRESH-INTERVAL;VALUE=DURATION:PT1H
X-Robots-Tag:noindex
X-PUBLISHED-TTL:PT1H
BEGIN:VTIMEZONE
TZID:America/New_York
BEGIN:DAYLIGHT
TZOFFSETFROM:-0500
TZOFFSETTO:-0400
TZNAME:EDT
DTSTART:20240310T070000
END:DAYLIGHT
BEGIN:STANDARD
TZOFFSETFROM:-0400
TZOFFSETTO:-0500
TZNAME:EST
DTSTART:20241103T060000
END:STANDARD
BEGIN:DAYLIGHT
TZOFFSETFROM:-0500
TZOFFSETTO:-0400
TZNAME:EDT
DTSTART:20250309T070000
END:DAYLIGHT
BEGIN:STANDARD
TZOFFSETFROM:-0400
TZOFFSETTO:-0500
TZNAME:EST
DTSTART:20251102T060000
END:STANDARD
BEGIN:DAYLIGHT
TZOFFSETFROM:-0500
TZOFFSETTO:-0400
TZNAME:EDT
DTSTART:20260308T070000
END:DAYLIGHT
BEGIN:STANDARD
TZOFFSETFROM:-0400
TZOFFSETTO:-0500
TZNAME:EST
DTSTART:20261101T060000
END:STANDARD
END:VTIMEZONE
BEGIN:VEVENT
DTSTART;TZID=America/New_York:20251103T120000
DTEND;TZID=America/New_York:20251103T130000
DTSTAMP:20260424T113504
CREATED:20251029T122032Z
LAST-MODIFIED:20251029T122032Z
UID:10007581-1762171200-1762174800@www.humanserviceforum.org
SUMMARY:Drowning in Data: Making Use (and Sense) of What You Already Have
DESCRIPTION:Nonprofits juggle a lot: programs to run\, communities to serve\, boards and funders to keep informed\, and somewhere in the mix sits data. You have intake forms\, attendance logs\, survey responses (paper and online)\, rogue spreadsheets\, CRM exports (oh my!). You’re working hard\, you care deeply\, and you want data to help\, not weigh you down. This workshop is about throwing you a life raft. We’ll cut through the noise of overwhelming data and reframe it as something you already have (and don’t need to reinvent). No new systems or complicated dashboards\, just simple tools to spot what’s getting in the way\, ask sharper questions\, and turn existing data into insights your team\, board\, and funders can use.
URL:https://www.humanserviceforum.org/event/drowning-in-data-making-use-and-sense-of-what-you-already-have/
CATEGORIES:Community Calendar,HSF Member Event
END:VEVENT
BEGIN:VEVENT
DTSTART;TZID=America/New_York:20251105T090000
DTEND;TZID=America/New_York:20251105T123000
DTSTAMP:20260424T113504
CREATED:20251015T141810Z
LAST-MODIFIED:20251015T141811Z
UID:10007454-1762333200-1762345800@www.humanserviceforum.org
SUMMARY:Cyber Security- Supervisory Skills Certificate Series: Fall 2025- Choose Your Training
DESCRIPTION:Single sessions of HSF’s Supervisory Skills Series are now available for registration. \nGive new supervisors the skills they need to succeed.  If you are planning on promoting\, or have just promoted someone to a supervisory position help them hit the ground running with this 8 week course.  With HSF’s strong team of seasoned presenters covering a wide range of knowledge from different points of view\, we cover theory\, soft skills\, and hard facts.  Conversation topics range from harassment law and insurance liability to finding common purpose in a team and how to show faith in those who work for you\, and much much more. \nCyber Security Wed November 5th 2025 \nWith the threat of cyber attacks continuing to rise\, with an increased focus on social engineering\, no one can afford to hide their heads in the sand and pretend that everything is ok.  With a focus on practical\, simple\, daily steps that one can take\, this session seeks to minimize risk to you\, your organization\, and your clients. \nPresented by Chris Wisneski; Whittlesey \nThis series is presented over Zoom. 9am-12:30pm all session. Each Session  is $150 for members\, $250 for nonmembers. \n \nOther Series Dates and Topics: \nLead with Influence- Wed November 12th 2025 \nWhether they mean to or not\, each person exerts influence over others.  With this session learn 10 steps a person could take to add intentionality to that and influence people like a leader. Create a sphere of impact that leaves a lasting positing impression on those you work closely with\, leading to them influencing others positively as well. \nPresented by Will Weche; Willful Change LLC \nLeadership Communication Wed November 19th 2025 \nThis session looks at the building blocks of communicating clear messages to others.  In a core aspect of leadership that is often taken for granted\, those who excel at communicating often excel in supervision.  Learn to avoid noise and interference\, and how to properly process feedback to fine tune your messages for clearer understanding. \nPresented by Jeff Tingley; Human Service Forum \nSupervisory Skills Series Sponsor: \n \nHSF Annual Sponsors: \n     \n     \n\n     \n\n    \n\n 
URL:https://www.humanserviceforum.org/event/supervisory-skills-certificate-series-fall-2025-choose-your-training-9/
CATEGORIES:Community Calendar,HSF Event,HSF Member Event,HSF Non Member Event,Workshop
ATTACH;FMTTYPE=image/png:https://www.humanserviceforum.org/wp-content/uploads/2025/09/cybersecurity.png
END:VEVENT
BEGIN:VEVENT
DTSTART;TZID=America/New_York:20251105T100000
DTEND;TZID=America/New_York:20251105T120000
DTSTAMP:20260424T113504
CREATED:20251104T175749Z
LAST-MODIFIED:20251104T175749Z
UID:10007588-1762336800-1762344000@www.humanserviceforum.org
SUMMARY:MMP Connects Western & Central MA
DESCRIPTION:Join us for this fall’s MMP Connects! Both our Western MA region and Central MA regional partners will meet at the Holyoke Public Library to discuss the theme of Community Assets. Join us for this in-person networking opportunity\, where we will map what is strongest about the mentoring movement in our local contexts and lift up the wonderful\, hard work you all contribute to. We will discuss promotion of partnerships\, and gather insight into desired match activities for 2026. \nAgenda: \n10 – 10:30 Breakfast Networking \n10:30 – 11 Opening Context and our Mentoring Movement \n11 – 11:45 Open Discussion \n11:45 – 12 Debrief and Close \nIf you have any questions\, email Lauren at lmccabe@massmentors.org.
URL:https://www.humanserviceforum.org/event/mmp-connects-western-central-ma/
LOCATION:Holyoke Public Library\, 250 Chestnut St\, Holyoke\, MA\, 01040\, United States
CATEGORIES:Community Calendar
ATTACH;FMTTYPE=image/png:https://www.humanserviceforum.org/wp-content/uploads/2025/10/MMP-Connects-Fall-2025-3-1.png
GEO:42.2041165;-72.6126242
X-APPLE-STRUCTURED-LOCATION;VALUE=URI;X-ADDRESS=Holyoke Public Library 250 Chestnut St Holyoke MA 01040 United States;X-APPLE-RADIUS=500;X-TITLE=250 Chestnut St:geo:-72.6126242,42.2041165
END:VEVENT
BEGIN:VEVENT
DTSTART;TZID=America/New_York:20251105T103000
DTEND;TZID=America/New_York:20251105T113000
DTSTAMP:20260424T113504
CREATED:20251031T130024Z
LAST-MODIFIED:20251031T130024Z
UID:10007589-1762338600-1762342200@www.humanserviceforum.org
SUMMARY:Community Benefits Forums
DESCRIPTION:Baystate Health and Health New England warmly invite patients\, friends\, and the wider community to attend their in-person Community Benefits Forums. These forums are an opportunity to learn\, share\, and connect around the health needs and priorities of our local communities.Register here: https://baystatehealth.jotform.com/252875534671062
URL:https://www.humanserviceforum.org/event/community-benefits-forums/
CATEGORIES:Community Calendar,HSF Member Event
END:VEVENT
BEGIN:VEVENT
DTSTART;TZID=America/New_York:20251105T110000
DTEND;TZID=America/New_York:20251105T120000
DTSTAMP:20260424T113504
CREATED:20250917T114024Z
LAST-MODIFIED:20251014T180131Z
UID:10007391-1762340400-1762344000@www.humanserviceforum.org
SUMMARY:Building Resilience from Within
DESCRIPTION:This six-week series was developed to help prevent caregiver burnout but is open to anyone experiencing heightened stress in their lives.\nPresenter Reina Goldberg will teach simple techniques to build core resilience including mindfulness\, gentle movement\, and guided visualization. The ongoing nature of the series strengthens connection\, reduces feelings of isolation\, and empowers individuals with tools to address their most pressing needs for stress reduction. \nOctober 22nd through November 26th\n(10/22\, 10/29\, 11/5\, 11/12\, 11/19 & 11/26)\nWednesdays 11-11:45 on Zoom (Participants will receive a Zoom link prior to the first session) \nThe program is free\, open to all\, and no experience is required. To ensure accessibility\, all exercises can be done seated or standing and every session is recorded so participants can watch or rewatch at their convenience. Registration is required. For more information and/or to register: scan the QR code in the image\, call 413-737-2601 or contact Tammy Morton: t.morton@jfswm.org
URL:https://www.humanserviceforum.org/event/building-resilience-from-within-2/2025-11-05/
CATEGORIES:Community Calendar,HSF Member Event
ATTACH;FMTTYPE=image/png:https://www.humanserviceforum.org/wp-content/uploads/2025/09/BUILDING-RESILIENCE-FROM-WITHIN-AUTUMN-2025.png
ORGANIZER;CN="Jewish Family Service of Western Massachusetts":MAILTO:info@jfswm.org
END:VEVENT
BEGIN:VEVENT
DTSTART;TZID=America/New_York:20251105T120000
DTEND;TZID=America/New_York:20251105T130000
DTSTAMP:20260424T113504
CREATED:20251029T133442Z
LAST-MODIFIED:20251029T133442Z
UID:10007582-1762344000-1762347600@www.humanserviceforum.org
SUMMARY:Harm Reduction in Practice
DESCRIPTION:First up in our Lunch & Learn Series will be Tapestry‘s Kyle Harrington sharing on Harm Reduction in Practice: Responding to a Changing Drug Supply on Wednesday\, November 5 from 12-1 PM on Zoom! Open to all regional community members and partners – we hope to see you there!
URL:https://www.humanserviceforum.org/event/harm-reduction-in-practice/
CATEGORIES:Community Calendar,HSF Member Event
ATTACH;FMTTYPE=image/jpeg:https://www.humanserviceforum.org/wp-content/uploads/2025/10/tapestry-1.jpg
ORGANIZER;CN="Tapestry Health":MAILTO:events@tapestryhealth.org
END:VEVENT
BEGIN:VEVENT
DTSTART;TZID=America/New_York:20251105T173000
DTEND;TZID=America/New_York:20251105T200000
DTSTAMP:20260424T113504
CREATED:20251009T140005Z
LAST-MODIFIED:20251009T140005Z
UID:10007489-1762363800-1762372800@www.humanserviceforum.org
SUMMARY:Transition Resource Fair
DESCRIPTION:The popular Transition Resource Fair is coming to Greenfield High School!\n\n\n\n\n\n\n\n  \n\n\n\n\n\n\n\nWednesday\, November 5\, 2025 \n5:30 p.m. – 8 p.m. \n  \nGreenfield High School \n21 Barr Avenue\, Greenfield\, MA 01301\n\n\n\n\n\n\n\n  \n\n\n\n\n\n\n\nThe Transition Resource Fair focuses on future options for high school students as they and their families plan their transition from DDS children’s services to adult services. The event provides an opportunity to meet with a roomful of specialized transition service providers\, and is a free resource event open to the entire community. \n  \nParticipants in the transition process are typically students 14-22\, however\, information about services can also be useful for younger children\, as well as young adults over 22. \n  \nWe respectfully request that you register for the fair so we will be prepared for the correct number of attendees; however\, registration is not required. Registrations from attendees requesting Spanish interpretation are required and are due by October 21\, so we can make arrangements. \n  \nLight appetizers will be available during the fair. \n  \nIf you have additional questions\, please email Angie Hawk\, at ahawk@servicenet.org.
URL:https://www.humanserviceforum.org/event/transition-resource-fair-2/
CATEGORIES:Community Calendar,HSF Member Event
ATTACH;FMTTYPE=image/jpeg:https://www.humanserviceforum.org/wp-content/uploads/2025/10/transition.jpg
ORGANIZER;CN="ServiceNet":MAILTO:wpayson@servicenet.org
END:VEVENT
BEGIN:VEVENT
DTSTART;TZID=America/New_York:20251106T160000
DTEND;TZID=America/New_York:20251106T190000
DTSTAMP:20260424T113504
CREATED:20251104T152907Z
LAST-MODIFIED:20251104T152907Z
UID:10007597-1762444800-1762455600@www.humanserviceforum.org
SUMMARY:Starlight Clubhouse Open House
DESCRIPTION:Join us on November 6th from 4-7 pm at Star Light Clubhouse! Come see firsthand the incredible work happening in our community and learn about the positive impact we’re making together creating opportunities and working to end the stigma on mental health.Whether you’re curious about what we do or want to get involved\, or become a member\, we’d love to see you there!
URL:https://www.humanserviceforum.org/event/starlight-clubhouse-open-house/
CATEGORIES:Community Calendar,HSF Member Event
END:VEVENT
BEGIN:VEVENT
DTSTART;TZID=America/New_York:20251108T130000
DTEND;TZID=America/New_York:20251108T173000
DTSTAMP:20260424T113504
CREATED:20251106T143315Z
LAST-MODIFIED:20251106T144139Z
UID:10007601-1762606800-1762623000@www.humanserviceforum.org
SUMMARY:Art in Community: Pathways to Healing & Joy
DESCRIPTION:You’re Invited!\n  \nJoin us for Art in Community: Pathways to Healing & Joy — a vibrant gathering of artists\, neighbors\, and healers celebrating resilience\, creativity\, and connection through art. \n️ Saturday\, November 8\, 2025 1:00–5:30 PM Unitarian Universalist Society\, 121 N. Pleasant St.\, Amherst\, MA | Sliding scale: $0–$35 | Light refreshments provided |Childcare available upon request|️ All are welcome \n✨ Featuring powerful workshops and performances by: \n\nMagdalena Gómez – poet\, storyteller\, performance artist\nJanet Aalfs – martial artist\, poet\, movement guide\nKathleen Bowen – mandala creator\, Center for Biography and Art\nTimna Tarr – fabric collage artist\, ritual & song leader\n\nCome to remember\, create\, share\, and celebrate. Whether you’re an artist\, a neighbor\, or simply curious—this space is for you. \n  \n  \nRegister here: https://www.eventbrite.com/e/art-in-community-pathways-to-healing-and-joy-tickets-1770555582409?aff=oddtdtcreator \nPlease share widely and bring a friend! \nTrauma-Informed Hampshire County is a program of the Consortium \nGratitude to our sponsors: Mass Cultural Council • Greenfield Northampton Cooperative Bank • Mass General Brigham Cooley Dickinson Hospital
URL:https://www.humanserviceforum.org/event/art-in-community-pathways-to-healing-joy/
LOCATION:Amherst Unitarian Universalist Church\, 121 North Pleasant Street\, Amherst\, MA\, 01004\, United States
CATEGORIES:Community Calendar,HSF Member Event
ATTACH;FMTTYPE=image/png:https://www.humanserviceforum.org/wp-content/uploads/2025/11/Final-Flier.png
ORGANIZER;CN="Trauma Informed Hampshire County":MAILTO:tihc@wmtcinfo.org
GEO:42.3774026;-72.5194586
X-APPLE-STRUCTURED-LOCATION;VALUE=URI;X-ADDRESS=Amherst Unitarian Universalist Church 121 North Pleasant Street Amherst MA 01004 United States;X-APPLE-RADIUS=500;X-TITLE=121 North Pleasant Street:geo:-72.5194586,42.3774026
END:VEVENT
END:VCALENDAR