BEGIN:VCALENDAR
VERSION:2.0
PRODID:-//Human Service Forum - ECPv6.15.20//NONSGML v1.0//EN
CALSCALE:GREGORIAN
METHOD:PUBLISH
X-ORIGINAL-URL:https://www.humanserviceforum.org
X-WR-CALDESC:Events for Human Service Forum
REFRESH-INTERVAL;VALUE=DURATION:PT1H
X-Robots-Tag:noindex
X-PUBLISHED-TTL:PT1H
BEGIN:VTIMEZONE
TZID:America/New_York
BEGIN:DAYLIGHT
TZOFFSETFROM:-0500
TZOFFSETTO:-0400
TZNAME:EDT
DTSTART:20240310T070000
END:DAYLIGHT
BEGIN:STANDARD
TZOFFSETFROM:-0400
TZOFFSETTO:-0500
TZNAME:EST
DTSTART:20241103T060000
END:STANDARD
BEGIN:DAYLIGHT
TZOFFSETFROM:-0500
TZOFFSETTO:-0400
TZNAME:EDT
DTSTART:20250309T070000
END:DAYLIGHT
BEGIN:STANDARD
TZOFFSETFROM:-0400
TZOFFSETTO:-0500
TZNAME:EST
DTSTART:20251102T060000
END:STANDARD
BEGIN:DAYLIGHT
TZOFFSETFROM:-0500
TZOFFSETTO:-0400
TZNAME:EDT
DTSTART:20260308T070000
END:DAYLIGHT
BEGIN:STANDARD
TZOFFSETFROM:-0400
TZOFFSETTO:-0500
TZNAME:EST
DTSTART:20261101T060000
END:STANDARD
END:VTIMEZONE
BEGIN:VEVENT
DTSTART;TZID=America/New_York:20251112T090000
DTEND;TZID=America/New_York:20251112T123000
DTSTAMP:20260424T101856
CREATED:20250916T184323Z
LAST-MODIFIED:20251015T142101Z
UID:10007455-1762938000-1762950600@www.humanserviceforum.org
SUMMARY:Lead with Influence : Choose Your Training
DESCRIPTION:Single sessions of HSF’s Supervisory Skills Series are now available for registration. \nGive new supervisors the skills they need to succeed.  If you are planning on promoting\, or have just promoted someone to a supervisory position help them hit the ground running with this 8 week course.  With HSF’s strong team of seasoned presenters covering a wide range of knowledge from different points of view\, we cover theory\, soft skills\, and hard facts.  Conversation topics range from harassment law and insurance liability to finding common purpose in a team and how to show faith in those who work for you\, and much much more. \nLead with Influence- Wed November 12th 2025 \nWhether they mean to or not\, each person exerts influence over others.  With this session learn 10 steps a person could take to add intentionality to that and influence people like a leader. Create a sphere of impact that leaves a lasting positing impression on those you work closely with\, leading to them influencing others positively as well. \nPresented by Will Weche; Willful Change LLC \nThis series is presented over Zoom. 9am-12:30pm all session. Each Session  is $150 for members\, $250 for nonmembers. \n \nOther Series Dates and Topics: \nLeadership Communication Wed November 19th 2025 \nThis session looks at the building blocks of communicating clear messages to others.  In a core aspect of leadership that is often taken for granted\, those who excel at communicating often excel in supervision.  Learn to avoid noise and interference\, and how to properly process feedback to fine tune your messages for clearer understanding. \nPresented by Jeff Tingley; Human Service Forum \nSupervisory Skills Series Sponsor: \n \nHSF Annual Sponsors: \n     \n     \n\n     \n\n    \n\n 
URL:https://www.humanserviceforum.org/event/supervisory-skills-certificate-series-fall-2025-choose-your-training-7/
CATEGORIES:Community Calendar,HSF Event,HSF Member Event,HSF Non Member Event,Workshop
ATTACH;FMTTYPE=image/png:https://www.humanserviceforum.org/wp-content/uploads/2025/09/influence.png
END:VEVENT
BEGIN:VEVENT
DTSTART;TZID=America/New_York:20251112T110000
DTEND;TZID=America/New_York:20251112T120000
DTSTAMP:20260424T101856
CREATED:20250917T114024Z
LAST-MODIFIED:20251014T180131Z
UID:10007392-1762945200-1762948800@www.humanserviceforum.org
SUMMARY:Building Resilience from Within
DESCRIPTION:This six-week series was developed to help prevent caregiver burnout but is open to anyone experiencing heightened stress in their lives.\nPresenter Reina Goldberg will teach simple techniques to build core resilience including mindfulness\, gentle movement\, and guided visualization. The ongoing nature of the series strengthens connection\, reduces feelings of isolation\, and empowers individuals with tools to address their most pressing needs for stress reduction. \nOctober 22nd through November 26th\n(10/22\, 10/29\, 11/5\, 11/12\, 11/19 & 11/26)\nWednesdays 11-11:45 on Zoom (Participants will receive a Zoom link prior to the first session) \nThe program is free\, open to all\, and no experience is required. To ensure accessibility\, all exercises can be done seated or standing and every session is recorded so participants can watch or rewatch at their convenience. Registration is required. For more information and/or to register: scan the QR code in the image\, call 413-737-2601 or contact Tammy Morton: t.morton@jfswm.org
URL:https://www.humanserviceforum.org/event/building-resilience-from-within-2/2025-11-12/
CATEGORIES:Community Calendar,HSF Member Event
ATTACH;FMTTYPE=image/png:https://www.humanserviceforum.org/wp-content/uploads/2025/09/BUILDING-RESILIENCE-FROM-WITHIN-AUTUMN-2025.png
ORGANIZER;CN="Jewish Family Service of Western Massachusetts":MAILTO:info@jfswm.org
END:VEVENT
BEGIN:VEVENT
DTSTART;TZID=America/New_York:20251112T140000
DTEND;TZID=America/New_York:20251112T150000
DTSTAMP:20260424T101857
CREATED:20251031T153239Z
LAST-MODIFIED:20251031T153239Z
UID:10007590-1762956000-1762959600@www.humanserviceforum.org
SUMMARY:Community Benefits Forum
DESCRIPTION:
URL:https://www.humanserviceforum.org/event/community-benefits-forum/
CATEGORIES:Community Calendar,HSF Member Event
END:VEVENT
BEGIN:VEVENT
DTSTART;TZID=America/New_York:20251112T180000
DTEND;TZID=America/New_York:20251112T200000
DTSTAMP:20260424T101857
CREATED:20251027T131158Z
LAST-MODIFIED:20251027T131158Z
UID:10007512-1762970400-1762977600@www.humanserviceforum.org
SUMMARY:Safe Passage Open House: Therapists & Behavioral Health Workers
DESCRIPTION:Safe Passage is hosting an Open Houses for therapists and behavioral health workers — Join us to learn more about Safe Passage and our programs/services\, get a tour of our office and meet folks running our programs\, and learn more about how you can engage with Safe Passage and support survivors of domestic violence. We will have refreshments and light snacks available. RSVP is required at: https://docs.google.com/forms/d/e/1FAIpQLSemlOt3cnMiwUojWfP1OmwY5PvYxPOT3Yo0E72n0qWeCV6i-w/viewform?usp=dialog \nPlease note: This is a drop-in space and there is no expectation to stay for the entire length of the event! \nIf you have any questions\, you can reach us at outreach@safepass.org.
URL:https://www.humanserviceforum.org/event/safe-passage-open-house-therapists-behavioral-health-workers/
LOCATION:Safe Passage\, 76 Carlon Dr\, Northampton\, MA\, 01060\, United States
CATEGORIES:Community Calendar,HSF Member Event
ATTACH;FMTTYPE=image/png:https://www.humanserviceforum.org/wp-content/uploads/2025/10/SP-Open-House_Nov2025.png
END:VEVENT
BEGIN:VEVENT
DTSTART;TZID=America/New_York:20251112T180000
DTEND;TZID=America/New_York:20251112T200000
DTSTAMP:20260424T101857
CREATED:20251029T121822Z
LAST-MODIFIED:20251029T121822Z
UID:10007580-1762970400-1762977600@www.humanserviceforum.org
SUMMARY:Safe Passage Open House
DESCRIPTION:Safe Passage is hosting an Open Houses for therapists and behavioral health workers — Join Safe Passage to network and build coalition with fellow providers\, learn more about Safe Passage and their programs/services\, get a tour of the office and meet folks running programs\, and learn more about how you can engage with Safe Passage and support survivors of domestic violence. There will be refreshments and light snacks available. Please RSVP here if you plan to attend.
URL:https://www.humanserviceforum.org/event/safe-passage-open-house/
CATEGORIES:Community Calendar,HSF Member Event
ATTACH;FMTTYPE=image/jpeg:https://www.humanserviceforum.org/wp-content/uploads/2025/10/safe-passage-1.jpg
END:VEVENT
BEGIN:VEVENT
DTSTART;TZID=America/New_York:20251113T090000
DTEND;TZID=America/New_York:20251113T100000
DTSTAMP:20260424T101857
CREATED:20251031T153439Z
LAST-MODIFIED:20251031T153439Z
UID:10007591-1763024400-1763028000@www.humanserviceforum.org
SUMMARY:Community Benefits Forum
DESCRIPTION:
URL:https://www.humanserviceforum.org/event/community-benefits-forum-2/
CATEGORIES:Community Calendar,HSF Member Event
END:VEVENT
BEGIN:VEVENT
DTSTART;TZID=America/New_York:20251113T173000
DTEND;TZID=America/New_York:20251113T190000
DTSTAMP:20260424T101857
CREATED:20251021T131402Z
LAST-MODIFIED:20251021T131402Z
UID:10007503-1763055000-1763060400@www.humanserviceforum.org
SUMMARY:Protect Your Children from Lead Poisoning
DESCRIPTION:Protect Your Children from Lead Poisoning – Free Community Events \nJoin us for one of two free community events about lead poisoning prevention! These interactive evenings will equip families with the tools to keep children safe from lead\, learn simple steps to prevent exposure\, connect with local resources\, and identify hidden lead hazards in your home and community. \n  \n  \n·    Thursday\, November 13\, 2025 | 5:30 – 7:00 PM at MA Green High Performance Computing Center\, 100 Bigelow St\, Holyoke\, MA. Register for the Holyoke event.  \n  \nPresented in partnership with Square One\, Massachusetts Fair Housing Center\, and DPH CLPPP. \n  \nQuestions? Contact Beyonca at btwiggs@publichealthwm.org
URL:https://www.humanserviceforum.org/event/protect-your-children-from-lead-poisoning/
CATEGORIES:Community Calendar,HSF Member Event
END:VEVENT
BEGIN:VEVENT
DTSTART;TZID=America/New_York:20251114T100000
DTEND;TZID=America/New_York:20251114T110000
DTSTAMP:20260424T101857
CREATED:20250917T123013Z
LAST-MODIFIED:20250917T123013Z
UID:10007457-1763114400-1763118000@www.humanserviceforum.org
SUMMARY:Ribbon Cutting
DESCRIPTION:
URL:https://www.humanserviceforum.org/event/ribbon-cutting/
CATEGORIES:Community Calendar,HSF Member Event
END:VEVENT
BEGIN:VEVENT
DTSTART;TZID=America/New_York:20251114T120000
DTEND;TZID=America/New_York:20251114T131500
DTSTAMP:20260424T101857
CREATED:20251021T114735Z
LAST-MODIFIED:20251021T114810Z
UID:10007501-1763121600-1763126100@www.humanserviceforum.org
SUMMARY:Advancing Health Equity in Western MA's Rural Communities
DESCRIPTION:Join us for a free webinar\, Rural Realities: Advancing Health Equity in Western MA’s Rural Communities\, exploring the unique challenges and strengths of rural communities across Western Massachusetts\, featuring State Senator Jo Comerford\, Hampshire\, Franklin\, Worcester district\, Laura Kittross\, Berkshire Regional Planning Commission\, and Phoebe Walker\, Franklin Regional Council of Governments.
URL:https://www.humanserviceforum.org/event/advancing-health-equity-in-western-mas-rural-communities/
CATEGORIES:Community Calendar,HSF Member Event
END:VEVENT
BEGIN:VEVENT
DTSTART;TZID=America/New_York:20251114T120000
DTEND;TZID=America/New_York:20251114T131500
DTSTAMP:20260424T101857
CREATED:20251021T132728Z
LAST-MODIFIED:20251021T132728Z
UID:10007505-1763121600-1763126100@www.humanserviceforum.org
SUMMARY:Rural Realities: Advancing Health Equity in Western MA's Rural Communities
DESCRIPTION:Join us for a free webinar exploring the unique challenges and strengths of rural communities across Western Massachusetts\, featuring State Senator Jo Comerford\, Hampshire\, Franklin\, Worcester district\, Laura Kittross\, Berkshire Regional Planning Commission\, and Phoebe Walker\, Franklin Regional Council of Governments.
URL:https://www.humanserviceforum.org/event/rural-realities-advancing-health-equity-in-western-mas-rural-communities/
CATEGORIES:Community Calendar,HSF Member Event
ATTACH;FMTTYPE=image/png:https://www.humanserviceforum.org/wp-content/uploads/2025/10/rural.png
END:VEVENT
BEGIN:VEVENT
DTSTART;TZID=America/New_York:20251115T080000
DTEND;TZID=America/New_York:20251115T170000
DTSTAMP:20260424T101857
CREATED:20251028T113517Z
LAST-MODIFIED:20251105T125051Z
UID:10007573-1763193600-1763226000@www.humanserviceforum.org
SUMMARY:Mobile Food Bank Distribution Schedule
DESCRIPTION:Our Mobile Food Bank delivers a truck full of free fresh and non-perishable groceries from our warehouse directly to a community site for immediate distribution to residents. There are no eligibility requirements to receive food from our Mobile Food Bank. Anyone can attend. \nCall our Mobile Food Bank staff at 413-419-0079 with questions and for up-to-date information on closures. \n\nMobile Food Bank Schedule
URL:https://www.humanserviceforum.org/event/mobile-food-bank-distribution-schedule/2025-11-15/
CATEGORIES:Community Calendar,HSF Member Event
END:VEVENT
BEGIN:VEVENT
DTSTART;TZID=America/New_York:20251115T080000
DTEND;TZID=America/New_York:20251115T170000
DTSTAMP:20260424T101857
CREATED:20251029T121222Z
LAST-MODIFIED:20251105T125915Z
UID:10007578-1763193600-1763226000@www.humanserviceforum.org
SUMMARY:Holiday Gift Drive
DESCRIPTION:Amherst Survival Center holiday gift drive\n  \nAmherst Survival Center is accepting NEW children’s books\, games\, toys\, and winter accessories for ALL ages from now until December 31st. Households with children are welcome to shop during their pantry visit throughout the month of December. Have any questions? Please reach out to Miranda.
URL:https://www.humanserviceforum.org/event/holiday-gift-drive/2025-11-15/
CATEGORIES:Community Calendar,HSF Member Event
END:VEVENT
END:VCALENDAR