BEGIN:VCALENDAR
VERSION:2.0
PRODID:-//Human Service Forum - ECPv6.15.20//NONSGML v1.0//EN
CALSCALE:GREGORIAN
METHOD:PUBLISH
X-WR-CALNAME:Human Service Forum
X-ORIGINAL-URL:https://www.humanserviceforum.org
X-WR-CALDESC:Events for Human Service Forum
REFRESH-INTERVAL;VALUE=DURATION:PT1H
X-Robots-Tag:noindex
X-PUBLISHED-TTL:PT1H
BEGIN:VTIMEZONE
TZID:America/New_York
BEGIN:DAYLIGHT
TZOFFSETFROM:-0500
TZOFFSETTO:-0400
TZNAME:EDT
DTSTART:20240310T070000
END:DAYLIGHT
BEGIN:STANDARD
TZOFFSETFROM:-0400
TZOFFSETTO:-0500
TZNAME:EST
DTSTART:20241103T060000
END:STANDARD
BEGIN:DAYLIGHT
TZOFFSETFROM:-0500
TZOFFSETTO:-0400
TZNAME:EDT
DTSTART:20250309T070000
END:DAYLIGHT
BEGIN:STANDARD
TZOFFSETFROM:-0400
TZOFFSETTO:-0500
TZNAME:EST
DTSTART:20251102T060000
END:STANDARD
BEGIN:DAYLIGHT
TZOFFSETFROM:-0500
TZOFFSETTO:-0400
TZNAME:EDT
DTSTART:20260308T070000
END:DAYLIGHT
BEGIN:STANDARD
TZOFFSETFROM:-0400
TZOFFSETTO:-0500
TZNAME:EST
DTSTART:20261101T060000
END:STANDARD
END:VTIMEZONE
BEGIN:VEVENT
DTSTART;TZID=America/New_York:20251216T090000
DTEND;TZID=America/New_York:20251216T110000
DTSTAMP:20260424T045448
CREATED:20251119T164653Z
LAST-MODIFIED:20251119T164653Z
UID:10007616-1765875600-1765882800@www.humanserviceforum.org
SUMMARY:Catchafire and Resource Sharing
DESCRIPTION:We’re thrilled to share that The Beveridge Foundation\, the Community Foundation of Western Massachusetts\, and the Irene E. & George A. Davis Foundation are continuing to make Catchafire available to HSF members—at no cost! Together\, our members have already unlocked more than $1.59 million worth of support and services—absolutely free. \nHSF Executive Director Becca Coolong will show you just how easy it is to tap into this incredible resource. Catchafire isn’t just for senior leaders—it’s designed to empower everyone in our community. \nAfter the Catchafire hour\, Becca will highlight some of the most useful resources we’ve discovered\, and we invite you to share the tools and supports that have been most valuable to you. Let’s learn from one another and keep building stronger connections! \n\n\n\n\nThis is a virtual event \nAttend 1 or both sessions \nCatchafire hour 9:00am – 10:00am \nResource Sharing Hour 10:00am – 11:00am \n\n\n\n\n \n  \nHSF Annual Sponsors: \n     \n     \n\n     \n\n\n\n 
URL:https://www.humanserviceforum.org/event/catchafire-and-resource-sharing/
CATEGORIES:Community Calendar,HSF Event,HSF Member Event,Workshop
ATTACH;FMTTYPE=image/jpeg:https://www.humanserviceforum.org/wp-content/uploads/2025/11/RESOURSE-CATCHAFIRE.jpg
END:VEVENT
BEGIN:VEVENT
DTSTART;TZID=America/New_York:20251218T090000
DTEND;TZID=America/New_York:20251218T103000
DTSTAMP:20260424T045448
CREATED:20250703T142353Z
LAST-MODIFIED:20251120T130504Z
UID:10007631-1766048400-1766053800@www.humanserviceforum.org
SUMMARY:HSF I.T. Roundtable
DESCRIPTION:A benefit for HSF members. IT professionals in Human Services — you are not alone! Join peers in a monthly roundtable discussion to connect with others who understand your work\, crowdsource solutions\, and share challenges. We are stronger together. \nGet updates on any Roundtables by registering here: https://lp.constantcontactpages.com/ev/reg/3s7thg3 \n  \nIf you have not previously attended\, or are not registered please contact Jeff Tingley for more information. \n  \n 
URL:https://www.humanserviceforum.org/event/hsf-i-t-roundtable/2025-12-18/
LOCATION:Online via Zoom
CATEGORIES:Community Calendar,HSF Event,HSF Member Event
ATTACH;FMTTYPE=image/png:https://www.humanserviceforum.org/wp-content/uploads/2025/07/I.T.-Roundtable.png
END:VEVENT
BEGIN:VEVENT
DTSTART;TZID=America/New_York:20251218T130000
DTEND;TZID=America/New_York:20251218T140000
DTSTAMP:20260424T045448
CREATED:20251125T184515Z
LAST-MODIFIED:20251203T114057Z
UID:10007648-1766062800-1766066400@www.humanserviceforum.org
SUMMARY:Classical Ensemble
DESCRIPTION:December 18th: Classical Ensemble at the Red Lion Inn\, Stockbridge MA 1:00pm
URL:https://www.humanserviceforum.org/event/classical-ensemble/
CATEGORIES:Community Calendar,HSF Member Event
END:VEVENT
BEGIN:VEVENT
DTSTART;TZID=America/New_York:20251218T143000
DTEND;TZID=America/New_York:20251218T153000
DTSTAMP:20260424T045448
CREATED:20251215T133015Z
LAST-MODIFIED:20251215T133015Z
UID:10007677-1766068200-1766071800@www.humanserviceforum.org
SUMMARY:Meeting People Where They Are to Prevent Overdose
DESCRIPTION:Join us for a lively conversation about The Archway Program or TAP. Funded in September 2025\, this one-year effort is designed to prevent fatal overdoses among those who are unhoused through mobile outreach efforts in rural Franklin County and the North Quabbin Region. Moderated by Kristen Cuddy-Pease\, Program Associate and TAP Program Manager of the Opioid Task Force\, TAP partners such as the Community Health Center of Franklin County\, the North Quabbin Community Coalition/North Quabbin Recovery Center\, Tapestry\, and the Wildflower Alliance\, will share information about their activities to serve those living in the rough. This is part of the 2025-2026 CONNECT Education & Training Series. For more information\, please contact Nicole St. Hilaire\, Outreach Manager for CONNECT\, Opioid Task Force at nicole@opioidtaskforce.org.
URL:https://www.humanserviceforum.org/event/meeting-people-where-they-are-to-prevent-overdose/
CATEGORIES:Community Calendar,HSF Member Event
ORGANIZER;CN="Tapestry Health":MAILTO:events@tapestryhealth.org
END:VEVENT
BEGIN:VEVENT
DTSTART;TZID=America/New_York:20251220T180000
DTEND;TZID=America/New_York:20251220T210000
DTSTAMP:20260424T045448
CREATED:20251216T153753Z
LAST-MODIFIED:20251216T153820Z
UID:10007681-1766253600-1766264400@www.humanserviceforum.org
SUMMARY:Winter Solstice Celebration
DESCRIPTION:
URL:https://www.humanserviceforum.org/event/winter-solstice-celebration/
CATEGORIES:Community Calendar,HSF Member Event
END:VEVENT
END:VCALENDAR