BEGIN:VCALENDAR
VERSION:2.0
PRODID:-//Human Service Forum - ECPv6.15.20//NONSGML v1.0//EN
CALSCALE:GREGORIAN
METHOD:PUBLISH
X-ORIGINAL-URL:https://www.humanserviceforum.org
X-WR-CALDESC:Events for Human Service Forum
REFRESH-INTERVAL;VALUE=DURATION:PT1H
X-Robots-Tag:noindex
X-PUBLISHED-TTL:PT1H
BEGIN:VTIMEZONE
TZID:America/New_York
BEGIN:DAYLIGHT
TZOFFSETFROM:-0500
TZOFFSETTO:-0400
TZNAME:EDT
DTSTART:20240310T070000
END:DAYLIGHT
BEGIN:STANDARD
TZOFFSETFROM:-0400
TZOFFSETTO:-0500
TZNAME:EST
DTSTART:20241103T060000
END:STANDARD
BEGIN:DAYLIGHT
TZOFFSETFROM:-0500
TZOFFSETTO:-0400
TZNAME:EDT
DTSTART:20250309T070000
END:DAYLIGHT
BEGIN:STANDARD
TZOFFSETFROM:-0400
TZOFFSETTO:-0500
TZNAME:EST
DTSTART:20251102T060000
END:STANDARD
BEGIN:DAYLIGHT
TZOFFSETFROM:-0500
TZOFFSETTO:-0400
TZNAME:EDT
DTSTART:20260308T070000
END:DAYLIGHT
BEGIN:STANDARD
TZOFFSETFROM:-0400
TZOFFSETTO:-0500
TZNAME:EST
DTSTART:20261101T060000
END:STANDARD
END:VTIMEZONE
BEGIN:VEVENT
DTSTART;TZID=America/New_York:20251222T080000
DTEND;TZID=America/New_York:20251222T170000
DTSTAMP:20260424T045836
CREATED:20251209T164130Z
LAST-MODIFIED:20251209T164658Z
UID:10007672-1766390400-1766422800@www.humanserviceforum.org
SUMMARY:South End Community Center Holiday Programming
DESCRIPTION:Screenshot\nScreenshot
URL:https://www.humanserviceforum.org/event/south-end-holiday-programming/
CATEGORIES:Community Calendar,HSF Member Event
END:VEVENT
BEGIN:VEVENT
DTSTART;TZID=America/New_York:20251222T133000
DTEND;TZID=America/New_York:20251222T153000
DTSTAMP:20260424T045836
CREATED:20251202T135120Z
LAST-MODIFIED:20251209T135156Z
UID:10007661-1766410200-1766417400@www.humanserviceforum.org
SUMMARY:Home Dedication
DESCRIPTION:HOLYOKE – Greater Springfield Habitat for Humanity (GSHFH) will host a dedication celebrating the completion of its newest home and the collaboration that made it all possible. \nGSHFH partnered with Holyoke Housing Authority (HHA) and the University of Massachusetts (UMass) DesignBuild program to make one local couple’s dream come true. HHA donated a plot of land on Chestnut Street. Greater Springfield Habitat prepared the site and built the foundation. UMass DesignBuild professors and students designed and constructed the modular home\, and oversaw delivery to the Holyoke site. GSHFH will soon sell the new home to Pedro and his wife Damaris\, longtime Holyoke residents. \n“This is a great collaboration to give the students practical\, hands-on experience\, and for Habitat to provide a home to a family that might not have qualified for one of our traditionally built homes\,” said Aimee Giroux\, GSHFH executive director. “Family size is one of many factors taken into consideration when building our homes and partnering with the future buyer. There is a need for affordable housing to benefit a variety of family sizes; not everyone needs three or four bedrooms. This project helps us to be able to make that happen.” \nThe design of the 575-square-foot modular home emphasizes energy efficiency via highly-insulated and air-sealed exterior assemblies\, triple-glazed windows\, all-electric appliances/utilities\, and low-embodied carbon building materials\, such as wood fiber\, hemp\, and straw\, said Ben Leinfelder\, construction manager of this year’s DesignBuild project and an alumnus of the program. \nThe UMass DesignBuild team conceived the home in spring. Construction commenced in the summer and the house was delivered in November. \nPedro\, who is retired\, attended every info HHA session\, and submitted the necessary forms two days after the application cycle opened. He and his wife currently live in a one-bedroom apartment and have complained about their unfriendly neighbors who they say makes their everyday life unenjoyable. Pedro and Damaris don’t have children together\, but have a large blended family. Pedro has two daughters from a previous relationship and seven grandchildren. Damaris has three children and five grandchildren. \nGSHFH is a housing ministry dedicated to strengthening communities by empowering low-income families to change their lives and the lives of future generations through homeownership and home repair opportunities. This is accomplished by working in partnership with diverse people\, from all walks of life\, to build and repair simple\, decent\, affordable housing. Habitat’s mission to provide homeownership opportunities to low-income families is unique as it requires partner families to work alongside the community that is reaching out to help them. GSHFH has helped roughly 100 local families realize their dream of homeownership over the last 38 years. \n  \nFollowing the ceremony will be a tour of the house and a reception. Street parking is available. \nFor more information\, contact Olga Callirgos\, Homeowner Programs coordinator\, at callirgos@habitatspringfield.org or (413) 739-5503 x1003.
URL:https://www.humanserviceforum.org/event/home-dedication/
CATEGORIES:Community Calendar,HSF Member Event
ATTACH;FMTTYPE=image/jpeg:https://www.humanserviceforum.org/wp-content/uploads/2025/12/home.jpeg
END:VEVENT
END:VCALENDAR