BEGIN:VCALENDAR
VERSION:2.0
PRODID:-//Human Service Forum - ECPv6.15.20//NONSGML v1.0//EN
CALSCALE:GREGORIAN
METHOD:PUBLISH
X-ORIGINAL-URL:https://www.humanserviceforum.org
X-WR-CALDESC:Events for Human Service Forum
REFRESH-INTERVAL;VALUE=DURATION:PT1H
X-Robots-Tag:noindex
X-PUBLISHED-TTL:PT1H
BEGIN:VTIMEZONE
TZID:America/New_York
BEGIN:DAYLIGHT
TZOFFSETFROM:-0500
TZOFFSETTO:-0400
TZNAME:EDT
DTSTART:20250309T070000
END:DAYLIGHT
BEGIN:STANDARD
TZOFFSETFROM:-0400
TZOFFSETTO:-0500
TZNAME:EST
DTSTART:20251102T060000
END:STANDARD
BEGIN:DAYLIGHT
TZOFFSETFROM:-0500
TZOFFSETTO:-0400
TZNAME:EDT
DTSTART:20260308T070000
END:DAYLIGHT
BEGIN:STANDARD
TZOFFSETFROM:-0400
TZOFFSETTO:-0500
TZNAME:EST
DTSTART:20261101T060000
END:STANDARD
BEGIN:DAYLIGHT
TZOFFSETFROM:-0500
TZOFFSETTO:-0400
TZNAME:EDT
DTSTART:20270314T070000
END:DAYLIGHT
BEGIN:STANDARD
TZOFFSETFROM:-0400
TZOFFSETTO:-0500
TZNAME:EST
DTSTART:20271107T060000
END:STANDARD
END:VTIMEZONE
BEGIN:VEVENT
DTSTART;TZID=America/New_York:20260105T080000
DTEND;TZID=America/New_York:20260105T170000
DTSTAMP:20260424T013359
CREATED:20251209T165758Z
LAST-MODIFIED:20251209T165758Z
UID:10007673-1767600000-1767632400@www.humanserviceforum.org
SUMMARY:South End Community Center Discovery Zone
DESCRIPTION:Screenshot
URL:https://www.humanserviceforum.org/event/south-end-community-center-discovery-zone/
CATEGORIES:Community Calendar,HSF Member Event
END:VEVENT
BEGIN:VEVENT
DTSTART;TZID=America/New_York:20260106T090000
DTEND;TZID=America/New_York:20260106T103000
DTSTAMP:20260424T013359
CREATED:20250703T134156Z
LAST-MODIFIED:20251120T130517Z
UID:10007618-1767690000-1767695400@www.humanserviceforum.org
SUMMARY:HSF Virtual HR Roundtable
DESCRIPTION:Open to HSF Members. Join us for a monthly discussion with fellow HR professionals from human service organizations. Connect with others doing similar work\, share challenges\, and explore solutions. We are stronger together. \n  \nGet updates on any Roundtables by registering here: https://lp.constantcontactpages.com/ev/reg/3s7thg3 \n  \nIf you have not previously attended\, or are not registered please contact Jeff Tingley for more information. \n 
URL:https://www.humanserviceforum.org/event/hsf-virtual-hr-roundtable/2026-01-06/
LOCATION:Online via Zoom
CATEGORIES:Community Calendar,HSF Event,HSF Member Event,HSF Non Member Event
ATTACH;FMTTYPE=image/png:https://www.humanserviceforum.org/wp-content/uploads/2025/07/HR-Roundtable.png
END:VEVENT
BEGIN:VEVENT
DTSTART;TZID=America/New_York:20260107T110000
DTEND;TZID=America/New_York:20260107T114500
DTSTAMP:20260424T013359
CREATED:20260105T125137Z
LAST-MODIFIED:20260106T112749Z
UID:10007715-1767783600-1767786300@www.humanserviceforum.org
SUMMARY:Building Resilience from Within
DESCRIPTION:Our popular six-week virtual self-care series for caregivers and anyone experiencing heightened stress in their lives. Learn simple techniques to build core resilience\, balance the nervous system and deepen a healthy connection to your body. \nThe free program takes place on Zoom\, is open to all\, and no experience is required. To ensure accessibility\, all exercises can be done seated or standing and every session is recorded so participants can watch or rewatch at their convenience. \nPrior to the first class\, a Zoom link will be sent to everyone who registers.
URL:https://www.humanserviceforum.org/event/building-resilience-from-within-4/
LOCATION:Online via Zoom
CATEGORIES:Community Calendar,HSF Non Member Event
ATTACH;FMTTYPE=image/jpeg:https://www.humanserviceforum.org/wp-content/uploads/2026/01/BRFW-WINTER-2026.jpg
ORGANIZER;CN="Jewish Family Service of Western Massachusetts":MAILTO:info@jfswm.org
END:VEVENT
BEGIN:VEVENT
DTSTART;TZID=America/New_York:20260107T130000
DTEND;TZID=America/New_York:20260107T140000
DTSTAMP:20260424T013359
CREATED:20251103T124635Z
LAST-MODIFIED:20251113T150431Z
UID:10007593-1767790800-1767794400@www.humanserviceforum.org
SUMMARY:Mind\, Body and Spirit Wellness Group
DESCRIPTION:
URL:https://www.humanserviceforum.org/event/136524/
CATEGORIES:Community Calendar,HSF Member Event
END:VEVENT
BEGIN:VEVENT
DTSTART;TZID=America/New_York:20260108T120000
DTEND;TZID=America/New_York:20260108T160000
DTSTAMP:20260424T013359
CREATED:20251202T160034Z
LAST-MODIFIED:20251203T113927Z
UID:10007665-1767873600-1767888000@www.humanserviceforum.org
SUMMARY:Voices\, Visions & Unusual Beliefs Intensive Overview
DESCRIPTION:Online via Zoom\nThursday January 8th\, 2026\n12-4pm Eastern Time (11am-3pm Central\, 10am-2pm Mountain\, 9am-1pm Pacific) \n\n\n\nLearn new ways of supporting people through the experience of hearing voices\, seeing visions\, or unusual beliefs.\n\n\n\nOne in 10 people will hear voices at some time during their adult lives\, yet these experiences are still deeply marginalized in the modern day United States. About 80-90% of experiences are connected to life adversity\, trauma and grief. Many experiences are also connected to cultural or spiritual factors. \nThis overview will provide an introduction to new ways of understanding and working with voices and visions\, based on the Hearing Voices approach. Trainers will cover factors that can influence voice-hearing\, and explore a range of coping strategies that experiencers use (beyond pharmaceutical interventions).
URL:https://www.humanserviceforum.org/event/voices-visions-unusual-beliefs-intensive-overview/
CATEGORIES:Community Calendar
ATTACH;FMTTYPE=image/jpeg:https://www.humanserviceforum.org/wp-content/uploads/2025/12/voices.jpg
END:VEVENT
BEGIN:VEVENT
DTSTART;TZID=America/New_York:20260109T100000
DTEND;TZID=America/New_York:20260109T110000
DTSTAMP:20260424T013359
CREATED:20251216T152431Z
LAST-MODIFIED:20251216T152431Z
UID:10007680-1767952800-1767956400@www.humanserviceforum.org
SUMMARY:Peer Grief Support
DESCRIPTION:Direct Service Providers (DSPs) working in the overdose crisis experience trauma as well as individual and collective grief due to the loss of clients\, coworkers\, friends and community. SADOD (Support After Death by Overdose) DSP program was created out of a need to offer grief support to the workforce impacted by substance use loss/suicide. SADOD’s DSP programming serves the community of providers such as recovery coaches\, harm reduction staff\, nurses\, residential\, MOUD program staff and more\, by way of providing free monthly peer grief support groups and workshops via zoom. SADOD’s DSP workshops are developed and facilitated by DSP peers\, covering topics related to grief /loss & resiliency while providing peers an opportunity to discuss these topics in community. \n\n\n\n \n\n\n\nSADOD also provides free peer grief services to the general community offering 1:1 peer grief support as well as specialty virtual and in person peer grief support groups. Learn about all of SADOD’s community peer grief services which may be supportive resources for your loved ones\, co-workers/staff and communities you are working with who might be grieving. You will be provided with information on how the DSP program can work with your organization\, as well as the referral processes for the 1:1 peer grief services for the general community.
URL:https://www.humanserviceforum.org/event/peer-grief-support/
CATEGORIES:Community Calendar,HSF Member Event
END:VEVENT
BEGIN:VEVENT
DTSTART;TZID=America/New_York:20260109T120000
DTEND;TZID=America/New_York:20260109T120000
DTSTAMP:20260424T013359
CREATED:20251219T173310Z
LAST-MODIFIED:20251219T173432Z
UID:10007706-1767960000-1767960000@www.humanserviceforum.org
SUMMARY:The Odds Are Changing: Online Casino Gambling and the Rising Risk of Harm
DESCRIPTION:Online sports betting became legal in Massachusetts in 2023\, and now the Legislature is considering a bill (H4431) to legalize internet casino gambling—also known as “iGambling” or “iGaming”. What would more options for 24/7 gambling mean to the public health of our communities? Speakers include Mark Gottlieb of Northeastern Law’s Public Health Advocacy Institute\, Samantha Hamilton from PHIWM\, Victor Ortiz from the MA Dept. of Public Health Office of Problem Gambling\, and State Representative Lindsay Sabadosa. Attendees will have the opportunity to submit questions during a live Q&A.
URL:https://www.humanserviceforum.org/event/the-odds-are-changing-online-casino-gambling-and-the-rising-risk-of-harm/
CATEGORIES:Community Calendar,HSF Member Event
END:VEVENT
BEGIN:VEVENT
DTSTART;TZID=America/New_York:20260109T153000
DTEND;TZID=America/New_York:20260109T170000
DTSTAMP:20260424T013359
CREATED:20251216T154409Z
LAST-MODIFIED:20251216T154440Z
UID:10007682-1767972600-1767978000@www.humanserviceforum.org
SUMMARY:System Navigation Workshop
DESCRIPTION:
URL:https://www.humanserviceforum.org/event/system-navigation-workshop/
CATEGORIES:Community Calendar,HSF Member Event
END:VEVENT
BEGIN:VEVENT
DTSTART;TZID=America/New_York:20260110T090000
DTEND;TZID=America/New_York:20260110T140000
DTSTAMP:20260424T013359
CREATED:20260106T123743Z
LAST-MODIFIED:20260106T123743Z
UID:10007777-1768035600-1768053600@www.humanserviceforum.org
SUMMARY:First-time homebuyer workshop
DESCRIPTION:January 10 @ 9:00 am – 2:00 pm\n$75\n\n\n\n\nBecome a certified first-time homebuyer with Way Finders! Learn from local real estate professionals about the homebuying process. \nThe course covers finding\, financing\, purchasing\, and maintaining a home. Participants receive a certificate of completion that is necessary to access several down payment assistance programs and special mortgage products. \nThis is a two-part VIRTUAL workshop: \nSaturdays\, 9am-2pm\nJanuary 10 and 17 \nCost of the workshop is $75 per household\, nonrefundable.
URL:https://www.humanserviceforum.org/event/first-time-homebuyer-workshop/
CATEGORIES:Community Calendar,HSF Member Event
END:VEVENT
BEGIN:VEVENT
DTSTART;TZID=America/New_York:20260110T100000
DTEND;TZID=America/New_York:20260110T120000
DTSTAMP:20260424T013359
CREATED:20260106T121155Z
LAST-MODIFIED:20260106T121502Z
UID:10007775-1768039200-1768046400@www.humanserviceforum.org
SUMMARY:COMMUNITY SYRINGE PICK UP - HOLYOKE
DESCRIPTION:
URL:https://www.humanserviceforum.org/event/community-syringe-pick-up-holyoke/
CATEGORIES:Community Calendar,HSF Member Event
ORGANIZER;CN="Tapestry Health":MAILTO:events@tapestryhealth.org
END:VEVENT
END:VCALENDAR