BEGIN:VCALENDAR
VERSION:2.0
PRODID:-//Human Service Forum - ECPv6.15.20//NONSGML v1.0//EN
CALSCALE:GREGORIAN
METHOD:PUBLISH
X-ORIGINAL-URL:https://www.humanserviceforum.org
X-WR-CALDESC:Events for Human Service Forum
REFRESH-INTERVAL;VALUE=DURATION:PT1H
X-Robots-Tag:noindex
X-PUBLISHED-TTL:PT1H
BEGIN:VTIMEZONE
TZID:America/New_York
BEGIN:DAYLIGHT
TZOFFSETFROM:-0500
TZOFFSETTO:-0400
TZNAME:EDT
DTSTART:20250309T070000
END:DAYLIGHT
BEGIN:STANDARD
TZOFFSETFROM:-0400
TZOFFSETTO:-0500
TZNAME:EST
DTSTART:20251102T060000
END:STANDARD
BEGIN:DAYLIGHT
TZOFFSETFROM:-0500
TZOFFSETTO:-0400
TZNAME:EDT
DTSTART:20260308T070000
END:DAYLIGHT
BEGIN:STANDARD
TZOFFSETFROM:-0400
TZOFFSETTO:-0500
TZNAME:EST
DTSTART:20261101T060000
END:STANDARD
BEGIN:DAYLIGHT
TZOFFSETFROM:-0500
TZOFFSETTO:-0400
TZNAME:EDT
DTSTART:20270314T070000
END:DAYLIGHT
BEGIN:STANDARD
TZOFFSETFROM:-0400
TZOFFSETTO:-0500
TZNAME:EST
DTSTART:20271107T060000
END:STANDARD
END:VTIMEZONE
BEGIN:VEVENT
DTSTART;TZID=America/New_York:20260302T100000
DTEND;TZID=America/New_York:20260302T120000
DTSTAMP:20260424T021726
CREATED:20260115T113352Z
LAST-MODIFIED:20260115T113352Z
UID:10007803-1772445600-1772452800@www.humanserviceforum.org
SUMMARY:Dementia Journey Group at The Shelburne Senior Center
DESCRIPTION:Join us for an 8-session group for people living with early stage dementia and their care partners to equip themselves with resources and peer connections to help navigate the journey ahead. \nThe group will center around Ariadne Labs’ Living Well with Dementia Toolkit\, providing concrete strategies for enhancing quality of life. \nSessions cover essential topics such as relationships\, daily living\, future planning\, health\, and dementia supports. \nA light meal will be provided! \nMeeting at The Shelburne Senior Center \nLimited Space. Registration Required. Call or email to learn more:\nContact LifePath’s Information & Caregiver Resource Center (ICRC) at 413-773-5555 X1230\, or email info@lifepathma.org \nThis group is funded through a grant from the Executive Office of Aging and Independence
URL:https://www.humanserviceforum.org/event/dementia-journey-group-at-the-shelburne-senior-center/
LOCATION:Senior Center Shelburne Falls\, 7 Main Street\, Shelburne Falls\, MA\, 01370\, United States
CATEGORIES:Community Calendar,HSF Member Event
ATTACH;FMTTYPE=image/png:https://www.humanserviceforum.org/wp-content/uploads/2026/01/Spring-2026-Dementia-Journey-flier-png.png
GEO:42.6041173;-72.7376549
X-APPLE-STRUCTURED-LOCATION;VALUE=URI;X-ADDRESS=Senior Center Shelburne Falls 7 Main Street Shelburne Falls MA 01370 United States;X-APPLE-RADIUS=500;X-TITLE=7 Main Street:geo:-72.7376549,42.6041173
END:VEVENT
BEGIN:VEVENT
DTSTART;TZID=America/New_York:20260302T100000
DTEND;TZID=America/New_York:20260302T120000
DTSTAMP:20260424T021726
CREATED:20260211T130345Z
LAST-MODIFIED:20260211T130345Z
UID:10007832-1772445600-1772452800@www.humanserviceforum.org
SUMMARY:Dementia Journey
DESCRIPTION:
URL:https://www.humanserviceforum.org/event/dementia-journey/2026-03-02/
CATEGORIES:Community Calendar,HSF Member Event
END:VEVENT
BEGIN:VEVENT
DTSTART;TZID=America/New_York:20260303T090000
DTEND;TZID=America/New_York:20260303T103000
DTSTAMP:20260424T021726
CREATED:20260302T154542Z
LAST-MODIFIED:20260302T154542Z
UID:10007620-1772528400-1772533800@www.humanserviceforum.org
SUMMARY:HSF Virtual HR Roundtable
DESCRIPTION:Open to HSF Members. Join us for a monthly discussion with fellow HR professionals from human service organizations. Connect with others doing similar work\, share challenges\, and explore solutions. We are stronger together. \n  \nGet updates on any Roundtables by registering here: https://lp.constantcontactpages.com/ev/reg/3s7thg3 \n  \nIf you have not previously attended\, or are not registered please contact Jeff Tingley for more information. \n 
URL:https://www.humanserviceforum.org/event/hsf-virtual-hr-roundtable-3/2026-03-03/
LOCATION:Online via Zoom
CATEGORIES:Community Calendar,HSF Event,HSF Member Event,HSF Non Member Event
ATTACH;FMTTYPE=image/png:https://www.humanserviceforum.org/wp-content/uploads/2025/07/HR-Roundtable.png
END:VEVENT
BEGIN:VEVENT
DTSTART;TZID=America/New_York:20260304T080000
DTEND;TZID=America/New_York:20260304T170000
DTSTAMP:20260424T021726
CREATED:20260303T190351Z
LAST-MODIFIED:20260303T190351Z
UID:10007944-1772611200-1772643600@www.humanserviceforum.org
SUMMARY:Whole Children Spring Session Registration open
DESCRIPTION:Social and fun afternoon and Saturday classes for people ages 3-100 with disabilities and/or autism in Northampton. Open to all! Learn more and sign up for classes. \n  \nEach class costs $95 for the session with the exception of Cooking Classes\, which cost $120 to cover the cost of food. If you register for four or more classes you will receive a 20% discount off the total cost. Discount will show in cart. \nEvents are free for anyone enrolled in classes. For those not currently taking a class\, event admission is $10. \nClass sizes are limited; register early to secure a spot in a desired class. \nPlease note that all age ranges are suggestions only. Please contact us at info@wholechildren.org or (413) 585-8010 if you’re interested in signing up for a class outside of the posted age range.
URL:https://www.humanserviceforum.org/event/whole-children-spring-session-registration-open/2026-03-04/1/
CATEGORIES:Community Calendar,HSF Member Event
ORGANIZER;CN="ServiceNet":MAILTO:wpayson@servicenet.org
END:VEVENT
BEGIN:VEVENT
DTSTART;TZID=America/New_York:20260304T090000
DTEND;TZID=America/New_York:20260304T123000
DTSTAMP:20260424T021726
CREATED:20251218T162528Z
LAST-MODIFIED:20260105T162407Z
UID:10007699-1772614800-1772627400@www.humanserviceforum.org
SUMMARY:Supervisory Skills Certificate Series: Winter 2026
DESCRIPTION:Give new supervisors the skills they need to succeed.  If you are planning on promoting\, or have just promoted someone to a supervisory position help them hit the ground running with this 8 week course.  With HSF’s strong team of seasoned presenters covering a wide range of knowledge from different points of view\, we cover theory\, soft skills\, and hard facts.  Conversation topics range from harassment law and insurance liability to finding common purpose in a team and how to transition from peer to supervisor\, and much much more. \nRegister an individual who is eligible for a certificate\, or a space for your agency to send someone different to each session depending on who the topic will benefit most. \nThis series is presented over Zoom. Series runs 8 consecutive weeks starting  February 4th 9am-12:30pm all session.  Full series is $600 for members\, $1200 for nonmembers. \n \nSeries Topics: \n\nSupervising Former Peers and Establishing Healthy Boundaries- Wednesday February 4th\n\nThis training equips internally promoted leaders with the tools to successfully manage former peers while fostering trust\, accountability\, and healthy team dynamics. Leaders will explore the psychological and practical aspects of  transitioning into authority roles\, develop strategies for setting and enforcing boundaries\, refine their leadership identity\, and enhance their communication and feedback techniques. \nPresented by Will Weche; Willful Change LLC \n\nEmployment Law- Wednesday February 11th \n\nAvoid missteps that can lead to expensive and time-consuming litigation.  Learn from practicing attorneys on the wording of the law\, along with how that wording is actually applied. Covering a wide range of subjects to clear up misconceptions and acknowledging pitfalls\, this session is packed with useful information that every organization needs. \nPresented by Skoler-Abbott \n\nTeam Building and Conflict Resolution- Wednesday February 18th\n\nThrough discussions that will include team activities and individual reflection\, forge a shared understanding of team-building and the essential skills for conflict resolution and negotiation that facilitate the development of strong\, cohesive\, effective teams. Make your team stronger than the sum of their parts\, drive unity\, and be able to address conflict when it does happen. \nPresented by Dr. Lucie Lewis and Janine Fondon \n\nCyber Security- Wednesday February 25th \n\nWith the threat of cyber attacks continuing to rise\, with an increased focus on social engineering\, no one can afford to hide their heads in the sand and pretend that everything is ok.  With a focus on practical\, simple\, daily steps that one can take\, this session seeks to minimize risk to you\, your organization\, and your clients. \nPresented by Chris Wisneski; Whittlesey \n\nRetention: Rewards and Accountability – Wednesday March 4th\n\nPeople don’t leave jobs; they leave bad supervisors. This session puts a focus on how a supervisor can strengthen and grow those who report to them\, creating an environment where employees want to stay.  Covering how to multiple the strengths of your team\, how to discipline in a way that productive\, and how to praise\, we will learn how to create a work environment centered on retention. \nPresented by Diana Brooks; Diana Brooks Associates \n\nCulturally Responsive Supervision- Wednesday March 11th\n\nJoin us as we take a deep look at the many aspects that make up our identities and how they impact our leadership\,  our organizations and the people we serve.  Improve our skills in having conversations about our differences in a way that encourages learning and growth while building intersectional resilience.  We will strengthen our ability to have important dialogues\, navigate predictable tensions and avoid pitfalls that lead to disconnection. This session helps supervisors cultivate trusting\, creative and connected diverse working relationships. \nPresented by Regi Wingo and JAC Patriss; Growing a New Heart \n\nLiability and Benefit- Thursday March 19th\n\nGain a better understanding of Insurance\, and how it affects you\, your team and your organizations. Understand what coverage you have\, and might need\, in a variety of situations from daily operations to special fundraising events.  Learn the various forms of benefits available to understand what you have and be able to help explain to your team what their options are. \nPresented by Ben Garvey and Val Francis; Hub International \n\nLeadership Communication- Wednesday March 25th\n\nThis session looks at the building blocks of communicating clear messages to others.  In a core aspect of leadership that is often taken for granted\, those who excel at communicating often excel in supervision.  Learn to avoid noise and interference\, and how to properly process feedback to fine tune your messages for clearer understanding. \nPresented by Jeff Tingley; Human Service Forum \n  \nSupervisory Skills Series Sponsor: \n \nHSF Annual Sponsors: \n     \n     \n\n     \n\n\n\n 
URL:https://www.humanserviceforum.org/event/supervisory-skills-certificate-series-winter-2026/2026-03-04/
LOCATION:Online via Zoom
CATEGORIES:Community Calendar,HSF Event,HSF Member Event,HSF Non Member Event,Workshop
ATTACH;FMTTYPE=image/png:https://www.humanserviceforum.org/wp-content/uploads/2025/03/Supe-Series.png
END:VEVENT
BEGIN:VEVENT
DTSTART;TZID=America/New_York:20260304T090000
DTEND;TZID=America/New_York:20260304T123000
DTSTAMP:20260424T021726
CREATED:20260121T185143Z
LAST-MODIFIED:20260121T185144Z
UID:10007812-1772614800-1772627400@www.humanserviceforum.org
SUMMARY:Retention: Rewards and Accountability
DESCRIPTION:People don’t leave jobs; they leave bad supervisors. This session puts a focus on how a supervisor can strengthen and grow those who report to them\, creating an environment where employees want to stay.  Covering how to multiple the strengths of your team\, how to discipline in a way that productive\, and how to praise\, we will learn how to create a work environment centered on retention. \nPresented by Diana Brooks; Diana Brooks Associates \nThis workshop is part of the Supervisory Skills Workshop Series and is presented over Zoom March 4th 9am-12:30pm.  Each workshop is $150 per person for members\, $250 for nonmembers. \n \nOther Series Topics and Dates: \n\nCulturally Responsive Supervision- Wednesday March 11th\n\nJoin us as we take a deep look at the many aspects that make up our identities and how they impact our leadership\,  our organizations and the people we serve.  Improve our skills in having conversations about our differences in a way that encourages learning and growth while building intersectional resilience.  We will strengthen our ability to have important dialogues\, navigate predictable tensions and avoid pitfalls that lead to disconnection. This session helps supervisors cultivate trusting\, creative and connected diverse working relationships. \nPresented by Regi Wingo and JAC Patriss; Growing a New Heart \n\nLiability and Benefit- Thursday March 19th\n\nGain a better understanding of Insurance\, and how it affects you\, your team and your organizations. Understand what coverage you have\, and might need\, in a variety of situations from daily operations to special fundraising events.  Learn the various forms of benefits available to understand what you have and be able to help explain to your team what their options are. \nPresented by Ben Garvey and Val Francis; Hub International \n\nLeadership Communication- Wednesday March 25th\n\nThis session looks at the building blocks of communicating clear messages to others.  In a core aspect of leadership that is often taken for granted\, those who excel at communicating often excel in supervision.  Learn to avoid noise and interference\, and how to properly process feedback to fine tune your messages for clearer understanding. \nPresented by Jeff Tingley; Human Service Forum \n  \nSupervisory Skills Series Sponsor: \n \nHSF Annual Sponsors: \n     \n     \n\n     \n\n\n\n 
URL:https://www.humanserviceforum.org/event/supervisory-skills-certificate-series-winter-2026-2-2-2-2-2/
LOCATION:Online via Zoom
CATEGORIES:Community Calendar,HSF Event,HSF Member Event,HSF Non Member Event,Workshop
ATTACH;FMTTYPE=image/png:https://www.humanserviceforum.org/wp-content/uploads/2025/09/retention.png
END:VEVENT
BEGIN:VEVENT
DTSTART;TZID=America/New_York:20260304T133000
DTEND;TZID=America/New_York:20260304T170000
DTSTAMP:20260424T021726
CREATED:20260303T190351Z
LAST-MODIFIED:20260303T190351Z
UID:10007945-1772631000-1772643600@www.humanserviceforum.org
SUMMARY:Whole Children Spring Session Registration open
DESCRIPTION:Social and fun afternoon and Saturday classes for people ages 3-100 with disabilities and/or autism in Northampton. Open to all! Learn more and sign up for classes. \n  \nEach class costs $95 for the session with the exception of Cooking Classes\, which cost $120 to cover the cost of food. If you register for four or more classes you will receive a 20% discount off the total cost. Discount will show in cart. \nEvents are free for anyone enrolled in classes. For those not currently taking a class\, event admission is $10. \nClass sizes are limited; register early to secure a spot in a desired class. \nPlease note that all age ranges are suggestions only. Please contact us at info@wholechildren.org or (413) 585-8010 if you’re interested in signing up for a class outside of the posted age range.
URL:https://www.humanserviceforum.org/event/whole-children-spring-session-registration-open/2026-03-04/2/
CATEGORIES:Community Calendar,HSF Member Event
ORGANIZER;CN="ServiceNet":MAILTO:wpayson@servicenet.org
END:VEVENT
BEGIN:VEVENT
DTSTART;TZID=America/New_York:20260305T173000
DTEND;TZID=America/New_York:20260305T190000
DTSTAMP:20260424T021726
CREATED:20260303T195916Z
LAST-MODIFIED:20260303T195916Z
UID:10007949-1772731800-1772737200@www.humanserviceforum.org
SUMMARY:Northampton DHHS Community Forum
DESCRIPTION:The City of Northampton Department of Health and Human Services and the Northampton Board of Health will host a community forum on Thursday\, March 5\, providing an opportunity for open dialogue and public discussion about a proposed Nicotine-Free Generation (NFG) policy. Community members are encouraged to attend to learn more about the proposal\, ask questions\, and share perspectives. No deliberations or votes will occur at this forum. The Nicotine-Free Generation policy is a forward-looking public health approach that would gradually phase out the sale of nicotine products to future generations by establishing a birth-year cutoff for legal sales.
URL:https://www.humanserviceforum.org/event/northampton-dhhs-community-forum/
CATEGORIES:Community Calendar,HSF Member Event
END:VEVENT
END:VCALENDAR