BEGIN:VCALENDAR
VERSION:2.0
PRODID:-//Human Service Forum - ECPv6.15.20//NONSGML v1.0//EN
CALSCALE:GREGORIAN
METHOD:PUBLISH
X-WR-CALNAME:Human Service Forum
X-ORIGINAL-URL:https://www.humanserviceforum.org
X-WR-CALDESC:Events for Human Service Forum
REFRESH-INTERVAL;VALUE=DURATION:PT1H
X-Robots-Tag:noindex
X-PUBLISHED-TTL:PT1H
BEGIN:VTIMEZONE
TZID:America/New_York
BEGIN:DAYLIGHT
TZOFFSETFROM:-0500
TZOFFSETTO:-0400
TZNAME:EDT
DTSTART:20250309T070000
END:DAYLIGHT
BEGIN:STANDARD
TZOFFSETFROM:-0400
TZOFFSETTO:-0500
TZNAME:EST
DTSTART:20251102T060000
END:STANDARD
BEGIN:DAYLIGHT
TZOFFSETFROM:-0500
TZOFFSETTO:-0400
TZNAME:EDT
DTSTART:20260308T070000
END:DAYLIGHT
BEGIN:STANDARD
TZOFFSETFROM:-0400
TZOFFSETTO:-0500
TZNAME:EST
DTSTART:20261101T060000
END:STANDARD
BEGIN:DAYLIGHT
TZOFFSETFROM:-0500
TZOFFSETTO:-0400
TZNAME:EDT
DTSTART:20270314T070000
END:DAYLIGHT
BEGIN:STANDARD
TZOFFSETFROM:-0400
TZOFFSETTO:-0500
TZNAME:EST
DTSTART:20271107T060000
END:STANDARD
END:VTIMEZONE
BEGIN:VEVENT
DTSTART;TZID=America/New_York:20260318T100000
DTEND;TZID=America/New_York:20260318T140000
DTSTAMP:20260423T171529
CREATED:20260211T140528Z
LAST-MODIFIED:20260211T140528Z
UID:10007834-1773828000-1773842400@www.humanserviceforum.org
SUMMARY:BFAIR Bike Helmet Distribution
DESCRIPTION:With support from Greylock Federal Credit Union\, and supporting sponsor\, BIAMA\, BFAIR will be distributing bike helmets for children and adults to promote brain health and safety in Berkshire County and the Pioneer Valley. \n150 helmets for youth ages 6-13 and 100 helmets for 14+ will be distributed free-of-charge.
URL:https://www.humanserviceforum.org/event/bfair-bike-helmet-distribution/
CATEGORIES:Community Calendar,HSF Member Event
END:VEVENT
BEGIN:VEVENT
DTSTART;TZID=America/New_York:20260318T173000
DTEND;TZID=America/New_York:20260318T200000
DTSTAMP:20260423T171529
CREATED:20260303T201035Z
LAST-MODIFIED:20260303T201035Z
UID:10007950-1773855000-1773864000@www.humanserviceforum.org
SUMMARY:Hampden County Housing Forum
DESCRIPTION:Hampden County faces urgent housing challenges — and meaningful opportunities. Join us for the Hampden County Housing Conversation – a regional conversation about where we are\, what the data tells us\, and how we move forward together. \nAt this event you will: \n\n\n\n\n\n\nLearn about housing in Hampden County\nBe among the first to explore key findings from Building Homes. Building Futures.\, the new four-county regional housing study conducted by the UMass Donahue Institute and join a conversation to help shape future housing strategies for the region. At this event\, you’ll gain: \n\nA clear picture of current housing trends and needs in Hampden County\nInsights into regional gaps and growth opportunities\nNew tools communities can use to plan\, produce\, and preserve housing\nA chance to discuss practical strategies you can apply locally\nAn opportunity to provide input on the next Regional Housing Plan\n\n\n\nHelp create a regional housing plan\nThe Pioneer Valley Planning Commission (PVPC) is leading the update of the Pioneer Valley Regional Housing Plan to help communities in Hampden and Hampshire Counties address today’s housing challenges and plan for long term housing needs. This event will serve as the public kickoff of that effort. \nGrounded in regional data\, local knowledge\, and community input\, the plan will establish shared priorities and practical strategies to increase housing supply\, improve affordability\, support a range of housing types\, and strengthen coordination across municipalities. \nInput gathered at this forum will directly shape the goals\, strategies\, and implementation actions of the Regional Housing Plan.
URL:https://www.humanserviceforum.org/event/hampden-county-housing-forum/
CATEGORIES:Community Calendar,HSF Member Event
END:VEVENT
BEGIN:VEVENT
DTSTART;TZID=America/New_York:20260319T080000
DTEND;TZID=America/New_York:20260319T170000
DTSTAMP:20260423T171529
CREATED:20260303T190351Z
LAST-MODIFIED:20260303T190351Z
UID:10007946-1773907200-1773939600@www.humanserviceforum.org
SUMMARY:Whole Children Spring Session Registration open
DESCRIPTION:Social and fun afternoon and Saturday classes for people ages 3-100 with disabilities and/or autism in Northampton. Open to all! Learn more and sign up for classes. \n  \nEach class costs $95 for the session with the exception of Cooking Classes\, which cost $120 to cover the cost of food. If you register for four or more classes you will receive a 20% discount off the total cost. Discount will show in cart. \nEvents are free for anyone enrolled in classes. For those not currently taking a class\, event admission is $10. \nClass sizes are limited; register early to secure a spot in a desired class. \nPlease note that all age ranges are suggestions only. Please contact us at info@wholechildren.org or (413) 585-8010 if you’re interested in signing up for a class outside of the posted age range.
URL:https://www.humanserviceforum.org/event/whole-children-spring-session-registration-open/2026-03-19/
CATEGORIES:Community Calendar,HSF Member Event
ORGANIZER;CN="ServiceNet":MAILTO:wpayson@servicenet.org
END:VEVENT
BEGIN:VEVENT
DTSTART;TZID=America/New_York:20260319T090000
DTEND;TZID=America/New_York:20260319T123000
DTSTAMP:20260423T171529
CREATED:20251218T162528Z
LAST-MODIFIED:20260105T162407Z
UID:10007701-1773910800-1773923400@www.humanserviceforum.org
SUMMARY:Supervisory Skills Certificate Series: Winter 2026
DESCRIPTION:Give new supervisors the skills they need to succeed.  If you are planning on promoting\, or have just promoted someone to a supervisory position help them hit the ground running with this 8 week course.  With HSF’s strong team of seasoned presenters covering a wide range of knowledge from different points of view\, we cover theory\, soft skills\, and hard facts.  Conversation topics range from harassment law and insurance liability to finding common purpose in a team and how to transition from peer to supervisor\, and much much more. \nRegister an individual who is eligible for a certificate\, or a space for your agency to send someone different to each session depending on who the topic will benefit most. \nThis series is presented over Zoom. Series runs 8 consecutive weeks starting  February 4th 9am-12:30pm all session.  Full series is $600 for members\, $1200 for nonmembers. \n \nSeries Topics: \n\nSupervising Former Peers and Establishing Healthy Boundaries- Wednesday February 4th\n\nThis training equips internally promoted leaders with the tools to successfully manage former peers while fostering trust\, accountability\, and healthy team dynamics. Leaders will explore the psychological and practical aspects of  transitioning into authority roles\, develop strategies for setting and enforcing boundaries\, refine their leadership identity\, and enhance their communication and feedback techniques. \nPresented by Will Weche; Willful Change LLC \n\nEmployment Law- Wednesday February 11th \n\nAvoid missteps that can lead to expensive and time-consuming litigation.  Learn from practicing attorneys on the wording of the law\, along with how that wording is actually applied. Covering a wide range of subjects to clear up misconceptions and acknowledging pitfalls\, this session is packed with useful information that every organization needs. \nPresented by Skoler-Abbott \n\nTeam Building and Conflict Resolution- Wednesday February 18th\n\nThrough discussions that will include team activities and individual reflection\, forge a shared understanding of team-building and the essential skills for conflict resolution and negotiation that facilitate the development of strong\, cohesive\, effective teams. Make your team stronger than the sum of their parts\, drive unity\, and be able to address conflict when it does happen. \nPresented by Dr. Lucie Lewis and Janine Fondon \n\nCyber Security- Wednesday February 25th \n\nWith the threat of cyber attacks continuing to rise\, with an increased focus on social engineering\, no one can afford to hide their heads in the sand and pretend that everything is ok.  With a focus on practical\, simple\, daily steps that one can take\, this session seeks to minimize risk to you\, your organization\, and your clients. \nPresented by Chris Wisneski; Whittlesey \n\nRetention: Rewards and Accountability – Wednesday March 4th\n\nPeople don’t leave jobs; they leave bad supervisors. This session puts a focus on how a supervisor can strengthen and grow those who report to them\, creating an environment where employees want to stay.  Covering how to multiple the strengths of your team\, how to discipline in a way that productive\, and how to praise\, we will learn how to create a work environment centered on retention. \nPresented by Diana Brooks; Diana Brooks Associates \n\nCulturally Responsive Supervision- Wednesday March 11th\n\nJoin us as we take a deep look at the many aspects that make up our identities and how they impact our leadership\,  our organizations and the people we serve.  Improve our skills in having conversations about our differences in a way that encourages learning and growth while building intersectional resilience.  We will strengthen our ability to have important dialogues\, navigate predictable tensions and avoid pitfalls that lead to disconnection. This session helps supervisors cultivate trusting\, creative and connected diverse working relationships. \nPresented by Regi Wingo and JAC Patriss; Growing a New Heart \n\nLiability and Benefit- Thursday March 19th\n\nGain a better understanding of Insurance\, and how it affects you\, your team and your organizations. Understand what coverage you have\, and might need\, in a variety of situations from daily operations to special fundraising events.  Learn the various forms of benefits available to understand what you have and be able to help explain to your team what their options are. \nPresented by Ben Garvey and Val Francis; Hub International \n\nLeadership Communication- Wednesday March 25th\n\nThis session looks at the building blocks of communicating clear messages to others.  In a core aspect of leadership that is often taken for granted\, those who excel at communicating often excel in supervision.  Learn to avoid noise and interference\, and how to properly process feedback to fine tune your messages for clearer understanding. \nPresented by Jeff Tingley; Human Service Forum \n  \nSupervisory Skills Series Sponsor: \n \nHSF Annual Sponsors: \n     \n     \n\n     \n\n\n\n 
URL:https://www.humanserviceforum.org/event/supervisory-skills-certificate-series-winter-2026/2026-03-19/
LOCATION:Online via Zoom
CATEGORIES:Community Calendar,HSF Event,HSF Member Event,HSF Non Member Event,Workshop
ATTACH;FMTTYPE=image/png:https://www.humanserviceforum.org/wp-content/uploads/2025/03/Supe-Series.png
END:VEVENT
BEGIN:VEVENT
DTSTART;TZID=America/New_York:20260319T090000
DTEND;TZID=America/New_York:20260319T123000
DTSTAMP:20260423T171529
CREATED:20260121T185752Z
LAST-MODIFIED:20260121T185753Z
UID:10007814-1773910800-1773923400@www.humanserviceforum.org
SUMMARY:Insurance Liability and Benefits
DESCRIPTION:Gain a better understanding of Insurance\, and how it affects you\, your team and your organizations. Understand what coverage you have\, and might need\, in a variety of situations from daily operations to special fundraising events.  Learn the various forms of benefits available to understand what you have and be able to help explain to your team what their options are. \nPresented by Ben Garvey and Val Francis; Hub International \nThis workshop is part of the Supervisory Skills Workshop Series and is presented over Zoom March 19th 9am-12:30pm.  Each workshop is $150 per person for members\, $250 for nonmembers. \n \nOther Series Topics and Dates: \n\nLeadership Communication- Wednesday March 25th\n\nThis session looks at the building blocks of communicating clear messages to others.  In a core aspect of leadership that is often taken for granted\, those who excel at communicating often excel in supervision.  Learn to avoid noise and interference\, and how to properly process feedback to fine tune your messages for clearer understanding. \nPresented by Jeff Tingley; Human Service Forum \n  \nSupervisory Skills Series Sponsor: \n \nHSF Annual Sponsors: \n     \n     \n\n     \n\n\n\n 
URL:https://www.humanserviceforum.org/event/supervisory-skills-certificate-series-winter-2026-2-2-2-2-2-2-2/2026-03-19/
LOCATION:Online via Zoom
CATEGORIES:Community Calendar,HSF Event,HSF Member Event,HSF Non Member Event,Workshop
ATTACH;FMTTYPE=image/png:https://www.humanserviceforum.org/wp-content/uploads/2025/09/benefits.png
END:VEVENT
BEGIN:VEVENT
DTSTART;TZID=America/New_York:20260319T090000
DTEND;TZID=America/New_York:20260319T123000
DTSTAMP:20260423T171529
CREATED:20260323T141929Z
LAST-MODIFIED:20260323T141931Z
UID:10007816-1773910800-1773923400@www.humanserviceforum.org
SUMMARY:Insurance Liability and Benefits
DESCRIPTION:Gain a better understanding of Insurance\, and how it affects you\, your team and your organizations. Understand what coverage you have\, and might need\, in a variety of situations from daily operations to special fundraising events.  Learn the various forms of benefits available to understand what you have and be able to help explain to your team what their options are. \nPresented by Ben Garvey and Val Francis; Hub International \nThis workshop is part of the Supervisory Skills Workshop Series and is presented over Zoom March 19th 9am-12:30pm.  Each workshop is $150 per person for members\, $250 for nonmembers. \n \nOther Series Topics and Dates: \n\nLeadership Communication- Wednesday March 25th\n\nThis session looks at the building blocks of communicating clear messages to others.  In a core aspect of leadership that is often taken for granted\, those who excel at communicating often excel in supervision.  Learn to avoid noise and interference\, and how to properly process feedback to fine tune your messages for clearer understanding. \nPresented by Jeff Tingley; Human Service Forum \n  \nSupervisory Skills Series Sponsor: \n \nHSF Annual Sponsors: \n     \n     \n\n     \n\n\n\n 
URL:https://www.humanserviceforum.org/event/supervisory-skills-certificate-series-winter-2026-2-2-2-2-2-2-2-3/
LOCATION:Online via Zoom
CATEGORIES:Community Calendar,HSF Event,HSF Member Event,HSF Non Member Event,Workshop
ATTACH;FMTTYPE=image/png:https://www.humanserviceforum.org/wp-content/uploads/2025/09/benefits.png
END:VEVENT
BEGIN:VEVENT
DTSTART;TZID=America/New_York:20260319T100000
DTEND;TZID=America/New_York:20260319T120000
DTSTAMP:20260423T171529
CREATED:20260303T185104Z
LAST-MODIFIED:20260303T185104Z
UID:10007868-1773914400-1773921600@www.humanserviceforum.org
SUMMARY:LifePath In-Service Training – Building a Trauma-Informed Community
DESCRIPTION:Description:\nThis training supports attendees to better understand the impacts of trauma\, and provides strategies for how to account for and address these impacts. The training includes an overview of the research on the effects of trauma and the principles of trauma-informed\ncare\, followed by practical tools for examining one’s practices and making them more trauma-informed. The impact of working with populations exposed to trauma on staff is also discussed. \nPresented by: David Kieval\, Supervising Psychologist at CSO
URL:https://www.humanserviceforum.org/event/lifepath-in-service-training-building-a-trauma-informed-community/
LOCATION:Online via Zoom
CATEGORIES:Community Calendar,HSF Member Event
ATTACH;FMTTYPE=image/png:https://www.humanserviceforum.org/wp-content/uploads/2026/02/In-Service-banner-1.png
END:VEVENT
BEGIN:VEVENT
DTSTART;TZID=America/New_York:20260319T123000
DTEND;TZID=America/New_York:20260319T150000
DTSTAMP:20260423T171529
CREATED:20260212T160954Z
LAST-MODIFIED:20260318T102402Z
UID:10007836-1773923400-1773932400@www.humanserviceforum.org
SUMMARY:HSF Lunch and Learn: Fundraising Support Through Catchafire
DESCRIPTION:HSF is happy to welcome Sean Rose\, Director for Non Profit Success at Catchafire\, and Andrea Jones\, Manager of Non Profit Success\, as we discuss Catchafire’s new fundraising support and tools over a box lunch by Frigo’s Catering. Catchafire is available to HSF Members thanks to the Beveridge Foundation\, Community Foundation and the Irene & George Davis Foundation. \nAll attendees are asked to bring a laptop if possible. \n$50 for HSF Members \n  \n  \n  \nNeed access to Catchafire?  HSF Member can request a log in HERE \n  \nPRESENTERS: \nSean Rose (he/him) \nDirector of Nonprofit Success\, Catchafire \nwww.linkedin.com/in/seanvrose/\nI am a bridge-builder. My work exists at the intersection between philanthropy\, nonprofits\, and CSR. With a career that spans continents\, time zones\, and cause areas\, I bring deep experience in the philanthropic sector and a passion to continue building a more just and empathetic world. I am a strategic thinker\, a compassionate leader\, and a committed ally. I understand the complexity and urgency of solving social issues and help leaders to imagine new possibilities. \n  \nAndrea Jones (she/her) \nManager of Nonprofit Success\, Catchafire \nWith nearly 15 years of experience in nonprofits of all shapes and sizes\, I’ve had the opportunity to do everything from cold-calling to recruit walk participants to leading national volunteer engagement initiatives. That range of experience has given me a deep appreciation for the many moving parts and dedicated people that make mission-driven work successful. I bring an organized\, thoughtful approach to every room I facilitate. I’m a strategic thinker and a committed ally to nonprofits and those working to make the world a better place. I’m passionate about learning and growth\, and I believe the best training sessions are both educational and genuinely fun.  From the great state of Michigan\, I bring Midwestern warmth and an enthusiasm unknown to mankind (and if given the chance\, I’ll happily talk about Michigan for hours). \nThank you to our Breakfast Sponsors and Annual Sponsors for sponsoring this event. \nBreakfast Sponsors \n  \n       \n  \n  \n  \n  \n  \n  \n  \n  \nHSF Annual Sponsors
URL:https://www.humanserviceforum.org/event/hsf-lunch-and-learn-fundraising-support-through-catchafire/
LOCATION:MHA\, 350 Memorial Drive\, Chicopee\, MA\, 01020\, United States
CATEGORIES:Community Calendar,HSF Event,HSF Member Event,Special Event
ATTACH;FMTTYPE=image/png:https://www.humanserviceforum.org/wp-content/uploads/2026/02/HSF-Event-Program-Image-Template-1.png
GEO:42.1129961;-72.5774764
X-APPLE-STRUCTURED-LOCATION;VALUE=URI;X-ADDRESS=MHA 350 Memorial Drive Chicopee MA 01020 United States;X-APPLE-RADIUS=500;X-TITLE=350 Memorial Drive:geo:-72.5774764,42.1129961
END:VEVENT
BEGIN:VEVENT
DTSTART;TZID=America/New_York:20260319T160000
DTEND;TZID=America/New_York:20260319T200000
DTSTAMP:20260423T171529
CREATED:20260223T170239Z
LAST-MODIFIED:20260223T170239Z
UID:10007855-1773936000-1773950400@www.humanserviceforum.org
SUMMARY:Kamp for Kids Golf FUNraiser
DESCRIPTION:Coming off the excitement of last year’s 50th anniversary\, we launch into our next 50 years\, building on five decades of impact\, inclusion\, and unforgettable memories at Kamp for Kids!\nJoin us at Max’s Swing Lounge in Springfield for virtual golf\, minigolf\, good food\, and time together—all in support of children and families across our region.\nWith a focus on FUN and community celebration\, we invite all to join the event\, regardless of ability to pay. Every dollar we raise via this event\, through sponsorships and free will donation\, helps ensure campers of all abilities can access meaningful\, inclusive summer fun. We invite you to contribute by making a one time or recurring monthly gift at the event.\nWe also have several sponsorship opportunities available! Reach out to Kelly Brown at kelly.brown@bhninc.org or (413) 654‑0930.
URL:https://www.humanserviceforum.org/event/kamp-for-kids-golf-funraiser-2/
CATEGORIES:Community Calendar,HSF Member Event
ATTACH;FMTTYPE=image/jpeg:https://www.humanserviceforum.org/wp-content/uploads/2026/02/kamp.jpg
END:VEVENT
BEGIN:VEVENT
DTSTART;TZID=America/New_York:20260319T173000
DTEND;TZID=America/New_York:20260319T190000
DTSTAMP:20260423T171529
CREATED:20260223T175307Z
LAST-MODIFIED:20260310T175219Z
UID:10007863-1773941400-1773946800@www.humanserviceforum.org
SUMMARY:Let's Talk Risk
DESCRIPTION:Join Us for the “Let’s Talk Risk!” For A Parent/Guardian Workshop Series!\n\n\nBeat the Odds invites all parents and guardians to participate in our engaging Problem Gambling Awareness Workshops this March.\n\n\nThis series is designed to empower you with the knowledge and tools to protect and support your youth while fostering a stronger\, informed community.\n\n\nWorkshop Series Details:\nMarch 12\, 2026 – 5:30 – 7:30 PM 65 Lincoln St.\, Springfield\nMarch 16\, 2026 – 5:30 – 7:00 PM 136 Surrey Rd.\, Springfield\nMarch 19\, 2026 – 5:30 – 7:00 PM Location TBD\n\n\nWhy Attend?\nThese workshops will provide valuable insights into understanding gambling risks\, how to identify signs of problem gambling\, and ways to foster open conversations with your children.\n\n\nWe are proud to partner with the Massachusetts Department of Public Health\, the Massachusetts Office of Problem Gambling Services\, and our partner organizations New North Citizen’s Council and South End Community Center\, dedicated to youth well-being.\n\n\nWe can Beat The Odds for our youth!!!\n\n\nRegister today by scanning the QR code on the graphic or visiting: https://rcgd.org/8esMWG or link in bio.
URL:https://www.humanserviceforum.org/event/lets-talk-risk/2026-03-19/
CATEGORIES:Community Calendar,HSF Member Event
ATTACH;FMTTYPE=image/jpeg:https://www.humanserviceforum.org/wp-content/uploads/2026/02/risk.jpg
END:VEVENT
BEGIN:VEVENT
DTSTART;TZID=America/New_York:20260320T100000
DTEND;TZID=America/New_York:20260320T110000
DTSTAMP:20260423T171529
CREATED:20260224T205712Z
LAST-MODIFIED:20260224T205753Z
UID:10007874-1774000800-1774004400@www.humanserviceforum.org
SUMMARY:MNN Public Policy Forum
DESCRIPTION:Please join MNN to hear from Massachusetts State Senator Cindy Friedman about ongoing efforts around federal issues\, and challenges facing the healthcare system.\n\n\n\nCindy F. Friedman was elected to the Massachusetts Senate in 2017 to represent the Fourth Middlesex District\, which includes Arlington\, Billerica\, Burlington\, Woburn\, and precincts 1-2 and 4-7 in Lexington. Cindy’s legislative agenda is informed by her decades of public activism\, dating back to when she first marched to protect women’s reproductive rights in the 1970s and has grown to be a vocal champion for lowering prescription drug prices and expanding access to timely\, quality health care\, particularly mental and behavioral health care.\n\nCindy’s legislative priorities are also reflected in her committee\, caucus and working group memberships she has held since her election to the Senate. Cindy previously services as the Chairperson of the Joint Committee on Mental Health\, Substance Use and Recovery and currently serves as the Chairperson of the Joint Committee on Health Care Financing and the Chairperson of the Senate Committee on Steering and Policy. Cindy has received numerous awards and recognitions for her work during her tenure in the Senate. Most recently Cindy received the Advocates for Autism of Massachusetts 2025 Legislator of the Year award\, the Massachusetts Health and Hospital 2024 Hero award\, and the Mental Health America 2024 Legislator of the Year award. Prior to becoming a state Senator\, Cindy worked as a public school teacher\, an executive in the high-tech industry\, and later served for nearly a decade as chief of staff to the late Senator Ken Donnelly.\n\n\nFriday\, March 20\, 2026\n\n\n\n10:00-11:00 AM\nOnline\n\n \nCost: FREE to MNN Members\, $20 for Nonmembers (learn more about MNN membership here)\n \nYou will receive a link to the Zoom meeting before the event. A recording will be shared after the program.
URL:https://www.humanserviceforum.org/event/mnn-public-policy-forum/
CATEGORIES:Community Calendar,HSF Member Event
ATTACH;FMTTYPE=image/png:https://www.humanserviceforum.org/wp-content/uploads/2026/02/mnn.png
END:VEVENT
BEGIN:VEVENT
DTSTART;TZID=America/New_York:20260320T110000
DTEND;TZID=America/New_York:20260320T120000
DTSTAMP:20260423T171529
CREATED:20260310T143854Z
LAST-MODIFIED:20260310T143854Z
UID:10007959-1774004400-1774008000@www.humanserviceforum.org
SUMMARY:Health Coverage at Risk
DESCRIPTION:Up to 300\,000 Massachusetts residents could lose health insurance under new federal redetermination and work‑reporting rules. What does this mean for communities in Western Massachusetts?Join us on March 20 from 11:00 AM–12:00 PM for a discussion of the latest regional data\, who may be most affected\, and how state agencies and community healthcare providers are responding. Speakers will share insights on the potential impacts and what organizations can do to support residents facing coverage loss.Featuring speakers from Blue Cross Blue Shield of Massachusetts Foundation\, Volunteers in Medicine\, and the Public Health Institute of Western Massachusetts.
URL:https://www.humanserviceforum.org/event/health-coverage-at-risk/
CATEGORIES:Community Calendar,HSF Member Event
ATTACH;FMTTYPE=image/jpeg:https://www.humanserviceforum.org/wp-content/uploads/2026/03/health-coverage.jpg
END:VEVENT
BEGIN:VEVENT
DTSTART;TZID=America/New_York:20260320T130000
DTEND;TZID=America/New_York:20260320T150000
DTSTAMP:20260423T171529
CREATED:20260303T165823Z
LAST-MODIFIED:20260303T165823Z
UID:10007942-1774011600-1774018800@www.humanserviceforum.org
SUMMARY:Strive Clinic Open House & Advocacy Day
DESCRIPTION:Hear from individuals living with brain injury\, meet the clinic’s team of therapists\, tour the facility\, and see assistive technology demonstrations. 1 to 3 p.m. at 1236 Main Street in Holyoke. For more information\, email Strive Clinic Director of Operations Ellen Werner.
URL:https://www.humanserviceforum.org/event/strive-clinic-open-house-advocacy-day/
CATEGORIES:Community Calendar,HSF Member Event
ORGANIZER;CN="ServiceNet":MAILTO:wpayson@servicenet.org
END:VEVENT
END:VCALENDAR