BEGIN:VCALENDAR
VERSION:2.0
PRODID:-//Human Service Forum - ECPv6.15.20//NONSGML v1.0//EN
CALSCALE:GREGORIAN
METHOD:PUBLISH
X-WR-CALNAME:Human Service Forum
X-ORIGINAL-URL:https://www.humanserviceforum.org
X-WR-CALDESC:Events for Human Service Forum
REFRESH-INTERVAL;VALUE=DURATION:PT1H
X-Robots-Tag:noindex
X-PUBLISHED-TTL:PT1H
BEGIN:VTIMEZONE
TZID:America/New_York
BEGIN:DAYLIGHT
TZOFFSETFROM:-0500
TZOFFSETTO:-0400
TZNAME:EDT
DTSTART:20250309T070000
END:DAYLIGHT
BEGIN:STANDARD
TZOFFSETFROM:-0400
TZOFFSETTO:-0500
TZNAME:EST
DTSTART:20251102T060000
END:STANDARD
BEGIN:DAYLIGHT
TZOFFSETFROM:-0500
TZOFFSETTO:-0400
TZNAME:EDT
DTSTART:20260308T070000
END:DAYLIGHT
BEGIN:STANDARD
TZOFFSETFROM:-0400
TZOFFSETTO:-0500
TZNAME:EST
DTSTART:20261101T060000
END:STANDARD
BEGIN:DAYLIGHT
TZOFFSETFROM:-0500
TZOFFSETTO:-0400
TZNAME:EDT
DTSTART:20270314T070000
END:DAYLIGHT
BEGIN:STANDARD
TZOFFSETFROM:-0400
TZOFFSETTO:-0500
TZNAME:EST
DTSTART:20271107T060000
END:STANDARD
END:VTIMEZONE
BEGIN:VEVENT
DTSTART;TZID=America/New_York:20260930T173000
DTEND;TZID=America/New_York:20260930T183000
DTSTAMP:20260424T101103
CREATED:20260422T130434Z
LAST-MODIFIED:20260422T130434Z
UID:10008077-1790789400-1790793000@www.humanserviceforum.org
SUMMARY:Academy for Financial Wellness - a four part financial literacy series
DESCRIPTION:Presented by Liberty Bank and HSF\, hosted by MHA\, the Academy for Financial Wellness is a step-by-step program designed to help you\nbuild financial independence. Through expert-led sessions\, you’ll gain the knowledge and confidence to\nmanage your money\, improve your credit\, and achieve short term and long financial goals. Create your path\, register today! \nThis four part series is no additional cost to HSF Members and is presented by Dawn Creighton; Liberty Bank\, with guests. The series runs every Wednesday in June at the MHA Auditorium from 5:30pm to 6:30pm. \nParticipants will get \n\nHands on learning with financial experts\nOne-on-one credit review opportunities\nInformation about Liberty Bank products designed to support your financial success including\n\nCredit Builder Loan and Saver Program\nBanksmart Account\nIndividual Development Accounts\n\n\n\n \nSeries Topics \n\nWhy Bank?– assess your financial health to set goals for your short and long term financial wellness.\nBudget Like a Pro– – Create & maintain a personalized spending plan that fits your life\nBuild and Repair Credit– Tools designed to help improve your score and uncover financial opportunities\nBecome a Homeowner-Learn about buying a home and understand mortgage options & down payment programs available to you\n\nThe series also offers chances to meet with a Financial Advisor. \n  \nSeries Host: \n \nHSF Annual Sponsors: \n     \n     \n\n     \n  \n\n\n\n\n\n 
URL:https://www.humanserviceforum.org/event/academy-for-financial-wellness-a-four-part-financial-literacy-series/2026-09-30/
LOCATION:MHA\, 350 Memorial Drive\, Chicopee\, MA\, 01020\, United States
CATEGORIES:Community Calendar,HSF Event,HSF Member Event,HSF Non Member Event,Workshop
ATTACH;FMTTYPE=image/png:https://www.humanserviceforum.org/wp-content/uploads/2026/04/Academy-for-Financial-Wellness-banner.png
GEO:42.1129961;-72.5774764
X-APPLE-STRUCTURED-LOCATION;VALUE=URI;X-ADDRESS=MHA 350 Memorial Drive Chicopee MA 01020 United States;X-APPLE-RADIUS=500;X-TITLE=350 Memorial Drive:geo:-72.5774764,42.1129961
END:VEVENT
BEGIN:VEVENT
DTSTART;TZID=America/New_York:20261003T123000
DTEND;TZID=America/New_York:20261003T143000
DTSTAMP:20260424T101103
CREATED:20260413T122950Z
LAST-MODIFIED:20260413T122950Z
UID:10008031-1791030600-1791037800@www.humanserviceforum.org
SUMMARY:A Matter of Balance–Managing Concerns About Falls
DESCRIPTION:An 8-session workshop series (2 hours for each session) taking place once per a week\, this workshop teaches practical strategies to reduce the fear of falling and explores medical\, behavioral\, and environmental risk factors for falls\, stressing the importance of developing an exercise plan. \n\nSummer 2026: Wednesdays from May 5-June 24\, 10:00am – 12:00pm In-person at Belchertown Senior Center\nFall 2026: Thursdays from October 3-22\, 12:30-2:30pm at South Hadley Senior Center
URL:https://www.humanserviceforum.org/event/a-matter-of-balance-managing-concerns-about-falls/2026-10-03/
CATEGORIES:Community Calendar,HSF Member Event
END:VEVENT
END:VCALENDAR