BEGIN:VCALENDAR
VERSION:2.0
PRODID:-//Human Service Forum - ECPv6.15.20//NONSGML v1.0//EN
CALSCALE:GREGORIAN
METHOD:PUBLISH
X-WR-CALNAME:Human Service Forum
X-ORIGINAL-URL:https://www.humanserviceforum.org
X-WR-CALDESC:Events for Human Service Forum
REFRESH-INTERVAL;VALUE=DURATION:PT1H
X-Robots-Tag:noindex
X-PUBLISHED-TTL:PT1H
BEGIN:VTIMEZONE
TZID:America/New_York
BEGIN:DAYLIGHT
TZOFFSETFROM:-0500
TZOFFSETTO:-0400
TZNAME:EDT
DTSTART:20250309T070000
END:DAYLIGHT
BEGIN:STANDARD
TZOFFSETFROM:-0400
TZOFFSETTO:-0500
TZNAME:EST
DTSTART:20251102T060000
END:STANDARD
BEGIN:DAYLIGHT
TZOFFSETFROM:-0500
TZOFFSETTO:-0400
TZNAME:EDT
DTSTART:20260308T070000
END:DAYLIGHT
BEGIN:STANDARD
TZOFFSETFROM:-0400
TZOFFSETTO:-0500
TZNAME:EST
DTSTART:20261101T060000
END:STANDARD
BEGIN:DAYLIGHT
TZOFFSETFROM:-0500
TZOFFSETTO:-0400
TZNAME:EDT
DTSTART:20270314T070000
END:DAYLIGHT
BEGIN:STANDARD
TZOFFSETFROM:-0400
TZOFFSETTO:-0500
TZNAME:EST
DTSTART:20271107T060000
END:STANDARD
END:VTIMEZONE
BEGIN:VEVENT
DTSTART;TZID=America/New_York:20260423T080000
DTEND;TZID=America/New_York:20260423T170000
DTSTAMP:20260423T112921
CREATED:20260422T113739Z
LAST-MODIFIED:20260422T113739Z
UID:10008058-1776931200-1776963600@www.humanserviceforum.org
SUMMARY:Free Summer Camp Middle & High School Students Registration Open
DESCRIPTION:
URL:https://www.humanserviceforum.org/event/free-summer-camp-middle-high-school-students-registration-open/
CATEGORIES:Community Calendar,HSF Member Event
END:VEVENT
BEGIN:VEVENT
DTSTART;TZID=America/New_York:20260424T100000
DTEND;TZID=America/New_York:20260424T110000
DTSTAMP:20260423T112921
CREATED:20260421T151322Z
LAST-MODIFIED:20260421T151322Z
UID:10008056-1777024800-1777028400@www.humanserviceforum.org
SUMMARY:Elevating Rural Experiences In Data and Action
DESCRIPTION:
URL:https://www.humanserviceforum.org/event/elevating-rural-experiences-in-data-and-action/
CATEGORIES:Community Calendar,HSF Member Event
END:VEVENT
BEGIN:VEVENT
DTSTART;TZID=America/New_York:20260424T193000
DTEND;TZID=America/New_York:20260424T210000
DTSTAMP:20260423T112921
CREATED:20260414T172700Z
LAST-MODIFIED:20260415T102552Z
UID:10008043-1777059000-1777064400@www.humanserviceforum.org
SUMMARY:Unity House Players present\, The Prom
DESCRIPTION:
URL:https://www.humanserviceforum.org/event/unity-house-players-present-the-prom/2026-04-24/
CATEGORIES:Community Calendar,HSF Member Event
END:VEVENT
BEGIN:VEVENT
DTSTART;TZID=America/New_York:20260425T090000
DTEND;TZID=America/New_York:20260425T130000
DTSTAMP:20260423T112921
CREATED:20260310T145955Z
LAST-MODIFIED:20260310T145955Z
UID:10007962-1777107600-1777122000@www.humanserviceforum.org
SUMMARY:UMass 5K Annual Dash & Dine
DESCRIPTION:UMass Dining is excited to host the Fifteenth Annual 5K Dash & Dine on Saturday\, April 25th\, 2026! This event is open to both students and the community with the goal to raise funds for the Amherst Survival Center. We hope you join us for lunch immediately after the run/walk!
URL:https://www.humanserviceforum.org/event/umass-5k-annual-dash-dine/
CATEGORIES:Community Calendar,HSF Member Event
END:VEVENT
BEGIN:VEVENT
DTSTART;TZID=America/New_York:20260425T100000
DTEND;TZID=America/New_York:20260425T140000
DTSTAMP:20260423T112921
CREATED:20260323T182501Z
LAST-MODIFIED:20260323T182501Z
UID:10007982-1777111200-1777125600@www.humanserviceforum.org
SUMMARY:National Drug Take Back Day
DESCRIPTION:
URL:https://www.humanserviceforum.org/event/national-drug-take-back-day/
CATEGORIES:Community Calendar,HSF Member Event
END:VEVENT
BEGIN:VEVENT
DTSTART;TZID=America/New_York:20260425T193000
DTEND;TZID=America/New_York:20260425T210000
DTSTAMP:20260423T112921
CREATED:20260414T172700Z
LAST-MODIFIED:20260415T102552Z
UID:10008044-1777145400-1777150800@www.humanserviceforum.org
SUMMARY:Unity House Players present\, The Prom
DESCRIPTION:
URL:https://www.humanserviceforum.org/event/unity-house-players-present-the-prom/2026-04-25/
CATEGORIES:Community Calendar,HSF Member Event
END:VEVENT
BEGIN:VEVENT
DTSTART;TZID=America/New_York:20260426T090000
DTEND;TZID=America/New_York:20260426T140000
DTSTAMP:20260423T112921
CREATED:20260408T113613Z
LAST-MODIFIED:20260408T113613Z
UID:10008012-1777194000-1777212000@www.humanserviceforum.org
SUMMARY:16th Annual Daffodil Run
DESCRIPTION:The Daffodil Run is more than a race\, it’s a celebration of community. \n  \nJoin us on the Amherst Common for music\, local food vendors\, family-friendly games\, and a morning full of energy\, all while supporting youth mentorship in Hampshire County. Whether you’re running\, walking\, or just joining the celebration\, make your spring meaningful. \n  \nBig Brothers Big Sisters of Hampshire County matches young people with caring adult mentors who provide guidance\, stability\, and support during critical developmental years. The Daffodil Run is our biggest fundraiser of the year! Your participation directly supports these life-changing relationships.
URL:https://www.humanserviceforum.org/event/16th-annual-daffodil-run/
CATEGORIES:Community Calendar,HSF Member Event
END:VEVENT
BEGIN:VEVENT
DTSTART;TZID=America/New_York:20260426T140000
DTEND;TZID=America/New_York:20260426T160000
DTSTAMP:20260423T112921
CREATED:20260414T172700Z
LAST-MODIFIED:20260415T102552Z
UID:10008045-1777212000-1777219200@www.humanserviceforum.org
SUMMARY:Unity House Players present\, The Prom
DESCRIPTION:
URL:https://www.humanserviceforum.org/event/unity-house-players-present-the-prom/2026-04-26/
CATEGORIES:Community Calendar,HSF Member Event
END:VEVENT
END:VCALENDAR