BEGIN:VCALENDAR
VERSION:2.0
PRODID:-//Human Service Forum - ECPv6.15.20//NONSGML v1.0//EN
CALSCALE:GREGORIAN
METHOD:PUBLISH
X-ORIGINAL-URL:https://www.humanserviceforum.org
X-WR-CALDESC:Events for Human Service Forum
REFRESH-INTERVAL;VALUE=DURATION:PT1H
X-Robots-Tag:noindex
X-PUBLISHED-TTL:PT1H
BEGIN:VTIMEZONE
TZID:America/New_York
BEGIN:DAYLIGHT
TZOFFSETFROM:-0500
TZOFFSETTO:-0400
TZNAME:EDT
DTSTART:20230312T070000
END:DAYLIGHT
BEGIN:STANDARD
TZOFFSETFROM:-0400
TZOFFSETTO:-0500
TZNAME:EST
DTSTART:20231105T060000
END:STANDARD
BEGIN:DAYLIGHT
TZOFFSETFROM:-0500
TZOFFSETTO:-0400
TZNAME:EDT
DTSTART:20240310T070000
END:DAYLIGHT
BEGIN:STANDARD
TZOFFSETFROM:-0400
TZOFFSETTO:-0500
TZNAME:EST
DTSTART:20241103T060000
END:STANDARD
BEGIN:DAYLIGHT
TZOFFSETFROM:-0500
TZOFFSETTO:-0400
TZNAME:EDT
DTSTART:20250309T070000
END:DAYLIGHT
BEGIN:STANDARD
TZOFFSETFROM:-0400
TZOFFSETTO:-0500
TZNAME:EST
DTSTART:20251102T060000
END:STANDARD
BEGIN:DAYLIGHT
TZOFFSETFROM:-0500
TZOFFSETTO:-0400
TZNAME:EDT
DTSTART:20260308T070000
END:DAYLIGHT
BEGIN:STANDARD
TZOFFSETFROM:-0400
TZOFFSETTO:-0500
TZNAME:EST
DTSTART:20261101T060000
END:STANDARD
BEGIN:DAYLIGHT
TZOFFSETFROM:-0500
TZOFFSETTO:-0400
TZNAME:EDT
DTSTART:20270314T070000
END:DAYLIGHT
BEGIN:STANDARD
TZOFFSETFROM:-0400
TZOFFSETTO:-0500
TZNAME:EST
DTSTART:20271107T060000
END:STANDARD
END:VTIMEZONE
BEGIN:VEVENT
DTSTART;TZID=America/New_York:20260130T073000
DTEND;TZID=America/New_York:20260130T100000
DTSTAMP:20260423T114538
CREATED:20251209T131357Z
LAST-MODIFIED:20260121T181514Z
UID:10007668-1769758200-1769767200@www.humanserviceforum.org
SUMMARY:HSF Signature Breakfast: Legislative Panel
DESCRIPTION:This event is FULL\n  \nJoin HSF for one of our Signature Breakfasts. Which means important conversations and networking over comforting breakfast foods and coffee. \nThis is your chance to talk to the legislatures representing Western Massachusetts IN PERSON. Join us for a panel of State Senators and Representatives over coffee and breakfast. A short Q&A session to take place after panel remarks. \nSummit View Banquet and Meeting House\, Holyoke MA \n$50 \nSIGN UP FOR OUR WAITING LIST HERE. \n  \n  \nConfirmed Legislative Panelists (to date): \nSenator Joanne Comerford \nSenator John Velis Senior Staff \nRepresentative Shirley Arriaga \nRepresentative Carlos Gonzalez \nCheryl Spinks\, District Legislative Aide from the office of Representative Angelo Puppolo \nRepresentative Lindsay Sabadosa \nRepresentative Susannah Whipps \n  \n  \n  \nHSF Breakfast Sponsors: \n \n \n \n \n \n \nHSF Annual Sponsors: \n \n \n \n \n \n  \n  \n 
URL:https://www.humanserviceforum.org/event/hsf-signature-breakfast-legislative-panel/
LOCATION:Summit View Banquet and Meeting House\, l555 Northampton Street\, Holyoke\, MA\, Holyoke\, MA\, 01040\, United States
CATEGORIES:Breakfast,Community Calendar,HSF Event,HSF Member Event,HSF Non Member Event
ATTACH;FMTTYPE=image/png:https://www.humanserviceforum.org/wp-content/uploads/2025/12/HSF-Event-Program-Image-Template.png
END:VEVENT
BEGIN:VEVENT
DTSTART;TZID=America/New_York:20251028T073000
DTEND;TZID=America/New_York:20251028T100000
DTSTAMP:20260423T114538
CREATED:20250827T152711Z
LAST-MODIFIED:20250924T175345Z
UID:10007305-1761636600-1761645600@www.humanserviceforum.org
SUMMARY:HSF Signature Breakfast: Banking in Non Profit Sector & Addressing Current Challenges
DESCRIPTION:HSF welcomes our community partner\, Liberty Bank\, to talk about topics related to Banking in Non Profit Sector & Addressing Current Challenges at our next signature breakfast.  Join us for networking\, conversation\, and a thought provoking presentation over coffee and breakfast. \n$50 HSF Members  $75 Not Yet Members \n \nHSF Breakfast Sponsors: \n \n \n \n \n \n \nHSF Annual Sponsors: \n \n \n \n \n \n  \n  \n 
URL:https://www.humanserviceforum.org/event/hsf-signature-breakfast-banking-in-non-profit-sector-addressing-current-challenges/
LOCATION:Mount Holyoke College Willits-Hallowell Center\, 50 College Street\, South Hadley\, MA\, United States
CATEGORIES:Breakfast,Community Calendar,HSF Event,HSF Member Event,HSF Non Member Event
ATTACH;FMTTYPE=image/png:https://www.humanserviceforum.org/wp-content/uploads/2025/08/financial-breakfast.png
GEO:42.2578819;-72.5739267
X-APPLE-STRUCTURED-LOCATION;VALUE=URI;X-ADDRESS=Mount Holyoke College Willits-Hallowell Center 50 College Street South Hadley MA United States;X-APPLE-RADIUS=500;X-TITLE=50 College Street:geo:-72.5739267,42.2578819
END:VEVENT
BEGIN:VEVENT
DTSTART;TZID=America/New_York:20250626T073000
DTEND;TZID=America/New_York:20250626T100000
DTSTAMP:20260423T114538
CREATED:20250522T163739Z
LAST-MODIFIED:20250625T130754Z
UID:10007066-1750923000-1750932000@www.humanserviceforum.org
SUMMARY:Breakfast: 40 Years of HSF Begins NOW!
DESCRIPTION:Join HSF as we kick off our 40th anniversary with a special networking breakfast!Enjoy coffee and a breakfast buffet while we celebrate our community and reflect on the impact we’ve made together. Executive Director Becca Coolong will say a few words on HSF’s Past\, Present\, and where we are going next! Thank you for being part of our journey! \n  \n*if you would like to leave a statement or testimonial to be included\, please email Jeff at jtingley@humanserviceforum.org. \n  \n$50 Members \n  \nHSF Breakfast Sponsors: \n \nKyle.K.Sullivan@bbrown.com\n\n \n \n \nHSF Annual Sponsors: \n     \n     \n\n     \n\n    
URL:https://www.humanserviceforum.org/event/breakfast-40-years-of-hsf-begins-now/
LOCATION:450 Memorial Banquets\, 450 Memorial Drive\, Chicopee\, MA\, 01020\, United States
CATEGORIES:Breakfast,Community Calendar,HSF Event,HSF Member Event,HSF Non Member Event
ATTACH;FMTTYPE=image/png:https://www.humanserviceforum.org/wp-content/uploads/2025/05/40-years-2.png
END:VEVENT
BEGIN:VEVENT
DTSTART;TZID=America/New_York:20250305T073000
DTEND;TZID=America/New_York:20250305T100000
DTSTAMP:20260423T114538
CREATED:20250121T205826Z
LAST-MODIFIED:20250221T184556Z
UID:10005372-1741159800-1741168800@www.humanserviceforum.org
SUMMARY:HSF Signature Breakfast- The Future of Funding
DESCRIPTION:Meet with representatives from organizations that fund projects from non-profits. Here what they look for in applications and what their priorities are when choosing where to allocate their resources. A question and answer session follows.\nBreakfast included. \n$45 HSF Members     $65 Not Yet Members \n  \nConfirmed Panel Speakers: \nMegan Burke- Community Foundation of Western Mass  \nWard  Caswell- The Beveridge Family Foundation \nMegan Moynihan- United Way Pioneer Valley \nKiley O’Meara- The Irene E. & George A. Davis Foundation \nVanessa Pabón-Hernandez- Women’s Fund \nMargaret Tantillo- O’Dell Women’s Center \n \nHSF Breakfast Sponsors: \n \nKyle.K.Sullivan@bbrown.com\n\n \n \n \nHSF Annual Sponsors:
URL:https://www.humanserviceforum.org/event/hsf-signature-breakfast/
LOCATION:Mount Holyoke College Willits-Hallowell Center\, 50 College Street\, South Hadley\, MA\, United States
CATEGORIES:Breakfast,Community Calendar,HSF Event,HSF Member Event,HSF Non Member Event
ATTACH;FMTTYPE=image/png:https://www.humanserviceforum.org/wp-content/uploads/2025/01/funder-panel.png
GEO:42.2578819;-72.5739267
X-APPLE-STRUCTURED-LOCATION;VALUE=URI;X-ADDRESS=Mount Holyoke College Willits-Hallowell Center 50 College Street South Hadley MA United States;X-APPLE-RADIUS=500;X-TITLE=50 College Street:geo:-72.5739267,42.2578819
END:VEVENT
BEGIN:VEVENT
DTSTART;TZID=America/New_York:20241112T073000
DTEND;TZID=America/New_York:20241112T100000
DTSTAMP:20260423T114538
CREATED:20240927T184307Z
LAST-MODIFIED:20241104T135208Z
UID:10003808-1731396600-1731405600@www.humanserviceforum.org
SUMMARY:HSF BREAKFAST: Ethical Uses of A.I.: Asking the Hard Questions
DESCRIPTION:Tuesday November 12th 7:30am- 10:00pm \nWillits Hallowell Center\, South Hadley \nHSF is happy to welcome Ankit Virimani\, international expert in the field of ethical uses of generative AI.  Ankit will be giving a brief keynote discussing advances in AI technology for use in the non-profit field and on the issues and challenges being discussed on a broad scale. You are being invited to join in a conversation to presenting him with the hard challenging questions that are your personal hesitations/stumbling blocks/fears to see if we can address them together. \nJoin us for breakfast\, insightful conversation\, and networking. Email jtingley@humanserviceforum.org for diet restrictions or other accommodations. \n$45 for HSF Members     $65 for Not Yet Members \n \n\nThank you to Our Breakfast Sponsors\n\n\n\n\n  \n  \n \n\n  \n  \nThank You to Our Annual Sponsors\n  \n 
URL:https://www.humanserviceforum.org/event/hsf-breakfast-ethical-uses-of-a-i-asking-the-hard-questions/
LOCATION:Mount Holyoke College Willits-Hallowell Center\, 50 College Street\, South Hadley\, MA\, United States
CATEGORIES:Breakfast,Community Calendar,HSF Event,HSF Member Event,HSF Non Member Event
ATTACH;FMTTYPE=image/png:https://www.humanserviceforum.org/wp-content/uploads/2024/09/coffee-and-AI.png
GEO:42.2578819;-72.5739267
X-APPLE-STRUCTURED-LOCATION;VALUE=URI;X-ADDRESS=Mount Holyoke College Willits-Hallowell Center 50 College Street South Hadley MA United States;X-APPLE-RADIUS=500;X-TITLE=50 College Street:geo:-72.5739267,42.2578819
END:VEVENT
BEGIN:VEVENT
DTSTART;TZID=America/New_York:20240627T080000
DTEND;TZID=America/New_York:20240627T090000
DTSTAMP:20260423T114538
CREATED:20231212T160605Z
LAST-MODIFIED:20240604T144513Z
UID:10001113-1719475200-1719478800@www.humanserviceforum.org
SUMMARY:Coffee and Catchafire Hour
DESCRIPTION:Register Now\nThis month we are focused on saving members money.  Help us help you\, we are trying to reach the 1 MILLION DOLLARS IN SAVINGS for our members through Catchafire use.  How much of the million in savings is for your agency?   YOU DECIDE! \nSenior staff of HSF members are invited to have Coffee and this month Catchafire with Becca.  This is a chance to get together to talk about ways to take advantage of free savings with Catchafire.  Becca will be available to help start any projects you may be thinking of.  Future sessions may have speakers on relevant topics. This is a member only event. Coffee  will be provided but feel free to bring your own food and drink!  This will be a hybrid event this month. \n  \nWhen\nThursday June 27\, 2024 from 8:00 AM to 9:00 AM EST\n\n\nProgram Fee \nHSF Members only: $15.00\n  \nWhere\nHSF offices locates at\nNortheast Center for Youth and Families Building\n203 East Street\nEasthampton\, MA\n\nAnnual Sponsors:\n\n   \n\n \n\n\n\n\n\n\n\n\n\n\n Add to calendar
URL:https://www.humanserviceforum.org/event/56694/
LOCATION:MA
CATEGORIES:Breakfast,Community Calendar,HSF Event,HSF Member Event
ATTACH;FMTTYPE=image/png:https://www.humanserviceforum.org/wp-content/uploads/2023/12/coffee-800.png
END:VEVENT
BEGIN:VEVENT
DTSTART;TZID=America/New_York:20240521T073000
DTEND;TZID=America/New_York:20240521T100000
DTSTAMP:20260423T114538
CREATED:20240308T164616Z
LAST-MODIFIED:20240514T153124Z
UID:10002004-1716276600-1716285600@www.humanserviceforum.org
SUMMARY:May 2024 Breakfast- Strategic Planning Needs a Redo
DESCRIPTION:Many people dread the strategic planning process for good reasons. Strategic plans are intended to help organizations improve\, and yet we use very little of what we know about change management and sustainable improvement in the strategic planning process. This results in a less engaging\, more time-consuming\, and less effective process. It doesn’t have to be this way. \nThis session will introduce participants to a more inclusive approach to starting their strategic planning. Jeff Wetherhold is a change management expert who has helped hundreds of teams make and sustain changes to improve client outcomes. Jeff will discuss how the strategic planning process changes when we approach it with a mindset of change management and improvement\, and he will share practical ways to improve existing strategic plans that he finds most organizations ignore. \n \nAbout the Presenter: \n \nJeff Wetherhold\, M.Ed.\, advises mission-driven organizations who need to see change. He is a trainer and coach with 15+ years of experience supporting hundreds of teams in making and sustaining changes to improve client outcomes. Jeff’s work focuses on the disciplines of strategic planning\, motivational interviewing\, and process improvement. \nJeff is a firm believer that it is not enough to walk clients through a change process. They deserve to learn from it\, and to build skills that they can continue to use throughout their careers. \nJeff has supported a broad range of change initiatives in the health care\, education\, community services\, and private sectors over the course of his career.  As the Co-founder and Principal at Ohia Advisors\, Jeff partners with organizations seeking to advance the health and well-being of their staff\, clients\, and communities through process improvement and strategic planning. This includes clients with national\, regional\, and local scopes of service. \nMost recently\, Jeff has founded MI for Health to provide accessible and skills-focused training and coaching in applying Motivational Interviewing to improve conversations about change with patients\, clients\, and staff. \nJeff is a member of the Motivational Interviewing Network of Trainers and a faculty member with the Institute for Healthcare Improvement\, where he supports health care facilities in adopting evidence-based safety practices using improvement methods. He is based on Boston\, Massachusetts. \nHSF Annual Sponsors: \n       \n  \n  \n  \n  \n  \n  \n  \n  \n  \n  \n  \n  \n  \n  \n  \nHSF Breakfast Sponsors: \n \n  \n  \n  \n  \n  \n 
URL:https://www.humanserviceforum.org/event/may-2024-breakfast-making-a-strategic-plan/
LOCATION:Mount Holyoke College Willits-Hallowell Center\, 50 College Street\, South Hadley\, MA\, United States
CATEGORIES:Breakfast,Community Calendar,HSF Event,HSF Member Event,HSF Non Member Event
ATTACH;FMTTYPE=image/jpeg:https://www.humanserviceforum.org/wp-content/uploads/2024/03/2.jpg
GEO:42.2578819;-72.5739267
X-APPLE-STRUCTURED-LOCATION;VALUE=URI;X-ADDRESS=Mount Holyoke College Willits-Hallowell Center 50 College Street South Hadley MA United States;X-APPLE-RADIUS=500;X-TITLE=50 College Street:geo:-72.5739267,42.2578819
END:VEVENT
BEGIN:VEVENT
DTSTART;TZID=America/New_York:20240307T090000
DTEND;TZID=America/New_York:20240307T100000
DTSTAMP:20260423T114538
CREATED:20240221T192742Z
LAST-MODIFIED:20240228T125818Z
UID:10001923-1709802000-1709805600@www.humanserviceforum.org
SUMMARY:SUPERSIZE YOUR TEAM WHILE YOU INVEST IN RETENTION- Free Introductory Session to Matanor's My Superpower Teambuilding Training.
DESCRIPTION:Registration is now closed\, please contact Jeff\, jtingley@humanserviceforum.org with any inquiries.\nJoin us for a free introduction to our special teambuilding and retention training series\, presented by international trainer\, Matanor. Learn how to tap into your team’s superpowers\, letting them bring more of themselves into the workplace so they are more valuable and feel more valued.\n\n\n“The feedback was amazing. Matanor has a unique ability to get others to “open up” and “be real.” I heard that during the sessions\, Directors came together\, shared thoughts and at times got emotional. They broke some of the barriers that were created by a couple years of difficult times due to COVID and short staffing…  \nEven a member of the training with the maintenance and facilities group said that her most important comment about the program was that the training should have been longer.”\n\n– Jay Talbot- Vice President of Human Resources\, Guidewire \n\n\nMeet Matanor:\nMatanor has a been working in the leadership field for 20 years. His passion for the work comes from his fascination with people and his belief that being part of a team is a place of personal and professional development. He holds a bachelor’s degree in Behavioral Science from The Academic College of Tel-Aviv’ Yafo\, A master’s degree in Political Science and Government from University of Haifa and Master of Education- MEd from Kibbutzim College. He currently lives in Israel with his husband of 2 years and enjoys international travel\, exploring new cultures\, cooking and hanging out with his nieces and nephews.
URL:https://www.humanserviceforum.org/event/supersize-your-team-while-you-invest-in-retention-free-introductory-session-to-matanors-my-superpower-teambuilding-training/
LOCATION:Zoom
CATEGORIES:Breakfast,Community Calendar,HSF Event,HSF Member Event,Workshop
ATTACH;FMTTYPE=image/png:https://www.humanserviceforum.org/wp-content/uploads/2024/02/Copy-of-HSF-Event-Program-Image-Template-5.png
END:VEVENT
BEGIN:VEVENT
DTSTART;TZID=America/New_York:20240213T073000
DTEND;TZID=America/New_York:20240213T100000
DTSTAMP:20260423T114538
CREATED:20231120T171350Z
LAST-MODIFIED:20240212T173846Z
UID:10001056-1707809400-1707818400@www.humanserviceforum.org
SUMMARY:February 2024 Breakfast- Artificial Intelligence\, Human Service
DESCRIPTION:This event is now going to be virtual due to impending storm.  Registrants should check their email for the event link.  Contact proot@humanserviceforum.org with any questions.\nNo matter how you feel about artificial intelligence\, it is not going away and will be more and more prevalent as time roles forward. Find out more about it\, whether or not to use\, how\, and for what.  Delcie Bean\, of Tech Foundry and Paragus Strategic IT\, shares his vast knowledge over a delicious breakfast. \nNetworking\, thought provoking presentation\, and great food on February 13th. \nBreakfast Speaker: \nDelcie Bean always wanted to create a company where he was excited to come to work every day and where his co-workers felt more like friends and family. This vision has carried Paragus through its growth and transition to employee ownership. His passion for economic development projects in the Valley led him to create Tech Foundry\, a technology education nonprofit. When he’s not working\, he loves spending time with his family\, hiking\, trail riding and enjoying ice cold grapefruit juice. \n \n  \n  \n  \n  \n  \n  \n  \n  \n  \n  \n  \n  \nHSF Annual Sponsors: \n \n  \n  \n \n  \n \n  \n \n  \n  \n  \n  \n  \nHSF Breakfast Sponsors:
URL:https://www.humanserviceforum.org/event/february-2024-breakfast-artificial-intelligence-human-service/
LOCATION:Mount Holyoke College Willits-Hallowell Center\, 50 College Street\, South Hadley\, MA\, United States
CATEGORIES:Breakfast,Community Calendar,HSF Event,HSF Member Event,HSF Non Member Event
ATTACH;FMTTYPE=image/png:https://www.humanserviceforum.org/wp-content/uploads/2023/11/Copy-of-HSF-Event-Program-Image-Template-1.png
GEO:42.2578819;-72.5739267
X-APPLE-STRUCTURED-LOCATION;VALUE=URI;X-ADDRESS=Mount Holyoke College Willits-Hallowell Center 50 College Street South Hadley MA United States;X-APPLE-RADIUS=500;X-TITLE=50 College Street:geo:-72.5739267,42.2578819
END:VEVENT
END:VCALENDAR