BEGIN:VCALENDAR
VERSION:2.0
PRODID:-//Human Service Forum - ECPv6.15.20//NONSGML v1.0//EN
CALSCALE:GREGORIAN
METHOD:PUBLISH
X-WR-CALNAME:Human Service Forum
X-ORIGINAL-URL:https://www.humanserviceforum.org
X-WR-CALDESC:Events for Human Service Forum
REFRESH-INTERVAL;VALUE=DURATION:PT1H
X-Robots-Tag:noindex
X-PUBLISHED-TTL:PT1H
BEGIN:VTIMEZONE
TZID:America/New_York
BEGIN:DAYLIGHT
TZOFFSETFROM:-0500
TZOFFSETTO:-0400
TZNAME:EDT
DTSTART:20250309T070000
END:DAYLIGHT
BEGIN:STANDARD
TZOFFSETFROM:-0400
TZOFFSETTO:-0500
TZNAME:EST
DTSTART:20251102T060000
END:STANDARD
BEGIN:DAYLIGHT
TZOFFSETFROM:-0500
TZOFFSETTO:-0400
TZNAME:EDT
DTSTART:20260308T070000
END:DAYLIGHT
BEGIN:STANDARD
TZOFFSETFROM:-0400
TZOFFSETTO:-0500
TZNAME:EST
DTSTART:20261101T060000
END:STANDARD
BEGIN:DAYLIGHT
TZOFFSETFROM:-0500
TZOFFSETTO:-0400
TZNAME:EDT
DTSTART:20270314T070000
END:DAYLIGHT
BEGIN:STANDARD
TZOFFSETFROM:-0400
TZOFFSETTO:-0500
TZNAME:EST
DTSTART:20271107T060000
END:STANDARD
END:VTIMEZONE
BEGIN:VEVENT
DTSTART;TZID=America/New_York:20260505T090000
DTEND;TZID=America/New_York:20260505T103000
DTSTAMP:20260423T115752
CREATED:20260302T154542Z
LAST-MODIFIED:20260302T154542Z
UID:10007622-1777971600-1777977000@www.humanserviceforum.org
SUMMARY:HSF Virtual HR Roundtable
DESCRIPTION:Open to HSF Members. Join us for a monthly discussion with fellow HR professionals from human service organizations. Connect with others doing similar work\, share challenges\, and explore solutions. We are stronger together. \n  \nGet updates on any Roundtables by registering here: https://lp.constantcontactpages.com/ev/reg/3s7thg3 \n  \nIf you have not previously attended\, or are not registered please contact Jeff Tingley for more information. \n 
URL:https://www.humanserviceforum.org/event/hsf-virtual-hr-roundtable-3/2026-05-05/
LOCATION:Online via Zoom
CATEGORIES:Community Calendar,HSF Event,HSF Member Event,HSF Non Member Event
ATTACH;FMTTYPE=image/png:https://www.humanserviceforum.org/wp-content/uploads/2025/07/HR-Roundtable.png
END:VEVENT
BEGIN:VEVENT
DTSTART;TZID=America/New_York:20260602T090000
DTEND;TZID=America/New_York:20260602T103000
DTSTAMP:20260423T115752
CREATED:20260302T154542Z
LAST-MODIFIED:20260302T154542Z
UID:10007939-1780390800-1780396200@www.humanserviceforum.org
SUMMARY:HSF Virtual HR Roundtable
DESCRIPTION:Open to HSF Members. Join us for a monthly discussion with fellow HR professionals from human service organizations. Connect with others doing similar work\, share challenges\, and explore solutions. We are stronger together. \n  \nGet updates on any Roundtables by registering here: https://lp.constantcontactpages.com/ev/reg/3s7thg3 \n  \nIf you have not previously attended\, or are not registered please contact Jeff Tingley for more information. \n 
URL:https://www.humanserviceforum.org/event/hsf-virtual-hr-roundtable-3/2026-06-02/
LOCATION:Online via Zoom
CATEGORIES:Community Calendar,HSF Event,HSF Member Event,HSF Non Member Event
ATTACH;FMTTYPE=image/png:https://www.humanserviceforum.org/wp-content/uploads/2025/07/HR-Roundtable.png
END:VEVENT
BEGIN:VEVENT
DTSTART;TZID=America/New_York:20260707T090000
DTEND;TZID=America/New_York:20260707T103000
DTSTAMP:20260423T115753
CREATED:20260302T154542Z
LAST-MODIFIED:20260302T154542Z
UID:10007940-1783414800-1783420200@www.humanserviceforum.org
SUMMARY:HSF Virtual HR Roundtable
DESCRIPTION:Open to HSF Members. Join us for a monthly discussion with fellow HR professionals from human service organizations. Connect with others doing similar work\, share challenges\, and explore solutions. We are stronger together. \n  \nGet updates on any Roundtables by registering here: https://lp.constantcontactpages.com/ev/reg/3s7thg3 \n  \nIf you have not previously attended\, or are not registered please contact Jeff Tingley for more information. \n 
URL:https://www.humanserviceforum.org/event/hsf-virtual-hr-roundtable-3/2026-07-07/
LOCATION:Online via Zoom
CATEGORIES:Community Calendar,HSF Event,HSF Member Event,HSF Non Member Event
ATTACH;FMTTYPE=image/png:https://www.humanserviceforum.org/wp-content/uploads/2025/07/HR-Roundtable.png
END:VEVENT
BEGIN:VEVENT
DTSTART;TZID=America/New_York:20260804T090000
DTEND;TZID=America/New_York:20260804T103000
DTSTAMP:20260423T115753
CREATED:20260302T154542Z
LAST-MODIFIED:20260302T154542Z
UID:10007941-1785834000-1785839400@www.humanserviceforum.org
SUMMARY:HSF Virtual HR Roundtable
DESCRIPTION:Open to HSF Members. Join us for a monthly discussion with fellow HR professionals from human service organizations. Connect with others doing similar work\, share challenges\, and explore solutions. We are stronger together. \n  \nGet updates on any Roundtables by registering here: https://lp.constantcontactpages.com/ev/reg/3s7thg3 \n  \nIf you have not previously attended\, or are not registered please contact Jeff Tingley for more information. \n 
URL:https://www.humanserviceforum.org/event/hsf-virtual-hr-roundtable-3/2026-08-04/
LOCATION:Online via Zoom
CATEGORIES:Community Calendar,HSF Event,HSF Member Event,HSF Non Member Event
ATTACH;FMTTYPE=image/png:https://www.humanserviceforum.org/wp-content/uploads/2025/07/HR-Roundtable.png
END:VEVENT
END:VCALENDAR