BEGIN:VCALENDAR
VERSION:2.0
PRODID:-//Human Service Forum - ECPv6.15.20//NONSGML v1.0//EN
CALSCALE:GREGORIAN
METHOD:PUBLISH
X-WR-CALNAME:Human Service Forum
X-ORIGINAL-URL:https://www.humanserviceforum.org
X-WR-CALDESC:Events for Human Service Forum
REFRESH-INTERVAL;VALUE=DURATION:PT1H
X-Robots-Tag:noindex
X-PUBLISHED-TTL:PT1H
BEGIN:VTIMEZONE
TZID:America/New_York
BEGIN:DAYLIGHT
TZOFFSETFROM:-0500
TZOFFSETTO:-0400
TZNAME:EDT
DTSTART:20240310T070000
END:DAYLIGHT
BEGIN:STANDARD
TZOFFSETFROM:-0400
TZOFFSETTO:-0500
TZNAME:EST
DTSTART:20241103T060000
END:STANDARD
BEGIN:DAYLIGHT
TZOFFSETFROM:-0500
TZOFFSETTO:-0400
TZNAME:EDT
DTSTART:20250309T070000
END:DAYLIGHT
BEGIN:STANDARD
TZOFFSETFROM:-0400
TZOFFSETTO:-0500
TZNAME:EST
DTSTART:20251102T060000
END:STANDARD
BEGIN:DAYLIGHT
TZOFFSETFROM:-0500
TZOFFSETTO:-0400
TZNAME:EDT
DTSTART:20260308T070000
END:DAYLIGHT
BEGIN:STANDARD
TZOFFSETFROM:-0400
TZOFFSETTO:-0500
TZNAME:EST
DTSTART:20261101T060000
END:STANDARD
END:VTIMEZONE
BEGIN:VEVENT
DTSTART;TZID=America/New_York:20251203T080000
DTEND;TZID=America/New_York:20251203T170000
DTSTAMP:20260424T005700
CREATED:20251202T145003Z
LAST-MODIFIED:20251202T213319Z
UID:10007662-1764748800-1764781200@www.humanserviceforum.org
SUMMARY:WIC Toy & Diaper Drive
DESCRIPTION:WIC Toy & Diaper Drive \nOur WIC program is conducting a toy and diaper drive this season to benefit Springfield North WIC infants and children. We are accepting toys through December 16th! \nYou can drop off items here: \nEast Forest Park Library \n136 Surrey Rd\, Springfield \nWest Springfield Town Hall \n26 Central St \nOr drop off items at our 3 WIC sites: \n1985 Main St\, Springfield \n281 Cottage St\, Springfield \n425 Union St.\, Level D\, West Springfield
URL:https://www.humanserviceforum.org/event/wic-toy-diaper-drive/2025-12-03/
LOCATION:MA
CATEGORIES:Community Calendar
ATTACH;FMTTYPE=image/jpeg:https://www.humanserviceforum.org/wp-content/uploads/2025/12/toys.jpg
ORGANIZER;CN="Tapestry Health":MAILTO:events@tapestryhealth.org
END:VEVENT
BEGIN:VEVENT
DTSTART;TZID=America/New_York:20251210T080000
DTEND;TZID=America/New_York:20251210T170000
DTSTAMP:20260424T005700
CREATED:20251202T145003Z
LAST-MODIFIED:20251202T213319Z
UID:10007663-1765353600-1765386000@www.humanserviceforum.org
SUMMARY:WIC Toy & Diaper Drive
DESCRIPTION:WIC Toy & Diaper Drive \nOur WIC program is conducting a toy and diaper drive this season to benefit Springfield North WIC infants and children. We are accepting toys through December 16th! \nYou can drop off items here: \nEast Forest Park Library \n136 Surrey Rd\, Springfield \nWest Springfield Town Hall \n26 Central St \nOr drop off items at our 3 WIC sites: \n1985 Main St\, Springfield \n281 Cottage St\, Springfield \n425 Union St.\, Level D\, West Springfield
URL:https://www.humanserviceforum.org/event/wic-toy-diaper-drive/2025-12-10/
LOCATION:MA
CATEGORIES:Community Calendar
ATTACH;FMTTYPE=image/jpeg:https://www.humanserviceforum.org/wp-content/uploads/2025/12/toys.jpg
ORGANIZER;CN="Tapestry Health":MAILTO:events@tapestryhealth.org
END:VEVENT
END:VCALENDAR