BEGIN:VCALENDAR
VERSION:2.0
PRODID:-//Human Service Forum - ECPv6.15.20//NONSGML v1.0//EN
CALSCALE:GREGORIAN
METHOD:PUBLISH
X-ORIGINAL-URL:https://www.humanserviceforum.org
X-WR-CALDESC:Events for Human Service Forum
REFRESH-INTERVAL;VALUE=DURATION:PT1H
X-Robots-Tag:noindex
X-PUBLISHED-TTL:PT1H
BEGIN:VTIMEZONE
TZID:America/New_York
BEGIN:DAYLIGHT
TZOFFSETFROM:-0500
TZOFFSETTO:-0400
TZNAME:EDT
DTSTART:20250309T070000
END:DAYLIGHT
BEGIN:STANDARD
TZOFFSETFROM:-0400
TZOFFSETTO:-0500
TZNAME:EST
DTSTART:20251102T060000
END:STANDARD
BEGIN:DAYLIGHT
TZOFFSETFROM:-0500
TZOFFSETTO:-0400
TZNAME:EDT
DTSTART:20260308T070000
END:DAYLIGHT
BEGIN:STANDARD
TZOFFSETFROM:-0400
TZOFFSETTO:-0500
TZNAME:EST
DTSTART:20261101T060000
END:STANDARD
BEGIN:DAYLIGHT
TZOFFSETFROM:-0500
TZOFFSETTO:-0400
TZNAME:EDT
DTSTART:20270314T070000
END:DAYLIGHT
BEGIN:STANDARD
TZOFFSETFROM:-0400
TZOFFSETTO:-0500
TZNAME:EST
DTSTART:20271107T060000
END:STANDARD
END:VTIMEZONE
BEGIN:VEVENT
DTSTART;TZID=America/New_York:20260102T080000
DTEND;TZID=America/New_York:20260102T170000
DTSTAMP:20260423T231336
CREATED:20251209T183627Z
LAST-MODIFIED:20251209T183740Z
UID:10007675-1767340800-1767373200@www.humanserviceforum.org
SUMMARY:Winter Session Registration Open
DESCRIPTION:Registration for our winter session is officially open! Classes start Jan. 6 and run until Feb. 28. View the full class catalog and register: https://hubs.la/Q03VsSwQ0\n\n\nThese social and recreational classes are open to people of ALL abilities\, from age 3 through adulthood\, with a focus on making them inclusive and accessible for everyone. Classes include interests like performing arts\, gaming\, movement\, and more. All age ranges are suggestions.\n\n\nWinter membership also gets you FREE entry to our special event nights. This session we have a Holiday Party\, Movie Night\, and Pal-entine’s Karaoke Party (all are open to the public/non-members for $10 each).
URL:https://www.humanserviceforum.org/event/winter-session-registration-open/2026-01-02/
CATEGORIES:Community Calendar,HSF Member Event
ATTACH;FMTTYPE=image/jpeg:https://www.humanserviceforum.org/wp-content/uploads/2025/12/classes.jpg
END:VEVENT
BEGIN:VEVENT
DTSTART;TZID=America/New_York:20260103T090000
DTEND;TZID=America/New_York:20260103T113000
DTSTAMP:20260423T231336
CREATED:20251209T154442Z
LAST-MODIFIED:20251209T165447Z
UID:10007671-1767430800-1767439800@www.humanserviceforum.org
SUMMARY:South End Community Center Winter  Basketball
DESCRIPTION:
URL:https://www.humanserviceforum.org/event/winter-itty-bitty-basketball/
CATEGORIES:Community Calendar,HSF Member Event
END:VEVENT
END:VCALENDAR