BEGIN:VCALENDAR
VERSION:2.0
PRODID:-//Human Service Forum - ECPv6.15.20//NONSGML v1.0//EN
CALSCALE:GREGORIAN
METHOD:PUBLISH
X-WR-CALNAME:Human Service Forum
X-ORIGINAL-URL:https://www.humanserviceforum.org
X-WR-CALDESC:Events for Human Service Forum
REFRESH-INTERVAL;VALUE=DURATION:PT1H
X-Robots-Tag:noindex
X-PUBLISHED-TTL:PT1H
BEGIN:VTIMEZONE
TZID:America/New_York
BEGIN:DAYLIGHT
TZOFFSETFROM:-0500
TZOFFSETTO:-0400
TZNAME:EDT
DTSTART:20230312T070000
END:DAYLIGHT
BEGIN:STANDARD
TZOFFSETFROM:-0400
TZOFFSETTO:-0500
TZNAME:EST
DTSTART:20231105T060000
END:STANDARD
BEGIN:DAYLIGHT
TZOFFSETFROM:-0500
TZOFFSETTO:-0400
TZNAME:EDT
DTSTART:20240310T070000
END:DAYLIGHT
BEGIN:STANDARD
TZOFFSETFROM:-0400
TZOFFSETTO:-0500
TZNAME:EST
DTSTART:20241103T060000
END:STANDARD
BEGIN:DAYLIGHT
TZOFFSETFROM:-0500
TZOFFSETTO:-0400
TZNAME:EDT
DTSTART:20250309T070000
END:DAYLIGHT
BEGIN:STANDARD
TZOFFSETFROM:-0400
TZOFFSETTO:-0500
TZNAME:EST
DTSTART:20251102T060000
END:STANDARD
END:VTIMEZONE
BEGIN:VEVENT
DTSTART;TZID=America/New_York:20240926T080000
DTEND;TZID=America/New_York:20240926T100000
DTSTAMP:20260424T113344
CREATED:20240821T105353Z
LAST-MODIFIED:20240821T105353Z
UID:10003281-1727337600-1727344800@www.humanserviceforum.org
SUMMARY:September Executive Forum
DESCRIPTION:Thursday\, September 26\, 2024 8:00 AM – 10:00 AM   Export to iCalendarEastern Standard Time \nJoin AIM for the “2025 Economic Outlook” featuring Massachusetts Secretary of Administration and Finance Matthew Gorzkowicz who will share his projections for where our state economy is headed\, how the current and next year’s budgets are shaping up and what trends/issues will require focus and attention. Topics discussed will include – revenue projects\, health care\, insurance and migrant costs\, ways to strengthen and take advantage of untapped parts of our workforce\, ways to continue to keep the Commonwealth competitive and attract and retain businesses.  \n8-9am: Coffee and Conversation \n9-10am: Economic Outlook \n  \nSpace is limited. Reserve your seat today! 
URL:https://www.humanserviceforum.org/event/september-executive-forum/
CATEGORIES:Community Calendar,HSF Member Event
END:VEVENT
BEGIN:VEVENT
DTSTART;TZID=America/New_York:20240314T080000
DTEND;TZID=America/New_York:20240314T100000
DTSTAMP:20260424T113344
CREATED:20240301T132000Z
LAST-MODIFIED:20240301T132000Z
UID:10001993-1710403200-1710410400@www.humanserviceforum.org
SUMMARY:Executive Forum
DESCRIPTION:This is an exclusive opportunity to connect with fellow industry leaders\, gain insights from a key player in the Massachusetts business landscape\, and network with professionals from across the Commonwealth.\nEvent Details: \nDate: Thursday\, March 14th\, 2024 \nTime: 8:00 AM to 10:00 AM \nLocation: Alkermes\, Inc. – 900 Winter St\, Waltham\, MA 02451\nAgenda: \n8:00 AM to 9:00 AM: Networking \n9:00 AM to 10:00 AM: Remarks and Conversation with Sarah Iselin\nThis event is FREE for all attendees so don’t miss out on an opportunity to hear from the President and CEO of the largest health plan in the state. Time is running out so register now to secure your seat!
URL:https://www.humanserviceforum.org/event/executive-forum/
CATEGORIES:Community Calendar,HSF Member Event
END:VEVENT
END:VCALENDAR