BEGIN:VCALENDAR
VERSION:2.0
PRODID:-//Human Service Forum - ECPv6.15.20//NONSGML v1.0//EN
CALSCALE:GREGORIAN
METHOD:PUBLISH
X-ORIGINAL-URL:https://www.humanserviceforum.org
X-WR-CALDESC:Events for Human Service Forum
REFRESH-INTERVAL;VALUE=DURATION:PT1H
X-Robots-Tag:noindex
X-PUBLISHED-TTL:PT1H
BEGIN:VTIMEZONE
TZID:America/New_York
BEGIN:DAYLIGHT
TZOFFSETFROM:-0500
TZOFFSETTO:-0400
TZNAME:EDT
DTSTART:20230312T070000
END:DAYLIGHT
BEGIN:STANDARD
TZOFFSETFROM:-0400
TZOFFSETTO:-0500
TZNAME:EST
DTSTART:20231105T060000
END:STANDARD
BEGIN:DAYLIGHT
TZOFFSETFROM:-0500
TZOFFSETTO:-0400
TZNAME:EDT
DTSTART:20240310T070000
END:DAYLIGHT
BEGIN:STANDARD
TZOFFSETFROM:-0400
TZOFFSETTO:-0500
TZNAME:EST
DTSTART:20241103T060000
END:STANDARD
BEGIN:DAYLIGHT
TZOFFSETFROM:-0500
TZOFFSETTO:-0400
TZNAME:EDT
DTSTART:20250309T070000
END:DAYLIGHT
BEGIN:STANDARD
TZOFFSETFROM:-0400
TZOFFSETTO:-0500
TZNAME:EST
DTSTART:20251102T060000
END:STANDARD
BEGIN:DAYLIGHT
TZOFFSETFROM:-0500
TZOFFSETTO:-0400
TZNAME:EDT
DTSTART:20260308T070000
END:DAYLIGHT
BEGIN:STANDARD
TZOFFSETFROM:-0400
TZOFFSETTO:-0500
TZNAME:EST
DTSTART:20261101T060000
END:STANDARD
BEGIN:DAYLIGHT
TZOFFSETFROM:-0500
TZOFFSETTO:-0400
TZNAME:EDT
DTSTART:20270314T070000
END:DAYLIGHT
BEGIN:STANDARD
TZOFFSETFROM:-0400
TZOFFSETTO:-0500
TZNAME:EST
DTSTART:20271107T060000
END:STANDARD
END:VTIMEZONE
BEGIN:VEVENT
DTSTART;TZID=America/New_York:20260418T120000
DTEND;TZID=America/New_York:20260418T160000
DTSTAMP:20260423T181636
CREATED:20260310T145326Z
LAST-MODIFIED:20260310T145326Z
UID:10007961-1776513600-1776528000@www.humanserviceforum.org
SUMMARY:18th Annual Empty Bowls
DESCRIPTION:Join us for the 18th Annual Empty Bowls\, a beloved community tradition held during a milestone year as the Amherst Survival Center celebrates 50 years of serving our neighbors with dignity and compassion. \nSpend the evening enjoying a delicious\, hearty soup prepared by your favorite local restaurants while connecting with community leaders\, special guest hosts\, and live music. Choose a beautiful handmade bowl from hundreds generously crafted and donated by local artists — a meaningful keepsake and symbol of the collective care that has sustained our community for five decades. \nAlongside comforting soups\, guests will enjoy fresh bread\, salad\, and dessert\, with vegetarian\, vegan\, and gluten-free options available so everyone can gather at the table. \nFor 50 years\, the Amherst Survival Center has worked to ensure no one in our community goes hungry. Today\, more than 12\,000 neighbors rely on our Food and Nutrition Programs each year. Every ticket purchased and every donation made at Empty Bowls helps fill empty bowls — not just for one evening\, but throughout the year ahead.
URL:https://www.humanserviceforum.org/event/18th-annual-empty-bowls/
CATEGORIES:Community Calendar,HSF Member Event
ATTACH;FMTTYPE=image/jpeg:https://www.humanserviceforum.org/wp-content/uploads/2026/03/amherst-bowl.jpg
END:VEVENT
BEGIN:VEVENT
DTSTART;TZID=America/New_York:20260119T100000
DTEND;TZID=America/New_York:20260119T130000
DTSTAMP:20260423T181636
CREATED:20260113T142757Z
LAST-MODIFIED:20260113T142757Z
UID:10007797-1768816800-1768827600@www.humanserviceforum.org
SUMMARY:Light & Love Community Food Drive for MLK Day
DESCRIPTION:
URL:https://www.humanserviceforum.org/event/light-love-community-food-drive-for-mlk-day/
CATEGORIES:Community Calendar,HSF Member Event
END:VEVENT
BEGIN:VEVENT
DTSTART;TZID=America/New_York:20251129T080000
DTEND;TZID=America/New_York:20251129T170000
DTSTAMP:20260423T181636
CREATED:20251029T121222Z
LAST-MODIFIED:20251105T125915Z
UID:10007579-1764403200-1764435600@www.humanserviceforum.org
SUMMARY:Holiday Gift Drive
DESCRIPTION:Amherst Survival Center holiday gift drive\n  \nAmherst Survival Center is accepting NEW children’s books\, games\, toys\, and winter accessories for ALL ages from now until December 31st. Households with children are welcome to shop during their pantry visit throughout the month of December. Have any questions? Please reach out to Miranda.
URL:https://www.humanserviceforum.org/event/holiday-gift-drive/2025-11-29/
CATEGORIES:Community Calendar,HSF Member Event
END:VEVENT
BEGIN:VEVENT
DTSTART;TZID=America/New_York:20250611T173000
DTEND;TZID=America/New_York:20250611T190000
DTSTAMP:20260423T181636
CREATED:20250603T144609Z
LAST-MODIFIED:20250603T144609Z
UID:10007083-1749663000-1749668400@www.humanserviceforum.org
SUMMARY:ASC Annual Meeting
DESCRIPTION:
URL:https://www.humanserviceforum.org/event/asc-annual-meeting/
CATEGORIES:Community Calendar,HSF Member Event
END:VEVENT
BEGIN:VEVENT
DTSTART;TZID=America/New_York:20250604T190000
DTEND;TZID=America/New_York:20250604T190000
DTSTAMP:20260423T181636
CREATED:20250527T161736Z
LAST-MODIFIED:20250527T161736Z
UID:10007068-1749063600-1749063600@www.humanserviceforum.org
SUMMARY:Amherst Survival Center Benefit Show
DESCRIPTION:Check out this star-studded concert performance to benefit the Amherst Survival Center\, just two weeks away at TheDrake in downtown Amherst! Join us for the “Living to the Fullest” album release show by Donnie Gallagher & Friends\, with special guests Peter Newland and Radio X\, and more. \nWednesday\, June 4\, 2025The Drake Performance Venue7:00 PM (Doors open at 6PM)General Admission (Seated)$25 advanced\, $30 at the doorTicket and merchandise proceeds will directly benefit the Amherst Survival Center and can be found on the Drake’s website: www.thedrakeamherst.org
URL:https://www.humanserviceforum.org/event/amherst-survival-center-benefit-show/
CATEGORIES:Community Calendar,HSF Member Event
ATTACH;FMTTYPE=image/jpeg:https://www.humanserviceforum.org/wp-content/uploads/2025/05/amherst1.jpg
END:VEVENT
BEGIN:VEVENT
DTSTART;TZID=America/New_York:20250426T090000
DTEND;TZID=America/New_York:20250426T130000
DTSTAMP:20260423T181636
CREATED:20250402T104402Z
LAST-MODIFIED:20250402T104402Z
UID:10005509-1745658000-1745672400@www.humanserviceforum.org
SUMMARY:UMASS 5K Dash and Dine
DESCRIPTION:April 26 @ 9:00 AM\nWalk or run to benefit the Amherst Survival Center! \n$15.00 UMass & Five College Students\n$25.00 Faculty & Staff (*Day of Registration is $30.00)\n$30.00 General Public (*Day of Registration is $35.00) \nUMass Dining is excited to host the 14th Annual 5K Dash & Dine on Saturday\, April 26th\, 2025! This event is open to both students and the community with the goal to raise funds for the Amherst Survival Center. We hope you join us for lunch at one of our award-winning Dining Commons immediately after the event! \n09:00am Begin check in at the top of the Southwest Horseshoe\n10:00am Fun Run for children 8 and under\n11:00am Race begins\n11:30am Award Ceremony\n12:00pm Lunch \nPlease arrive no later than 10:30am to receive your race number and line up at the starting line. \nTo give additional donations to the Amherst Survival Center:
URL:https://www.humanserviceforum.org/event/umass-5k-dash-and-dine/
CATEGORIES:Community Calendar,HSF Member Event
END:VEVENT
BEGIN:VEVENT
DTSTART;TZID=America/New_York:20250405T120000
DTEND;TZID=America/New_York:20250405T160000
DTSTAMP:20260423T181636
CREATED:20250219T133014Z
LAST-MODIFIED:20250219T133014Z
UID:10005453-1743854400-1743868800@www.humanserviceforum.org
SUMMARY:Empty Bowls
DESCRIPTION:Join us for a heartwarming meal that makes a difference! Savor a delicious hearty soup while chatting with local celebrity hosts and enjoying live music\, pick out a gorgeous handmade bowl from a selection of hundreds donated by local artists\, and soak in the warmth of community spirit! With soups from your favorite local restaurants—plus bread\, salad\, and dessert—there’s a warm bowl of goodness for everyone\, including vegetarian\, vegan\, and gluten-free options! \nEvery ticket and every donation helps fill empty bowls for the 11\,500+ people who rely on our Food and Nutrition Programs each year.
URL:https://www.humanserviceforum.org/event/empty-bowls-2/
CATEGORIES:Community Calendar,HSF Member Event
ATTACH;FMTTYPE=image/jpeg:https://www.humanserviceforum.org/wp-content/uploads/2025/02/empty-bowls.jpg
END:VEVENT
BEGIN:VEVENT
DTSTART;TZID=America/New_York:20241222T120000
DTEND;TZID=America/New_York:20241222T160000
DTSTAMP:20260423T181636
CREATED:20241217T155606Z
LAST-MODIFIED:20241217T155606Z
UID:10005246-1734868800-1734883200@www.humanserviceforum.org
SUMMARY:Dreidel Painting Workshop
DESCRIPTION:Grab your family and head to The Mill District General Store and Local Art Gallery on Sunday\, December 22 from 12-4pm to paint a wooden dreidel!\nThis FREE\, family-friendly activity is perfect for kids of all ages. We will provide brushes\, one wooden dreidel per person\, and a choice between acrylic or tempura paint. Get ready to spend an enjoyable afternoon making memories at the gallery table with family and new friends! Wear clothes you don’t mind getting stained. Please RSVP via the ticket link.\nDonations accepted for the Amherst Survival Center.
URL:https://www.humanserviceforum.org/event/dreidel-painting-workshop/
CATEGORIES:Community Calendar,HSF Member Event
END:VEVENT
BEGIN:VEVENT
DTSTART;VALUE=DATE:20241001
DTEND;VALUE=DATE:20241002
DTSTAMP:20260423T181636
CREATED:20240925T104224Z
LAST-MODIFIED:20240925T104224Z
UID:10003501-1727740800-1727827199@www.humanserviceforum.org
SUMMARY:Hike for Hunger
DESCRIPTION:We’re banding together to Give Hunger the Boot! Hike for Hunger is a fun\, monthlong opportunity to explore outdoor spaces while raising funds for the Amherst Survival Center to ensure our neighbors have access to food. You can make a tangible impact and help raise vital funding by registering to hike or by supporting your favorite hiker with a donation! \nWant to join the fun? You can register as an individual or as part of a team and set your personal hiking goal. Once registered\, you’ll be able to access your own fundraising page to start collecting donations from family and friends. \nCome October\, head out on the trails wherever and whenever you’d like – with your family\, your friends\, or your fur friends – and share your adventures! You can also join one of our optional group hikes! Hike for Hunger runs from Oct 1 – 31. You have four weeks to reach your fundraising goal! \nProceeds from Hike for Hunger go directly to our food and nutrition programs\, which last year provided 1.6 million meals – prepared and groceries – to nearly 11\,000 neighbors. \nRegistration is a $25 donation\, and folks who register by Oct 1st can receive a complimentary Hike for Hunger t-shirt! There is no fundraising minimum\, but it is encouraged and those who fundraise will be eligible to earn great prizes!  
URL:https://www.humanserviceforum.org/event/hike-for-hunger/
CATEGORIES:Community Calendar,HSF Member Event
END:VEVENT
BEGIN:VEVENT
DTSTART;TZID=America/New_York:20240612T173000
DTEND;TZID=America/New_York:20240612T190000
DTSTAMP:20260423T181636
CREATED:20240604T132142Z
LAST-MODIFIED:20240604T132142Z
UID:10003037-1718213400-1718218800@www.humanserviceforum.org
SUMMARY:Amherst Survival Center Annual Meeting
DESCRIPTION:
URL:https://www.humanserviceforum.org/event/amherst-survival-center-annual-meeting/
CATEGORIES:Community Calendar,HSF Member Event
END:VEVENT
BEGIN:VEVENT
DTSTART;TZID=America/New_York:20240406T120000
DTEND;TZID=America/New_York:20240406T160000
DTSTAMP:20260423T181636
CREATED:20240313T160656Z
LAST-MODIFIED:20240313T160656Z
UID:10002078-1712404800-1712419200@www.humanserviceforum.org
SUMMARY:Empty Bowls
DESCRIPTION:Get your tickets now and join us at the Center anytime from 12:00-4:00 PM on Saturday April 6th for a delightful meal and table service by fabulous local celebrities! You’ll find gorgeous handmade bowls from local potters and delicious soup made by local restaurants and our very own kitchen! Vegetarian\, vegan\, and gluten-free soup options are available. Meals will be served with warm bread\, salad\, and a light dessert.
URL:https://www.humanserviceforum.org/event/empty-bowls/
CATEGORIES:Community Calendar,HSF Member Event
END:VEVENT
END:VCALENDAR