BEGIN:VCALENDAR
VERSION:2.0
PRODID:-//Human Service Forum - ECPv6.15.20//NONSGML v1.0//EN
CALSCALE:GREGORIAN
METHOD:PUBLISH
X-ORIGINAL-URL:https://www.humanserviceforum.org
X-WR-CALDESC:Events for Human Service Forum
REFRESH-INTERVAL;VALUE=DURATION:PT1H
X-Robots-Tag:noindex
X-PUBLISHED-TTL:PT1H
BEGIN:VTIMEZONE
TZID:America/New_York
BEGIN:DAYLIGHT
TZOFFSETFROM:-0500
TZOFFSETTO:-0400
TZNAME:EDT
DTSTART:20230312T070000
END:DAYLIGHT
BEGIN:STANDARD
TZOFFSETFROM:-0400
TZOFFSETTO:-0500
TZNAME:EST
DTSTART:20231105T060000
END:STANDARD
BEGIN:DAYLIGHT
TZOFFSETFROM:-0500
TZOFFSETTO:-0400
TZNAME:EDT
DTSTART:20240310T070000
END:DAYLIGHT
BEGIN:STANDARD
TZOFFSETFROM:-0400
TZOFFSETTO:-0500
TZNAME:EST
DTSTART:20241103T060000
END:STANDARD
BEGIN:DAYLIGHT
TZOFFSETFROM:-0500
TZOFFSETTO:-0400
TZNAME:EDT
DTSTART:20250309T070000
END:DAYLIGHT
BEGIN:STANDARD
TZOFFSETFROM:-0400
TZOFFSETTO:-0500
TZNAME:EST
DTSTART:20251102T060000
END:STANDARD
BEGIN:DAYLIGHT
TZOFFSETFROM:-0500
TZOFFSETTO:-0400
TZNAME:EDT
DTSTART:20260308T070000
END:DAYLIGHT
BEGIN:STANDARD
TZOFFSETFROM:-0400
TZOFFSETTO:-0500
TZNAME:EST
DTSTART:20261101T060000
END:STANDARD
BEGIN:DAYLIGHT
TZOFFSETFROM:-0500
TZOFFSETTO:-0400
TZNAME:EDT
DTSTART:20270314T070000
END:DAYLIGHT
BEGIN:STANDARD
TZOFFSETFROM:-0400
TZOFFSETTO:-0500
TZNAME:EST
DTSTART:20271107T060000
END:STANDARD
END:VTIMEZONE
BEGIN:VEVENT
DTSTART;TZID=America/New_York:20260206T180000
DTEND;TZID=America/New_York:20260206T190000
DTSTAMP:20260423T222317
CREATED:20260113T165735Z
LAST-MODIFIED:20260114T150754Z
UID:10007802-1770400800-1770404400@www.humanserviceforum.org
SUMMARY:From Heart Transplant Recipient to Transplant Cardiologist: A Personal Journey Through Modern Cardiac Medicine
DESCRIPTION:Information\n\n\nDate: February 26\, 2026\nTime: 6 pm – 7 pm\n\n\nLocation:Remote\n\n\n\n\n\n\n\n\n\n\nJoin Dr. Colby Salerno for a discussion about his extraordinary journey from heart transplant recipient to transplant cardiologist\, offering a rare perspective on modern cardiac medicine. The presentation will also explore advances in LVAD therapy\, heart transplantation\, and hypertrophic cardiomyopathy (HCM).
URL:https://www.humanserviceforum.org/event/from-heart-transplant-recipient-to-transplant-cardiologist-a-personal-journey-through-modern-cardiac-medicine/
CATEGORIES:Community Calendar,HSF Member Event
ATTACH;FMTTYPE=image/jpeg:https://www.humanserviceforum.org/wp-content/uploads/2026/01/feb-1.jpg
END:VEVENT
BEGIN:VEVENT
DTSTART;TZID=America/New_York:20250204T143000
DTEND;TZID=America/New_York:20250204T153000
DTSTAMP:20260423T222317
CREATED:20241219T155843Z
LAST-MODIFIED:20241219T155843Z
UID:10005257-1738679400-1738683000@www.humanserviceforum.org
SUMMARY:What's the Ringing in Your Ears?  Tinnitus Explained.
DESCRIPTION:Tinnitus is often described as a ringing in the ears\, but can also sound like buzzing\, roaring\, hissing\, or other noises. It is a common condition that affects millions of people. Join Jeanne Coburn\, AuD.\, CCC-A/S\, Audiologist\, Baystate Rehabilitation Care\, for a discussion about the types of tinnitus\, measuring and diagnosing as well as the treatments and therapies for some relief.
URL:https://www.humanserviceforum.org/event/whats-the-ringing-in-your-ears-tinnitus-explained/
CATEGORIES:Community Calendar,HSF Member Event
ATTACH;FMTTYPE=image/jpeg:https://www.humanserviceforum.org/wp-content/uploads/2024/12/ringing-in-your-ears-tinnitus600.jpg
END:VEVENT
BEGIN:VEVENT
DTSTART;TZID=America/New_York:20240731T180000
DTEND;TZID=America/New_York:20240731T190000
DTSTAMP:20260423T222317
CREATED:20240702T144558Z
LAST-MODIFIED:20240702T144558Z
UID:10003083-1722448800-1722452400@www.humanserviceforum.org
SUMMARY:The Mediterranean Diet Eating for Longevity and Vitality
DESCRIPTION:A Healthier Way of Eating Series \nDiscover the heart-healthy Mediterranean diet and kickstart your wellness journey. Join Dina Dugan\, RD\, clinical dietitian\, Baystate Noble Hospital\, for a discussion that delves into what is a Mediterranean diet\, practical meal plans and embracing a wholesome way of eating. \nIf you are interested in attending other virtual events\, join our free Loyalty Programs\, Senior Class and Baystate Health Every Woman for updates on events and articles.
URL:https://www.humanserviceforum.org/event/the-mediterranean-diet-eating-for-longevity-and-vitality/
CATEGORIES:Community Calendar,HSF Member Event
END:VEVENT
END:VCALENDAR