BEGIN:VCALENDAR
VERSION:2.0
PRODID:-//Human Service Forum - ECPv6.15.20//NONSGML v1.0//EN
CALSCALE:GREGORIAN
METHOD:PUBLISH
X-WR-CALNAME:Human Service Forum
X-ORIGINAL-URL:https://www.humanserviceforum.org
X-WR-CALDESC:Events for Human Service Forum
REFRESH-INTERVAL;VALUE=DURATION:PT1H
X-Robots-Tag:noindex
X-PUBLISHED-TTL:PT1H
BEGIN:VTIMEZONE
TZID:America/New_York
BEGIN:DAYLIGHT
TZOFFSETFROM:-0500
TZOFFSETTO:-0400
TZNAME:EDT
DTSTART:20230312T070000
END:DAYLIGHT
BEGIN:STANDARD
TZOFFSETFROM:-0400
TZOFFSETTO:-0500
TZNAME:EST
DTSTART:20231105T060000
END:STANDARD
BEGIN:DAYLIGHT
TZOFFSETFROM:-0500
TZOFFSETTO:-0400
TZNAME:EDT
DTSTART:20240310T070000
END:DAYLIGHT
BEGIN:STANDARD
TZOFFSETFROM:-0400
TZOFFSETTO:-0500
TZNAME:EST
DTSTART:20241103T060000
END:STANDARD
BEGIN:DAYLIGHT
TZOFFSETFROM:-0500
TZOFFSETTO:-0400
TZNAME:EDT
DTSTART:20250309T070000
END:DAYLIGHT
BEGIN:STANDARD
TZOFFSETFROM:-0400
TZOFFSETTO:-0500
TZNAME:EST
DTSTART:20251102T060000
END:STANDARD
BEGIN:DAYLIGHT
TZOFFSETFROM:-0500
TZOFFSETTO:-0400
TZNAME:EDT
DTSTART:20260308T070000
END:DAYLIGHT
BEGIN:STANDARD
TZOFFSETFROM:-0400
TZOFFSETTO:-0500
TZNAME:EST
DTSTART:20261101T060000
END:STANDARD
END:VTIMEZONE
BEGIN:VEVENT
DTSTART;TZID=America/New_York:20250410T163000
DTEND;TZID=America/New_York:20250410T203000
DTSTAMP:20260424T010748
CREATED:20250218T165811Z
LAST-MODIFIED:20250218T165811Z
UID:10005449-1744302600-1744317000@www.humanserviceforum.org
SUMMARY:Kamp for Kids Golf FUNraiser
DESCRIPTION:Join us for a fun-filled evening at the Golf FUNraiser\nsupporting Kamp for Kids\, an inclusive camp for\nchildren with and without disabilities. \nEvent Contact: Kelly Brown at kelly.brown@bhninc.org \nSponsorship Details: Please select Event Website link or contact Kelly Brown.
URL:https://www.humanserviceforum.org/event/kamp-for-kids-golf-funraiser/
LOCATION:Max’s Swing Lounge\, 1000 Columbus Ave\, Springfield\, MA\, 01105\, United States
CATEGORIES:Community Calendar,HSF Member Event
END:VEVENT
BEGIN:VEVENT
DTSTART;TZID=America/New_York:20241123T100000
DTEND;TZID=America/New_York:20241123T130000
DTSTAMP:20260424T010748
CREATED:20241106T132715Z
LAST-MODIFIED:20241106T132715Z
UID:10004736-1732356000-1732366800@www.humanserviceforum.org
SUMMARY:Survivors of Suicide Loss Day
DESCRIPTION:Each year\, the American Foundation for Suicide Prevention (AFSP) supports hundreds of large and small Survivor Day events around the world\, in which suicide loss survivors come together to find connection\, understanding and hope through their shared experience. \nWe invite you to join us in Springfield\, MA for a meaningful day filled with breakout groups\, lunch\, engaging activities\, and a powerful AFSP-produced documentary that highlights themes of growth\, resilience\, and connection. This event is free and is for Survivors of Suicide Loss only. \nSpringfield Event Information \n• 10:00am – 10:15am: Check-in\n• 10:15am – 10:20am: Welcome & Opening Remarks\n• 10:20am – 10:50am: AFSP Documentary Screening\n• 11:00am – 12:15pm: Breakout Sessions\n• 12:15pm – 12:55pm: Lunch\n• 12:55pm – 1 :00pm: Poem Reading & Closing Remarks
URL:https://www.humanserviceforum.org/event/survivors-of-suicide-loss-day/
LOCATION:All Inclusive Support Services\, 736 State St.\, Springfield\, MA\, 01109\, United States
CATEGORIES:Community Calendar,HSF Member Event
ATTACH;FMTTYPE=image/jpeg:https://www.humanserviceforum.org/wp-content/uploads/2024/10/suicide2.jpg
END:VEVENT
END:VCALENDAR