BEGIN:VCALENDAR
VERSION:2.0
PRODID:-//Human Service Forum - ECPv6.15.20//NONSGML v1.0//EN
CALSCALE:GREGORIAN
METHOD:PUBLISH
X-ORIGINAL-URL:https://www.humanserviceforum.org
X-WR-CALDESC:Events for Human Service Forum
REFRESH-INTERVAL;VALUE=DURATION:PT1H
X-Robots-Tag:noindex
X-PUBLISHED-TTL:PT1H
BEGIN:VTIMEZONE
TZID:America/New_York
BEGIN:DAYLIGHT
TZOFFSETFROM:-0500
TZOFFSETTO:-0400
TZNAME:EDT
DTSTART:20240310T070000
END:DAYLIGHT
BEGIN:STANDARD
TZOFFSETFROM:-0400
TZOFFSETTO:-0500
TZNAME:EST
DTSTART:20241103T060000
END:STANDARD
BEGIN:DAYLIGHT
TZOFFSETFROM:-0500
TZOFFSETTO:-0400
TZNAME:EDT
DTSTART:20250309T070000
END:DAYLIGHT
BEGIN:STANDARD
TZOFFSETFROM:-0400
TZOFFSETTO:-0500
TZNAME:EST
DTSTART:20251102T060000
END:STANDARD
BEGIN:DAYLIGHT
TZOFFSETFROM:-0500
TZOFFSETTO:-0400
TZNAME:EDT
DTSTART:20260308T070000
END:DAYLIGHT
BEGIN:STANDARD
TZOFFSETFROM:-0400
TZOFFSETTO:-0500
TZNAME:EST
DTSTART:20261101T060000
END:STANDARD
END:VTIMEZONE
BEGIN:VEVENT
DTSTART;TZID=America/New_York:20250521T080000
DTEND;TZID=America/New_York:20250521T170000
DTSTAMP:20260423T230245
CREATED:20250430T145817Z
LAST-MODIFIED:20250430T145817Z
UID:10005933-1747814400-1747846800@www.humanserviceforum.org
SUMMARY:30th Annual BCArc Golf Classic
DESCRIPTION:Berkshire Hills Country Club 500 Benedict Road\, Pittsfield\, MA\, United States\n\n\nExpect the full event of golf\, lunch\, awards\, raffles\, silent auction\, prizes\, and dinner. $170 per person Credit cards accepted the day of the tournament Proper attire is required to play (i.e. collared shirts\, no jeans allowed). Format: 4 person\, captain and crew placed in divisions by total team
URL:https://www.humanserviceforum.org/event/30th-annual-bcarc-golf-classic/
CATEGORIES:Community Calendar,HSF Member Event
END:VEVENT
BEGIN:VEVENT
DTSTART;TZID=America/New_York:20250321T073000
DTEND;TZID=America/New_York:20250321T093000
DTSTAMP:20260423T230245
CREATED:20250311T141634Z
LAST-MODIFIED:20250311T162802Z
UID:10005483-1742542200-1742549400@www.humanserviceforum.org
SUMMARY:Annual Berkshire Legislative Breakfast for Disability Advocacy
DESCRIPTION:Join the human services agencies of the Berkshires to help create a unified legislative agenda that addresses our collective needs. \n$25 per person. \nClick here to register \n  \nMarch 21\, 2025 \n7:30 AM – 9:00 AM \nCountry Club of Pittsfield \n639 South St\, Pittsfield\, MA 01201 \n  \nAttendees: \nSenator Paul Mark \nRep. Tricia Farley-Bouvier \nRep. Leigh Davis \nPittsfield Mayor Peter Marchetti
URL:https://www.humanserviceforum.org/event/annual-berkshire-legislative-breakfast-for-disability-advocacy/
CATEGORIES:Community Calendar,HSF Non Member Event
END:VEVENT
BEGIN:VEVENT
DTSTART;TZID=America/New_York:20250318T180000
DTEND;TZID=America/New_York:20250318T200000
DTSTAMP:20260423T230245
CREATED:20250311T140744Z
LAST-MODIFIED:20250311T140744Z
UID:10005482-1742320800-1742328000@www.humanserviceforum.org
SUMMARY:Virtual Training Opportunity for Individuals with Disabilities Who Receive SSI and/or SSDI
DESCRIPTION:Tuesday\, March 18\, 2025\n6:00 – 8:00 PM EST \nRegister to Attend:\nCall Nancy Willey at (413) 464-7262 Ext. 103\nor email: nwilley@bcarc.org \nRegister today as space is limited! This training is being offered free of charge.\nTraining materials will be provided electronically for all participants after the training. \nTraining Description: This training highlights the main barriers to employment for Social Security disability beneficiaries. Participants are educated on existing work incentives\, reporting requirements\, beneficiary rights and employment support programs that can help them realize that work is possible. A variety of community resources are shared so individuals know where and how to obtain the appropriate supports they may need to make informed decisions about employment and benefits.
URL:https://www.humanserviceforum.org/event/virtual-training-opportunity-for-individuals-with-disabilities-who-receive-ssi-and-or-ssdi/
CATEGORIES:Community Calendar,HSF Member Event
END:VEVENT
END:VCALENDAR