BEGIN:VCALENDAR
VERSION:2.0
PRODID:-//Human Service Forum - ECPv6.15.20//NONSGML v1.0//EN
CALSCALE:GREGORIAN
METHOD:PUBLISH
X-ORIGINAL-URL:https://www.humanserviceforum.org
X-WR-CALDESC:Events for Human Service Forum
REFRESH-INTERVAL;VALUE=DURATION:PT1H
X-Robots-Tag:noindex
X-PUBLISHED-TTL:PT1H
BEGIN:VTIMEZONE
TZID:America/New_York
BEGIN:DAYLIGHT
TZOFFSETFROM:-0500
TZOFFSETTO:-0400
TZNAME:EDT
DTSTART:20230312T070000
END:DAYLIGHT
BEGIN:STANDARD
TZOFFSETFROM:-0400
TZOFFSETTO:-0500
TZNAME:EST
DTSTART:20231105T060000
END:STANDARD
BEGIN:DAYLIGHT
TZOFFSETFROM:-0500
TZOFFSETTO:-0400
TZNAME:EDT
DTSTART:20240310T070000
END:DAYLIGHT
BEGIN:STANDARD
TZOFFSETFROM:-0400
TZOFFSETTO:-0500
TZNAME:EST
DTSTART:20241103T060000
END:STANDARD
BEGIN:DAYLIGHT
TZOFFSETFROM:-0500
TZOFFSETTO:-0400
TZNAME:EDT
DTSTART:20250309T070000
END:DAYLIGHT
BEGIN:STANDARD
TZOFFSETFROM:-0400
TZOFFSETTO:-0500
TZNAME:EST
DTSTART:20251102T060000
END:STANDARD
BEGIN:DAYLIGHT
TZOFFSETFROM:-0500
TZOFFSETTO:-0400
TZNAME:EDT
DTSTART:20260308T070000
END:DAYLIGHT
BEGIN:STANDARD
TZOFFSETFROM:-0400
TZOFFSETTO:-0500
TZNAME:EST
DTSTART:20261101T060000
END:STANDARD
BEGIN:DAYLIGHT
TZOFFSETFROM:-0500
TZOFFSETTO:-0400
TZNAME:EDT
DTSTART:20270314T070000
END:DAYLIGHT
BEGIN:STANDARD
TZOFFSETFROM:-0400
TZOFFSETTO:-0500
TZNAME:EST
DTSTART:20271107T060000
END:STANDARD
END:VTIMEZONE
BEGIN:VEVENT
DTSTART;TZID=America/New_York:20260416T173000
DTEND;TZID=America/New_York:20260416T190000
DTSTAMP:20260423T181842
CREATED:20260330T165921Z
LAST-MODIFIED:20260330T165921Z
UID:10008001-1776360600-1776366000@www.humanserviceforum.org
SUMMARY:Tori Ackley's Album Release Concert at BHMA
DESCRIPTION:Join us for a special musical celebration of the release of BHMA singer-songwriter Tori Ackley’s new album. After a year and a half of hard work\, she and her team will host a live concert showcasing her original music. The evening will include performances by Tori and her band\, with an opening set by Robbie Wilson\, musician and BHMA instructor. \nThis event is free and open to the public\, with a suggested donation at the door. Don’t miss this exciting milestone and a fun night of live music!
URL:https://www.humanserviceforum.org/event/tori-ackleys-album-release-concert-at-bhma/
LOCATION:Berkshire Hills Music Academy\, 48 Woodbridge St\, South Hadley\, MA\, 01075\, United States
CATEGORIES:Community Calendar,HSF Member Event
GEO:42.2644012;-72.5720333
X-APPLE-STRUCTURED-LOCATION;VALUE=URI;X-ADDRESS=Berkshire Hills Music Academy 48 Woodbridge St South Hadley MA 01075 United States;X-APPLE-RADIUS=500;X-TITLE=48 Woodbridge St:geo:-72.5720333,42.2644012
END:VEVENT
BEGIN:VEVENT
DTSTART;TZID=America/New_York:20260326T173000
DTEND;TZID=America/New_York:20260326T190000
DTSTAMP:20260423T181842
CREATED:20260306T193857Z
LAST-MODIFIED:20260306T194154Z
UID:10007957-1774546200-1774551600@www.humanserviceforum.org
SUMMARY:March Concert Series at BHMA
DESCRIPTION:Berkshire Hills Music Academy presents an inspiring evening of classical music\, community connection\, and authentic artistic expression featuring talented BHMA students and instructors. The performers include the BHMA Classical Ensemble and the “Idle Hands” piano duo\, which comprises of Tom Slowick\, an accomplished pianist and instructor at BHMA\, and Franklin Nichols\, a multi-talented BHMA musician. Free entry\, suggested donation at the door.
URL:https://www.humanserviceforum.org/event/march-concert-series-at-bhma/
LOCATION:Berkshire Hills Music Academy\, 48 Woodbridge St\, South Hadley\, MA\, 01075\, United States
CATEGORIES:Community Calendar,HSF Member Event
ATTACH;FMTTYPE=image/png:https://www.humanserviceforum.org/wp-content/uploads/2026/03/March-Concert-3.png
GEO:42.2644012;-72.5720333
X-APPLE-STRUCTURED-LOCATION;VALUE=URI;X-ADDRESS=Berkshire Hills Music Academy 48 Woodbridge St South Hadley MA 01075 United States;X-APPLE-RADIUS=500;X-TITLE=48 Woodbridge St:geo:-72.5720333,42.2644012
END:VEVENT
BEGIN:VEVENT
DTSTART;TZID=America/New_York:20260226T180000
DTEND;TZID=America/New_York:20260226T200000
DTSTAMP:20260423T181842
CREATED:20260212T182742Z
LAST-MODIFIED:20260212T182742Z
UID:10007837-1772128800-1772136000@www.humanserviceforum.org
SUMMARY:BHMA Concert Series
DESCRIPTION:
URL:https://www.humanserviceforum.org/event/bhma-concert-series/
CATEGORIES:Community Calendar,HSF Member Event
END:VEVENT
BEGIN:VEVENT
DTSTART;TZID=America/New_York:20251218T130000
DTEND;TZID=America/New_York:20251218T140000
DTSTAMP:20260423T181842
CREATED:20251125T184515Z
LAST-MODIFIED:20251203T114057Z
UID:10007648-1766062800-1766066400@www.humanserviceforum.org
SUMMARY:Classical Ensemble
DESCRIPTION:December 18th: Classical Ensemble at the Red Lion Inn\, Stockbridge MA 1:00pm
URL:https://www.humanserviceforum.org/event/classical-ensemble/
CATEGORIES:Community Calendar,HSF Member Event
END:VEVENT
BEGIN:VEVENT
DTSTART;TZID=America/New_York:20251207T100000
DTEND;TZID=America/New_York:20251207T111500
DTSTAMP:20260423T181842
CREATED:20251125T184258Z
LAST-MODIFIED:20251203T115244Z
UID:10007647-1765101600-1765106100@www.humanserviceforum.org
SUMMARY:Woodwind Ensemble
DESCRIPTION:December 7th: BHMA Woodwind Ensemble at St. Paul’s Unitarian Universalist Church in Palmer 10:00-11:15am.
URL:https://www.humanserviceforum.org/event/woodwind-ensemble/
CATEGORIES:Community Calendar,HSF Member Event
END:VEVENT
BEGIN:VEVENT
DTSTART;TZID=America/New_York:20251120T160000
DTEND;TZID=America/New_York:20251120T190000
DTSTAMP:20260423T181842
CREATED:20251118T163634Z
LAST-MODIFIED:20251118T163706Z
UID:10007615-1763654400-1763665200@www.humanserviceforum.org
SUMMARY:BHMA Jazz Ensemble
DESCRIPTION: Jazz is in the air! Catch the Jazz Ensemble this November  at these events coming up!
URL:https://www.humanserviceforum.org/event/bhma-jazz-ensemble/
CATEGORIES:Community Calendar,HSF Member Event
END:VEVENT
BEGIN:VEVENT
DTSTART;TZID=America/New_York:20250828T183000
DTEND;TZID=America/New_York:20250828T200000
DTSTAMP:20260423T181842
CREATED:20250618T160316Z
LAST-MODIFIED:20250618T160316Z
UID:10007103-1756405800-1756411200@www.humanserviceforum.org
SUMMARY:Jazz Ensemble at The South Hadley Summer Concert Series
DESCRIPTION:August 28th- Jazz Ensemble at The South Hadley Summer Concert Series from 6:30-8:00pm on the town commons.
URL:https://www.humanserviceforum.org/event/jazz-ensemble-at-the-south-hadley-summer-concert-series/
CATEGORIES:Community Calendar,HSF Member Event
END:VEVENT
BEGIN:VEVENT
DTSTART;TZID=America/New_York:20241205T121500
DTEND;TZID=America/New_York:20241205T133000
DTSTAMP:20260423T181842
CREATED:20241029T150921Z
LAST-MODIFIED:20241029T150921Z
UID:10004725-1733400900-1733405400@www.humanserviceforum.org
SUMMARY:Holiday Performance
DESCRIPTION:Holiday Performance by Berkshire Hills Music Academy Musicians\n\nDecember 5 @ 12:15 pm–1:30 pm\n|Cost: $4|Cost for Members: FREE\n\n\n\n\n\n\n\n\nNote: In-person Only\n \nJoin us for a live performance of holiday music! Berkshire Hills Music Academy (BHMA) students John Libera\, Michael Cote\, Matt Cloughley\, Franklin Nichols\, and woodwind instructor Paul Coffill will present a variety of seasonal selections. Together the five represent three different chamber ensembles at BHMA.
URL:https://www.humanserviceforum.org/event/holiday-performance/
CATEGORIES:Community Calendar,HSF Member Event
END:VEVENT
END:VCALENDAR