BEGIN:VCALENDAR
VERSION:2.0
PRODID:-//Human Service Forum - ECPv6.15.20//NONSGML v1.0//EN
CALSCALE:GREGORIAN
METHOD:PUBLISH
X-WR-CALNAME:Human Service Forum
X-ORIGINAL-URL:https://www.humanserviceforum.org
X-WR-CALDESC:Events for Human Service Forum
REFRESH-INTERVAL;VALUE=DURATION:PT1H
X-Robots-Tag:noindex
X-PUBLISHED-TTL:PT1H
BEGIN:VTIMEZONE
TZID:America/New_York
BEGIN:DAYLIGHT
TZOFFSETFROM:-0500
TZOFFSETTO:-0400
TZNAME:EDT
DTSTART:20240310T070000
END:DAYLIGHT
BEGIN:STANDARD
TZOFFSETFROM:-0400
TZOFFSETTO:-0500
TZNAME:EST
DTSTART:20241103T060000
END:STANDARD
BEGIN:DAYLIGHT
TZOFFSETFROM:-0500
TZOFFSETTO:-0400
TZNAME:EDT
DTSTART:20250309T070000
END:DAYLIGHT
BEGIN:STANDARD
TZOFFSETFROM:-0400
TZOFFSETTO:-0500
TZNAME:EST
DTSTART:20251102T060000
END:STANDARD
BEGIN:DAYLIGHT
TZOFFSETFROM:-0500
TZOFFSETTO:-0400
TZNAME:EDT
DTSTART:20260308T070000
END:DAYLIGHT
BEGIN:STANDARD
TZOFFSETFROM:-0400
TZOFFSETTO:-0500
TZNAME:EST
DTSTART:20261101T060000
END:STANDARD
BEGIN:DAYLIGHT
TZOFFSETFROM:-0500
TZOFFSETTO:-0400
TZNAME:EDT
DTSTART:20270314T070000
END:DAYLIGHT
BEGIN:STANDARD
TZOFFSETFROM:-0400
TZOFFSETTO:-0500
TZNAME:EST
DTSTART:20271107T060000
END:STANDARD
END:VTIMEZONE
BEGIN:VEVENT
DTSTART;TZID=America/New_York:20260318T100000
DTEND;TZID=America/New_York:20260318T140000
DTSTAMP:20260423T231039
CREATED:20260211T140528Z
LAST-MODIFIED:20260211T140528Z
UID:10007834-1773828000-1773842400@www.humanserviceforum.org
SUMMARY:BFAIR Bike Helmet Distribution
DESCRIPTION:With support from Greylock Federal Credit Union\, and supporting sponsor\, BIAMA\, BFAIR will be distributing bike helmets for children and adults to promote brain health and safety in Berkshire County and the Pioneer Valley. \n150 helmets for youth ages 6-13 and 100 helmets for 14+ will be distributed free-of-charge.
URL:https://www.humanserviceforum.org/event/bfair-bike-helmet-distribution/
CATEGORIES:Community Calendar,HSF Member Event
END:VEVENT
BEGIN:VEVENT
DTSTART;TZID=America/New_York:20250717T073000
DTEND;TZID=America/New_York:20250717T090000
DTSTAMP:20260423T231039
CREATED:20250618T163046Z
LAST-MODIFIED:20250618T163046Z
UID:10007104-1752737400-1752742800@www.humanserviceforum.org
SUMMARY:Coffee in the Court
DESCRIPTION:Please join us for a hot coffee and a tasty breakfast treat as we continue our fifth season of early morning community networking events.\nFree of charge and open to the public\, Coffee in the Court takes place on Armory Court on Park Street in downtown Adams. Join us every three weeks for this event from 7:30am to 9:00am.\nThis is a great forum to celebrate all of the good things that are happening in Adams while enjoying a bite to eat and sipping on a hot coffee or tea.
URL:https://www.humanserviceforum.org/event/coffee-in-the-court/
CATEGORIES:Community Calendar,HSF Member Event
END:VEVENT
BEGIN:VEVENT
DTSTART;TZID=America/New_York:20250305T160000
DTEND;TZID=America/New_York:20250305T210000
DTSTAMP:20260423T231039
CREATED:20250220T125718Z
LAST-MODIFIED:20250220T125718Z
UID:10005457-1741190400-1741208400@www.humanserviceforum.org
SUMMARY:Dine to Donate at Common Table Food & Drink
DESCRIPTION:Join Bfair on Wednesday\, March 5th from 4-9 PM at Common Table in Cheshire\, MA to benefit BFAIR’s programs and services for people with developmental disabilities\, autism\, and acquired brain injury.\nDiners will make a positive impact just by visiting Common Table to enjoy a favorite meal or even try a new restaurant!\nCommon Table has chosen to donate 10% (excluding sales of alcohol) to BFAIR.\nUse the ticket link below to make your reservation online through Common Table!\n**Please note when you arrive that you are participating in Dine to Donate!\nQuestions: Katrina Cardillo\, Director of Marketing/PR kcardillo@bfair.org \nSee less
URL:https://www.humanserviceforum.org/event/dine-to-donate-at-common-table-food-drink/
CATEGORIES:Community Calendar,HSF Member Event
ATTACH;FMTTYPE=image/jpeg:https://www.humanserviceforum.org/wp-content/uploads/2025/02/bfair.jpg
END:VEVENT
END:VCALENDAR