BEGIN:VCALENDAR
VERSION:2.0
PRODID:-//Human Service Forum - ECPv6.15.20//NONSGML v1.0//EN
CALSCALE:GREGORIAN
METHOD:PUBLISH
X-WR-CALNAME:Human Service Forum
X-ORIGINAL-URL:https://www.humanserviceforum.org
X-WR-CALDESC:Events for Human Service Forum
REFRESH-INTERVAL;VALUE=DURATION:PT1H
X-Robots-Tag:noindex
X-PUBLISHED-TTL:PT1H
BEGIN:VTIMEZONE
TZID:America/New_York
BEGIN:DAYLIGHT
TZOFFSETFROM:-0500
TZOFFSETTO:-0400
TZNAME:EDT
DTSTART:20230312T070000
END:DAYLIGHT
BEGIN:STANDARD
TZOFFSETFROM:-0400
TZOFFSETTO:-0500
TZNAME:EST
DTSTART:20231105T060000
END:STANDARD
BEGIN:DAYLIGHT
TZOFFSETFROM:-0500
TZOFFSETTO:-0400
TZNAME:EDT
DTSTART:20240310T070000
END:DAYLIGHT
BEGIN:STANDARD
TZOFFSETFROM:-0400
TZOFFSETTO:-0500
TZNAME:EST
DTSTART:20241103T060000
END:STANDARD
BEGIN:DAYLIGHT
TZOFFSETFROM:-0500
TZOFFSETTO:-0400
TZNAME:EDT
DTSTART:20250309T070000
END:DAYLIGHT
BEGIN:STANDARD
TZOFFSETFROM:-0400
TZOFFSETTO:-0500
TZNAME:EST
DTSTART:20251102T060000
END:STANDARD
BEGIN:DAYLIGHT
TZOFFSETFROM:-0500
TZOFFSETTO:-0400
TZNAME:EDT
DTSTART:20260308T070000
END:DAYLIGHT
BEGIN:STANDARD
TZOFFSETFROM:-0400
TZOFFSETTO:-0500
TZNAME:EST
DTSTART:20261101T060000
END:STANDARD
BEGIN:DAYLIGHT
TZOFFSETFROM:-0500
TZOFFSETTO:-0400
TZNAME:EDT
DTSTART:20270314T070000
END:DAYLIGHT
BEGIN:STANDARD
TZOFFSETFROM:-0400
TZOFFSETTO:-0500
TZNAME:EST
DTSTART:20271107T060000
END:STANDARD
END:VTIMEZONE
BEGIN:VEVENT
DTSTART;TZID=America/New_York:20260319T160000
DTEND;TZID=America/New_York:20260319T200000
DTSTAMP:20260423T164316
CREATED:20260223T170239Z
LAST-MODIFIED:20260223T170239Z
UID:10007855-1773936000-1773950400@www.humanserviceforum.org
SUMMARY:Kamp for Kids Golf FUNraiser
DESCRIPTION:Coming off the excitement of last year’s 50th anniversary\, we launch into our next 50 years\, building on five decades of impact\, inclusion\, and unforgettable memories at Kamp for Kids!\nJoin us at Max’s Swing Lounge in Springfield for virtual golf\, minigolf\, good food\, and time together—all in support of children and families across our region.\nWith a focus on FUN and community celebration\, we invite all to join the event\, regardless of ability to pay. Every dollar we raise via this event\, through sponsorships and free will donation\, helps ensure campers of all abilities can access meaningful\, inclusive summer fun. We invite you to contribute by making a one time or recurring monthly gift at the event.\nWe also have several sponsorship opportunities available! Reach out to Kelly Brown at kelly.brown@bhninc.org or (413) 654‑0930.
URL:https://www.humanserviceforum.org/event/kamp-for-kids-golf-funraiser-2/
CATEGORIES:Community Calendar,HSF Member Event
ATTACH;FMTTYPE=image/jpeg:https://www.humanserviceforum.org/wp-content/uploads/2026/02/kamp.jpg
END:VEVENT
BEGIN:VEVENT
DTSTART;TZID=America/New_York:20260218T160000
DTEND;TZID=America/New_York:20260218T190000
DTSTAMP:20260423T164316
CREATED:20260211T124127Z
LAST-MODIFIED:20260211T124127Z
UID:10007822-1771430400-1771441200@www.humanserviceforum.org
SUMMARY:Health and Wellness Expo
DESCRIPTION:Meet with local providers of a wide range of health and wellness services.
URL:https://www.humanserviceforum.org/event/health-and-wellness-expo/
CATEGORIES:Community Calendar,HSF Member Event
END:VEVENT
BEGIN:VEVENT
DTSTART;TZID=America/New_York:20260123T100000
DTEND;TZID=America/New_York:20260123T120000
DTSTAMP:20260423T164316
CREATED:20251202T160530Z
LAST-MODIFIED:20251202T213927Z
UID:10007656-1769162400-1769169600@www.humanserviceforum.org
SUMMARY:BHN Abilities Learning Center Grand Opening Celebration
DESCRIPTION:Join us to learn about our program\, meet our team\, and explore resources for individuals with autism and their families.
URL:https://www.humanserviceforum.org/event/bhn-abilities-learning-center-grand-opening-celebration/
CATEGORIES:Community Calendar
ATTACH;FMTTYPE=image/jpeg:https://www.humanserviceforum.org/wp-content/uploads/2025/12/ABA-Springfield-Save-the-Date-1.jpg
END:VEVENT
BEGIN:VEVENT
DTSTART;TZID=America/New_York:20251122T100000
DTEND;TZID=America/New_York:20251122T130000
DTSTAMP:20260423T164316
CREATED:20251029T134807Z
LAST-MODIFIED:20251029T134807Z
UID:10007586-1763805600-1763816400@www.humanserviceforum.org
SUMMARY:International Survivors of Suicide Loss Day
DESCRIPTION:This event is free and is for Survivors of Suicide Loss only.\nEach year\, the American Foundation for Suicide Prevention (AFSP) supports hundreds of large and small Survivor Day events around the world\, in which suicide loss survivors come together to find connection\, understanding and hope through their shared experience.\nWe invite you to join us in Springfield\, MA for a meaningful day filled with breakout groups\, lunch\, engaging activities\, and a powerful AFSP-produced documentary that highlights themes of growth\, resilience\, and connection.\n*Parking and the entrance are located behind the building. For GPS directions\, use 36 Buckingham Street\, Springfield\, MA\nSpringfield Event Schedule:\n• 10:00am – 10:15am: Check-in• 10:15am – 10:20am: Welcome & Opening Remarks• 10:20am – 10:50am: AFSP Documentary Screening• 11:00am – 12:15pm: Breakout Sessions• 12:15pm – 12:55pm: Lunch• 12:55pm – 1 :00pm: Poem Reading & Closing Remarks
URL:https://www.humanserviceforum.org/event/international-survivors-of-suicide-loss-day/
CATEGORIES:Community Calendar,HSF Member Event
ATTACH;FMTTYPE=image/jpeg:https://www.humanserviceforum.org/wp-content/uploads/2025/10/suicide.jpg
END:VEVENT
BEGIN:VEVENT
DTSTART;TZID=America/New_York:20250824T120000
DTEND;TZID=America/New_York:20250824T180000
DTSTAMP:20260423T164316
CREATED:20250820T132510Z
LAST-MODIFIED:20250820T132510Z
UID:10007292-1756036800-1756058400@www.humanserviceforum.org
SUMMARY:Domestic Violence Awareness Event
DESCRIPTION:
URL:https://www.humanserviceforum.org/event/domestic-violence-awareness-event/
CATEGORIES:Community Calendar,HSF Member Event
END:VEVENT
BEGIN:VEVENT
DTSTART;TZID=America/New_York:20250821T130000
DTEND;TZID=America/New_York:20250821T160000
DTSTAMP:20260423T164316
CREATED:20250729T133048Z
LAST-MODIFIED:20250729T133048Z
UID:10007206-1755781200-1755792000@www.humanserviceforum.org
SUMMARY:Community Strong Wellness
DESCRIPTION:
URL:https://www.humanserviceforum.org/event/community-strong-wellness/2025-08-21/
CATEGORIES:Community Calendar,HSF Member Event
END:VEVENT
BEGIN:VEVENT
DTSTART;TZID=America/New_York:20250712T110000
DTEND;TZID=America/New_York:20250712T180000
DTSTAMP:20260423T164316
CREATED:20250618T140021Z
LAST-MODIFIED:20250618T140021Z
UID:10007099-1752318000-1752343200@www.humanserviceforum.org
SUMMARY:Springfield Community Health & Fun Fair
DESCRIPTION:Welcome to the Springfield Community Health & Fun Fair! \nCome join us at Samuel Bolden Park for a day filled with health tips\, fun activities\, and community bonding. Our fair will feature fitness demos\, healthy food samples\, mental and spiritual counselors\, and more. It’s a great opportunity to learn about staying healthy and active while having a blast with your neighbors. Don’t miss out on this chance to prioritize your well-being and enjoy a day of fun with the whole family. See you there!
URL:https://www.humanserviceforum.org/event/springfield-community-health-fun-fair/
CATEGORIES:Community Calendar,HSF Member Event
END:VEVENT
BEGIN:VEVENT
DTSTART;TZID=America/New_York:20240817T100000
DTEND;TZID=America/New_York:20240817T120000
DTSTAMP:20260423T164316
CREATED:20240730T131925Z
LAST-MODIFIED:20240730T131925Z
UID:10003220-1723888800-1723896000@www.humanserviceforum.org
SUMMARY:BackPack Giveaway
DESCRIPTION:Join the Ware Family Resource Center for our Backpack Giveaway on August 17th! Free backpacks will be available for the first 100 youth! Please note that youth must be present to receive a backpack. Have questions? Call (413) 277-6601 or email bhnfrc@bhninc.org.
URL:https://www.humanserviceforum.org/event/backpack-giveaway/
CATEGORIES:Community Calendar,HSF Member Event
END:VEVENT
END:VCALENDAR