BEGIN:VCALENDAR
VERSION:2.0
PRODID:-//Human Service Forum - ECPv6.15.20//NONSGML v1.0//EN
CALSCALE:GREGORIAN
METHOD:PUBLISH
X-WR-CALNAME:Human Service Forum
X-ORIGINAL-URL:https://www.humanserviceforum.org
X-WR-CALDESC:Events for Human Service Forum
REFRESH-INTERVAL;VALUE=DURATION:PT1H
X-Robots-Tag:noindex
X-PUBLISHED-TTL:PT1H
BEGIN:VTIMEZONE
TZID:America/New_York
BEGIN:DAYLIGHT
TZOFFSETFROM:-0500
TZOFFSETTO:-0400
TZNAME:EDT
DTSTART:20240310T070000
END:DAYLIGHT
BEGIN:STANDARD
TZOFFSETFROM:-0400
TZOFFSETTO:-0500
TZNAME:EST
DTSTART:20241103T060000
END:STANDARD
BEGIN:DAYLIGHT
TZOFFSETFROM:-0500
TZOFFSETTO:-0400
TZNAME:EDT
DTSTART:20250309T070000
END:DAYLIGHT
BEGIN:STANDARD
TZOFFSETFROM:-0400
TZOFFSETTO:-0500
TZNAME:EST
DTSTART:20251102T060000
END:STANDARD
BEGIN:DAYLIGHT
TZOFFSETFROM:-0500
TZOFFSETTO:-0400
TZNAME:EDT
DTSTART:20260308T070000
END:DAYLIGHT
BEGIN:STANDARD
TZOFFSETFROM:-0400
TZOFFSETTO:-0500
TZNAME:EST
DTSTART:20261101T060000
END:STANDARD
END:VTIMEZONE
BEGIN:VEVENT
DTSTART;TZID=America/New_York:20250927T090000
DTEND;TZID=America/New_York:20250927T170000
DTSTAMP:20260424T033053
CREATED:20250904T131406Z
LAST-MODIFIED:20250904T131508Z
UID:10007323-1758963600-1758992400@www.humanserviceforum.org
SUMMARY:CHD's All In Day
DESCRIPTION:Join us for “CHD’s All In Day” at Mike’s Maze at Warner Farm on Saturday\, September 27\, 2025\, at Warner Farm in Sunderland\, MA. Lots of fun family games and activities including a huge corn maze where anyone who completes it will get a free ‘prize’ pumpkin. Other fun activities include potato cannons\, pedal carts\, a petting zoo\, giant playground\, and hayrides. Try their apple cider donuts made fresh daily at their onsite cafe. Bring the whole family for a fun day of #FallFun! Plus\, $1 for every ticket will go to All In!
URL:https://www.humanserviceforum.org/event/124577/
CATEGORIES:Community Calendar,HSF Member Event
ATTACH;FMTTYPE=image/jpeg:https://www.humanserviceforum.org/wp-content/uploads/2025/09/maze.jpg
END:VEVENT
BEGIN:VEVENT
DTSTART;TZID=America/New_York:20250614T090000
DTEND;TZID=America/New_York:20250614T120000
DTSTAMP:20260424T033053
CREATED:20250430T144426Z
LAST-MODIFIED:20250604T130431Z
UID:10005932-1749891600-1749902400@www.humanserviceforum.org
SUMMARY:Bikes Fight Cancer
DESCRIPTION:
URL:https://www.humanserviceforum.org/event/bikes-fight-cancer-2/
CATEGORIES:Community Calendar,HSF Member Event
END:VEVENT
END:VCALENDAR