BEGIN:VCALENDAR
VERSION:2.0
PRODID:-//Human Service Forum - ECPv6.15.20//NONSGML v1.0//EN
CALSCALE:GREGORIAN
METHOD:PUBLISH
X-ORIGINAL-URL:https://www.humanserviceforum.org
X-WR-CALDESC:Events for Human Service Forum
REFRESH-INTERVAL;VALUE=DURATION:PT1H
X-Robots-Tag:noindex
X-PUBLISHED-TTL:PT1H
BEGIN:VTIMEZONE
TZID:America/New_York
BEGIN:DAYLIGHT
TZOFFSETFROM:-0500
TZOFFSETTO:-0400
TZNAME:EDT
DTSTART:20240310T070000
END:DAYLIGHT
BEGIN:STANDARD
TZOFFSETFROM:-0400
TZOFFSETTO:-0500
TZNAME:EST
DTSTART:20241103T060000
END:STANDARD
BEGIN:DAYLIGHT
TZOFFSETFROM:-0500
TZOFFSETTO:-0400
TZNAME:EDT
DTSTART:20250309T070000
END:DAYLIGHT
BEGIN:STANDARD
TZOFFSETFROM:-0400
TZOFFSETTO:-0500
TZNAME:EST
DTSTART:20251102T060000
END:STANDARD
BEGIN:DAYLIGHT
TZOFFSETFROM:-0500
TZOFFSETTO:-0400
TZNAME:EDT
DTSTART:20260308T070000
END:DAYLIGHT
BEGIN:STANDARD
TZOFFSETFROM:-0400
TZOFFSETTO:-0500
TZNAME:EST
DTSTART:20261101T060000
END:STANDARD
END:VTIMEZONE
BEGIN:VEVENT
DTSTART;TZID=America/New_York:20251004T100000
DTEND;TZID=America/New_York:20251004T140000
DTSTAMP:20260424T025003
CREATED:20250903T130619Z
LAST-MODIFIED:20250903T130619Z
UID:10007315-1759572000-1759586400@www.humanserviceforum.org
SUMMARY:2025 Buddy Walk!
DESCRIPTION:Join us on Saturday\, October 4\, 2025 for the DSRG Buddy Walk® at Stanley Park \, 400 Western Ave in Westfield\, MA.  Registration opens at 10:00 am with the walk beginning at 11:00am.\n‍ \nDSRG of Western Mass Buddy Walk®\nThe DSRG Buddy Walk® gives our community\, family\, friends and business sponsors an opportunity to come together to celebrate our loved ones with Down syndrome and raise funds for the programming which supports them. Our offerings include: a First Call program for newborns\, playgroups for toddlers and school aged children\, social groups for teens and adults\, scholarships\, educational presentations and more. All of these programs directly better the lives of people living with Down syndrome in our community. \nNDSS National Buddy Walk® Program\nThe Buddy Walk® is an advocacy initiative launched in 1995 by The National Down Syndrome Society. It serves as a vehicle to generate significant awareness and understanding of Down syndrome nationally\, while simultaneously raising critical funds to support local programs and services offered by The DSRG. As a proud affiliate of The NDSS\, a portion of all proceeds from DSRG Buddy Walk® goes to the NDSS to support national advocacy initiatives aimed at improving the quality of life of individuals with Down syndrome. \n 
URL:https://www.humanserviceforum.org/event/2025-buddy-walk/
CATEGORIES:Community Calendar,HSF Member Event
END:VEVENT
END:VCALENDAR