BEGIN:VCALENDAR
VERSION:2.0
PRODID:-//Human Service Forum - ECPv6.15.20//NONSGML v1.0//EN
CALSCALE:GREGORIAN
METHOD:PUBLISH
X-ORIGINAL-URL:https://www.humanserviceforum.org
X-WR-CALDESC:Events for Human Service Forum
REFRESH-INTERVAL;VALUE=DURATION:PT1H
X-Robots-Tag:noindex
X-PUBLISHED-TTL:PT1H
BEGIN:VTIMEZONE
TZID:America/New_York
BEGIN:DAYLIGHT
TZOFFSETFROM:-0500
TZOFFSETTO:-0400
TZNAME:EDT
DTSTART:20230312T070000
END:DAYLIGHT
BEGIN:STANDARD
TZOFFSETFROM:-0400
TZOFFSETTO:-0500
TZNAME:EST
DTSTART:20231105T060000
END:STANDARD
BEGIN:DAYLIGHT
TZOFFSETFROM:-0500
TZOFFSETTO:-0400
TZNAME:EDT
DTSTART:20240310T070000
END:DAYLIGHT
BEGIN:STANDARD
TZOFFSETFROM:-0400
TZOFFSETTO:-0500
TZNAME:EST
DTSTART:20241103T060000
END:STANDARD
BEGIN:DAYLIGHT
TZOFFSETFROM:-0500
TZOFFSETTO:-0400
TZNAME:EDT
DTSTART:20250309T070000
END:DAYLIGHT
BEGIN:STANDARD
TZOFFSETFROM:-0400
TZOFFSETTO:-0500
TZNAME:EST
DTSTART:20251102T060000
END:STANDARD
BEGIN:DAYLIGHT
TZOFFSETFROM:-0500
TZOFFSETTO:-0400
TZNAME:EDT
DTSTART:20260308T070000
END:DAYLIGHT
BEGIN:STANDARD
TZOFFSETFROM:-0400
TZOFFSETTO:-0500
TZNAME:EST
DTSTART:20261101T060000
END:STANDARD
END:VTIMEZONE
BEGIN:VEVENT
DTSTART;TZID=America/New_York:20250213T180000
DTEND;TZID=America/New_York:20250213T220000
DTSTAMP:20260424T011027
CREATED:20250121T191525Z
LAST-MODIFIED:20250121T191525Z
UID:10005371-1739469600-1739484000@www.humanserviceforum.org
SUMMARY:Big Love Little Performances 3.0
DESCRIPTION:Big Love Little Performances 3.0. The hottest ticket for 2025! Hire the babysitter! It’s a Date Night! It’s a Galentine’s Day! It’s a Broentine’s hang. Thursday\, February 13th The Iron Horse\nGet your tix or sign-up to perform at: [http://getmeregistered.com/4BLLP2025](http://getmeregistered.com/4BLLP2025)\nThis 21+ event is a Lip-sync & Karaoke fundraising event benefitting Big Brothers Big Sisters of Hampshire County.\nExpect surprise guests and entertainers as we ride to the Pink Pony Club.\nAlong with all the amazing performances\, the famous savory food\, libation cheer\, desserts to fall in love with\, a curated auction and sweet activities\, will make this simply the best way to celebrate the upcoming Valentine’s Day full of love and community connection benefiting Big Brothers Big Sisters of Hampshire County.
URL:https://www.humanserviceforum.org/event/big-love-little-performances-3-0/
CATEGORIES:Community Calendar,HSF Member Event
END:VEVENT
BEGIN:VEVENT
DTSTART;TZID=America/New_York:20240428T100000
DTEND;TZID=America/New_York:20240428T140000
DTSTAMP:20260424T011027
CREATED:20240304T134313Z
LAST-MODIFIED:20240304T134313Z
UID:10002001-1714298400-1714312800@www.humanserviceforum.org
SUMMARY:Big Brothers Big Sisters 14th Annual Daffodil Run 5k/10k
DESCRIPTION:Help support Big Brothers Big Sisters of Hampshire County\nBy signing up for the Daffodil Run 5k or 10k\, you’re helping Big Brothers Big Sisters of Hampshire County create and support one-to-one mentoring relationships that ignite the power and promise of youth.\nWhat does Big Brothers Big Sisters do?\nOur mission is to create and support one-to-one mentoring relationships that ignite the power and promise of youth. For a few hours\, 2-4 times a month\, Bigs and Littles spend time doing various activities together\, from going to a museum to taking a hike. By simply offering the invaluable gift of friendship\, Bigs and Littles literally change each others’ lives for the better.
URL:https://www.humanserviceforum.org/event/big-brothers-big-sisters-14th-annual-daffodil-run-5k-10k/
CATEGORIES:Community Calendar,HSF Member Event
END:VEVENT
END:VCALENDAR