BEGIN:VCALENDAR
VERSION:2.0
PRODID:-//Human Service Forum - ECPv6.15.20//NONSGML v1.0//EN
CALSCALE:GREGORIAN
METHOD:PUBLISH
X-ORIGINAL-URL:https://www.humanserviceforum.org
X-WR-CALDESC:Events for Human Service Forum
REFRESH-INTERVAL;VALUE=DURATION:PT1H
X-Robots-Tag:noindex
X-PUBLISHED-TTL:PT1H
BEGIN:VTIMEZONE
TZID:America/New_York
BEGIN:DAYLIGHT
TZOFFSETFROM:-0500
TZOFFSETTO:-0400
TZNAME:EDT
DTSTART:20230312T070000
END:DAYLIGHT
BEGIN:STANDARD
TZOFFSETFROM:-0400
TZOFFSETTO:-0500
TZNAME:EST
DTSTART:20231105T060000
END:STANDARD
BEGIN:DAYLIGHT
TZOFFSETFROM:-0500
TZOFFSETTO:-0400
TZNAME:EDT
DTSTART:20240310T070000
END:DAYLIGHT
BEGIN:STANDARD
TZOFFSETFROM:-0400
TZOFFSETTO:-0500
TZNAME:EST
DTSTART:20241103T060000
END:STANDARD
BEGIN:DAYLIGHT
TZOFFSETFROM:-0500
TZOFFSETTO:-0400
TZNAME:EDT
DTSTART:20250309T070000
END:DAYLIGHT
BEGIN:STANDARD
TZOFFSETFROM:-0400
TZOFFSETTO:-0500
TZNAME:EST
DTSTART:20251102T060000
END:STANDARD
BEGIN:DAYLIGHT
TZOFFSETFROM:-0500
TZOFFSETTO:-0400
TZNAME:EDT
DTSTART:20260308T070000
END:DAYLIGHT
BEGIN:STANDARD
TZOFFSETFROM:-0400
TZOFFSETTO:-0500
TZNAME:EST
DTSTART:20261101T060000
END:STANDARD
BEGIN:DAYLIGHT
TZOFFSETFROM:-0500
TZOFFSETTO:-0400
TZNAME:EDT
DTSTART:20270314T070000
END:DAYLIGHT
BEGIN:STANDARD
TZOFFSETFROM:-0400
TZOFFSETTO:-0500
TZNAME:EST
DTSTART:20271107T060000
END:STANDARD
END:VTIMEZONE
BEGIN:VEVENT
DTSTART;TZID=America/New_York:20260404T143000
DTEND;TZID=America/New_York:20260404T180000
DTSTAMP:20260423T133547
CREATED:20260323T155922Z
LAST-MODIFIED:20260323T155922Z
UID:10007979-1775313000-1775325600@www.humanserviceforum.org
SUMMARY:16th Annual Cammer Cup
DESCRIPTION:
URL:https://www.humanserviceforum.org/event/16th-annual-cammer-cup/
CATEGORIES:Community Calendar,HSF Member Event
END:VEVENT
BEGIN:VEVENT
DTSTART;TZID=America/New_York:20260402T183000
DTEND;TZID=America/New_York:20260402T183000
DTSTAMP:20260423T133547
CREATED:20260226T181145Z
LAST-MODIFIED:20260226T181145Z
UID:10007877-1775154600-1775154600@www.humanserviceforum.org
SUMMARY:Big Love Little Performances 4.0
DESCRIPTION:Our Electrifying 4th Annual\, 21 plus Lip-sync & Karaoke fundraising event benefitting CHD’s Big Brothers Big Sisters of Hampshire County\, will be held at the revered and beautifully renovated Iron Horse Music Hall\, on NEW DATE! Thursday\, April 2nd in a wild celebration of BIG LOVE. \nIf you know\, you know – if you don’t\, you’ll want experience all the dazzle! \nOur signature event is always evolving so expect an all-new spectacular! But of course\, all the happenings will once again be emceed by Monte Belmonte\, Tara Brewster\, and Kelsey Flynn. Featuring celebrity contest judges delivering their verdict for the best crooners. Inspired by love\, this celebration will be unlike any other in the Pioneer Valley\, as we continue to reimagine the marvel that brings together bank executives\, government officials\, baristas\, schoolteachers\, and well… anyone who wants to grab their 15… well 4 minutes of fame! \nLast year’s out-of-the-box event was a thrilling vibe – the room was full of magic. The duet between Monte as Elphaba and Tara\, in the tallest wig known to humankind\, was spellbinding! The crowd gasped as yo-yo professionals rolled through the room on a giant yo-yo and performed amazing yo-yo feats to a George Michael song- you can guess which one right? Not to mention the amazing Karaoke\, Lip-sync and all the little performances – from both returning and new performers who surprised and delighted us with their renditions of famous sing-along hits. \nThe amazing performances\, the famous food\, libation cheer\, desserts to fall in love with\, a curated auction and sweet activities\, will make this simply the best way to celebrate love and community connection. It’s a VIBE!
URL:https://www.humanserviceforum.org/event/big-love-little-performances-4-0/
CATEGORIES:Community Calendar,HSF Member Event
END:VEVENT
BEGIN:VEVENT
DTSTART;TZID=America/New_York:20251208T170000
DTEND;TZID=America/New_York:20251208T190000
DTSTAMP:20260423T133547
CREATED:20251028T115518Z
LAST-MODIFIED:20251028T115518Z
UID:10007575-1765213200-1765220400@www.humanserviceforum.org
SUMMARY:CHD Cancer House of Hope Luminaria
DESCRIPTION:This holiday season\, we invite you to join us for a special evening of remembrance\, celebration\, and hope\, as we honor loved ones whose lives have been touched by cancer—whether they are being remembered\, currently in treatment\, or in remission and recovery. \nJoin us on December 8 as 1\,000 luminaries are lit in their honor\, creating a beautiful\, glowing tribute that reflects the love\, strength\, and resilience of our community. \nLuminaria will be open to the public and on display from 5:00 p.m. – 7:00 p.m. Event parking is available at the Senior Center located at 128 Park Street\, West Springfield. \nDecember 8\, 2025\n\n5:00 p.m. – Lighting Ceremony\nWest Springfield Town Common\n\nBe part of this meaningful tradition and help shine a light for those affected by cancer. \n*Inclement weather date will be December 9. \nBuy Your Luminaries\nLuminaries can be purchased with a personalized dedication to your loved one(s) for $10. Click here to purchase luminaries. \n\nThe deadline to purchase luminaries online is Thursday\, December 4 at midnight.\nClick here to download the Luminary Order Form. The deadline for sending us the order form and check is Friday\, December 5.\nYou will be able to purchase luminaries on the day of the event.\n\nBy participating on December 8\, you are making a significant impact in the lives of people right here in our community receive free cancer support services including counseling\, support groups\, relaxation\, and wellness therapies\, including oncology-certified massage\, Reiki\, yoga\, art therapy\, a wig boutique\, and post-mastectomy bra fittings – all from a place where they are offered friendship\, connection\, and support\, at no cost to them.
URL:https://www.humanserviceforum.org/event/chd-cancer-house-of-hope-luminaria/
CATEGORIES:Community Calendar,HSF Member Event
ATTACH;FMTTYPE=image/png:https://www.humanserviceforum.org/wp-content/uploads/2025/10/Lumimage-1.png
END:VEVENT
BEGIN:VEVENT
DTSTART;TZID=America/New_York:20251125T170000
DTEND;TZID=America/New_York:20251125T200000
DTSTAMP:20260423T133547
CREATED:20251104T155035Z
LAST-MODIFIED:20251104T155035Z
UID:10007599-1764090000-1764100800@www.humanserviceforum.org
SUMMARY:DYS Holiday Tree Jubilee
DESCRIPTION:
URL:https://www.humanserviceforum.org/event/dys-holiday-tree-jubilee/
CATEGORIES:Community Calendar,HSF Member Event
END:VEVENT
BEGIN:VEVENT
DTSTART;TZID=America/New_York:20250919T190000
DTEND;TZID=America/New_York:20250919T220000
DTSTAMP:20260423T133547
CREATED:20250618T140418Z
LAST-MODIFIED:20250618T140418Z
UID:10007100-1758308400-1758319200@www.humanserviceforum.org
SUMMARY:CHD All In Trailer Trash Benefit Concert
DESCRIPTION:Doors open at 7:00 p.m. | Music starts at 8:00 p.m. \nThe Elks Lodge\n69 Chapin Street\nLudlow\, MA  \n \nBuy your tickets now to our annual Trailer Trash Benefit Concert held at The Elks Lodge in Ludlow. This annual concert helps raise funds to support All In’s Springfield Thunderbirds Sled Hockey team. Proceeds of the concert will go to purchasing new adaptive equipment\, ice time\, and travel time for our 2025-2026 season!
URL:https://www.humanserviceforum.org/event/chd-all-in-trailer-trash-benefit-concert/
CATEGORIES:Community Calendar,HSF Member Event
END:VEVENT
BEGIN:VEVENT
DTSTART;TZID=America/New_York:20250911T180000
DTEND;TZID=America/New_York:20250911T184500
DTSTAMP:20260423T133547
CREATED:20250904T130819Z
LAST-MODIFIED:20250904T130819Z
UID:10007322-1757613600-1757616300@www.humanserviceforum.org
SUMMARY:Dance and Movement Open House
DESCRIPTION:
URL:https://www.humanserviceforum.org/event/dance-and-movement-open-house/
CATEGORIES:Community Calendar,HSF Member Event
END:VEVENT
BEGIN:VEVENT
DTSTART;TZID=America/New_York:20250904T110000
DTEND;TZID=America/New_York:20250904T140000
DTSTAMP:20260423T133547
CREATED:20250820T133227Z
LAST-MODIFIED:20250820T133227Z
UID:10007293-1756983600-1756994400@www.humanserviceforum.org
SUMMARY:“Art Fest on State”
DESCRIPTION:The Fourth Annual “Art Fest on State” will take place on Thursday\, September 4\, from 11:00 a.m. to 2:00 p.m.\, at 622 State Street in Springfield. This free exhibition\, presented by CHD’s Adult Mental Health-Springfield and our STAR Psychiatric Day Treatment Program\, will include food and beverages\, music and dancing\, poetry readings\, a photo booth\, and arts and crafts for sale by participants in various CHD programs\, as well as by staff.\n\n\nThis year’s event will include free “make and take” craft tables. You can make your own project and take it home!
URL:https://www.humanserviceforum.org/event/art-fest-on-state/
CATEGORIES:Community Calendar,HSF Member Event
END:VEVENT
BEGIN:VEVENT
DTSTART;TZID=America/New_York:20250830T090000
DTEND;TZID=America/New_York:20250830T130000
DTSTAMP:20260423T133547
CREATED:20250820T135318Z
LAST-MODIFIED:20250820T135318Z
UID:10007294-1756544400-1756558800@www.humanserviceforum.org
SUMMARY:Car Show for a Cause
DESCRIPTION:Join us for a fun-filled day at the CHD’s MaryAnne’s Kids “Car Show for a Cause” fundraising event on August 30 at the Moose Lodge in Chicopee from 9:00 a.m. to 1:00 p.m.This free family-friendly get-together will feature a car show\, face painting\, balloon animals\, live music\, raffles\, and more fun activities. Free back-to-school backpacks will be given to the first 50 kids.CHD MaryAnne’s Kids is a special fund dedicated to providing unique opportunities for children in foster care. All funds raised during the event will go directly to supporting this vital program.If you’re unable to join us on the day\, but still wish to contribute to MaryAnne’s Kids\, you can make a donation at https://tinyurl.com/CHDmakdonation. Your generosity will make a significant difference in the lives of these children.
URL:https://www.humanserviceforum.org/event/car-show-for-a-cause/
CATEGORIES:Community Calendar,HSF Member Event
END:VEVENT
BEGIN:VEVENT
DTSTART;TZID=America/New_York:20250817T090000
DTEND;TZID=America/New_York:20250817T170000
DTSTAMP:20260423T133547
CREATED:20250729T133428Z
LAST-MODIFIED:20250729T133428Z
UID:10007207-1755421200-1755450000@www.humanserviceforum.org
SUMMARY:Swinging for Sue
DESCRIPTION:
URL:https://www.humanserviceforum.org/event/swinging-for-sue/
CATEGORIES:Community Calendar,HSF Member Event
END:VEVENT
BEGIN:VEVENT
DTSTART;TZID=America/New_York:20250622T140000
DTEND;TZID=America/New_York:20250622T163000
DTSTAMP:20260423T133547
CREATED:20250603T175739Z
LAST-MODIFIED:20250603T175739Z
UID:10007087-1750600800-1750609800@www.humanserviceforum.org
SUMMARY:Goat Yoga Fundraiser
DESCRIPTION:Sunday\, June 22\nRain date: July 13\, 2:00 p.m.-4:30 p.m. \n  \nJoin us for CHD All In Barrier-Free Recreation’s first ever Goat Yoga Fundraiser! We are super excited to offer a new way to join together and help support people in our community with disabilities. The first class is an All-Inclusive class for all ability levels (10+). The second class is a Sensory-Specific class for those on the spectrum (4+) where the instructor will use sensory enhanced movements for self-regulation. \n2:00 p.m.: All-Inclusive Goat Yoga Class\n3:15 p.m.: Sensory-Enhanced Goat Yoga Class-Autism Specific \nCloverbrook Farm\n39 Parker Street\nEast Longmeadow\, MA \n\n$35 per person\n45-minute outdoor baby pigmy goat yoga classes\n30 minutes of goat snuggles after each class\nBeginners or yogis welcome\nClass is with a certified yoga instructor.\nBring your own mat or rent one for $5\nPony rides will also be available for $10 from 2:00 m.-4:30 p.m\nFresh lemonade and treats will be available for purchase.\n\n*If an individual who is signed up needs extra support\, we ask that someone signs up with them to help them with movements. There will be volunteers to help as well. The instructor will be modifying movements to fit everyone’s ability level.
URL:https://www.humanserviceforum.org/event/goat-yoga-fundraiser/
CATEGORIES:Community Calendar,HSF Member Event
ATTACH;FMTTYPE=image/png:https://www.humanserviceforum.org/wp-content/uploads/2025/06/goat-website.png
END:VEVENT
BEGIN:VEVENT
DTSTART;TZID=America/New_York:20250614T093000
DTEND;TZID=America/New_York:20250614T113000
DTSTAMP:20260423T133547
CREATED:20250528T105521Z
LAST-MODIFIED:20250528T105521Z
UID:10007077-1749893400-1749900600@www.humanserviceforum.org
SUMMARY:ALL Abilities Learn to Curl
DESCRIPTION:ALL Abilities Learn to Curl June 14\, 2025\n$15.00\n\nInterested in learning how to curl?  All In Barrier Free Recreation in partnership with Colonial Curling Club and Petersham Curling Club will be offering a 1 day learn to curl program.  Space is limited so sign up early to not miss out on this opportunity!  We’ll supply the stones\, you learn how to throw them at houses!\n\nDate: Saturday\, June 14\, 2025\n\nTime: 9:30 AM-11:30 AM\n\nWhere: Amelia Park Arena\n             21 S. Broad St.\n             Westfield\, MA\n\nCost: $15 per person
URL:https://www.humanserviceforum.org/event/all-abilities-learn-to-curl/
CATEGORIES:Community Calendar,HSF Member Event
ATTACH;FMTTYPE=image/jpeg:https://www.humanserviceforum.org/wp-content/uploads/2025/05/curling.jpg
END:VEVENT
BEGIN:VEVENT
DTSTART;TZID=America/New_York:20250120T120000
DTEND;TZID=America/New_York:20250120T170000
DTSTAMP:20260423T133547
CREATED:20241218T114505Z
LAST-MODIFIED:20241218T114505Z
UID:10005251-1737374400-1737392400@www.humanserviceforum.org
SUMMARY:Cammer Cup 25
DESCRIPTION:
URL:https://www.humanserviceforum.org/event/cammer-cup-25/
CATEGORIES:Community Calendar,HSF Member Event
END:VEVENT
BEGIN:VEVENT
DTSTART;TZID=America/New_York:20250120T120000
DTEND;TZID=America/New_York:20250120T170000
DTSTAMP:20260423T133547
CREATED:20241104T124810Z
LAST-MODIFIED:20241104T124810Z
UID:10004743-1737374400-1737392400@www.humanserviceforum.org
SUMMARY:2025 Cammer Cup
DESCRIPTION:CHD’s All In Youth and Adult Recreation Sled Hockey is hosting its 15th Annual sled hockey games and teams will face off against local celebrities on January 20\, 2025\, at the Mass Mutual Center. Do not miss this opportunity to support the Springfield Thunderbirds Sled Hockey team\, have some fun watching local sled-brities\, and raise funds for CHD’s All In Barrier Free Program. Your Cammer Cup ticket gets you Exclusive Access to the Thunderbirds vs. Bridgeport game played after our games. \nGame Day Schedule \nCammer Cup vs. Celebrities – noon to 12:45 p.m. \nTravel Team vs. Vermont Pioneers – 1:00 p.m. to 2:00 p.m. \nThunderbirds vs. Bridgeport game – 3:05 p.m. \nThe Cammer Cup honors and celebrates the memory of late teammate Alex Camerlin\, and a portion of the proceeds goes directly to CHD’s All-In program. We are excited to be hosting this event 15 years in a row and providing kids and adults with physical disabilities with a way to get active in a fun\, engaging\, and inclusive environment where everyone can shine and included. \n  \n* One ticket purchase gets you into all 3 games.  \n** Tickets cannot be purchased at the Mass Mutual Center box office or through CHD. They can only be purchased through the link provided above. 
URL:https://www.humanserviceforum.org/event/2025-cammer-cup/
CATEGORIES:Community Calendar,HSF Member Event
END:VEVENT
BEGIN:VEVENT
DTSTART;TZID=America/New_York:20240920T200000
DTEND;TZID=America/New_York:20240920T230000
DTSTAMP:20260423T133547
CREATED:20240731T111648Z
LAST-MODIFIED:20240731T111648Z
UID:10003224-1726862400-1726873200@www.humanserviceforum.org
SUMMARY:Trailer Trash Benefit Concert
DESCRIPTION:Friday\, September 20\nLudlow Elks Lodge\, 69 Chapin Street\nLudlow MA\n8:00 p.m.\nTickets $15 in advance\, $20 at the door \nCountry-rock band Trailer Trash is showing their love again this year for CHD ALL IN\, an adaptive sports and recreation program for kids and adults with different mobility\, vision\, and developmental abilities. Proceeds raised through this concert will help fund equipment\, uniforms and ice time for All In’s youth and adult Sled Hockey teams. \n\nSponsorships\nJoin the band in their support of adaptive athletes in our community and All In’s programs with an event sponsorship! Incentives include: \n\nRecognition on CHD’s and All In’s social media accounts including Facebook and LinkedIn\nSponsorships are 100% tax-deductible and directly benefit our program needs\nComplimentary concert tickets\n\nClick here to view sponsorship opportunities and pay online. \nClick here to view a printable sponsorship form.
URL:https://www.humanserviceforum.org/event/trailer-trash-benefit-concert/
CATEGORIES:Community Calendar,HSF Member Event
END:VEVENT
BEGIN:VEVENT
DTSTART;TZID=America/New_York:20240916T123000
DTEND;TZID=America/New_York:20240916T170000
DTSTAMP:20260423T133547
CREATED:20240321T122711Z
LAST-MODIFIED:20240321T122711Z
UID:10002353-1726489800-1726506000@www.humanserviceforum.org
SUMMARY:Cancer House of Hope Golf Tournament
DESCRIPTION:  \nTwin Hills Country Club\n700 Wolf Swamp Road\nLongmeadow\, MA 01106\nTee-off: 10:30 a.m. \nProceeds from the tournament help us provide counseling support\, an array of wellness programs including massage\, reiki and yoga\, a wig boutique\, and most importantly\, empowerment and optimism for all in our community who are managing a cancer diagnosis. \n 
URL:https://www.humanserviceforum.org/event/cancer-house-of-hope-golf-tournament/
CATEGORIES:Community Calendar,HSF Member Event
END:VEVENT
BEGIN:VEVENT
DTSTART;TZID=America/New_York:20240615T080000
DTEND;TZID=America/New_York:20240615T120000
DTSTAMP:20260423T133547
CREATED:20240321T122334Z
LAST-MODIFIED:20240321T122334Z
UID:10002352-1718438400-1718452800@www.humanserviceforum.org
SUMMARY:Bikes Fight Cancer
DESCRIPTION:This charity FUNdraising bike ride\, in Western Mass\, supports families dealing with the burden of a cancer diagnosis and cancer research. Choose from 25 mile and 50 mile routes\, that weave through the beautiful Pioneer Valley and along the Connecticut River with some nice long straightaways along green farm land and rollers with views of the river.  The 50-mile rides will be a bit more challenging but will reward riders with great views!  There will be fun activities like food trucks\, great water stops and a kids trail ride. \n  \nThrough athletic events like the Bikes Fight Cancer Charity Ride we encourage a community to participate\, donate\, and fundraise to feel empowered in the fight against cancer. Join us on our exciting journey! Last years ride resulted in a $36\,000 donation to the Cancer House of Hope.
URL:https://www.humanserviceforum.org/event/bikes-fight-cancer/
CATEGORIES:Community Calendar,HSF Member Event
ATTACH;FMTTYPE=image/png:https://www.humanserviceforum.org/wp-content/uploads/2024/03/bike.png
END:VEVENT
BEGIN:VEVENT
DTSTART;TZID=America/New_York:20240614T173000
DTEND;TZID=America/New_York:20240614T210000
DTSTAMP:20260423T133547
CREATED:20240321T113200Z
LAST-MODIFIED:20240321T121738Z
UID:10002351-1718386200-1718398800@www.humanserviceforum.org
SUMMARY:Family Outreach of Amherst Light Up the Night
DESCRIPTION:June 14\, 2024  |  5:30 p.m. –\nHome of Betsy and Bruce McInnis\, 76 Lincoln Avenue\, Amherst \nLose Yourself in the Magic of a Midsummer’s Night!\nEnjoy Delicious Fresh Food and Fabulous Drink Pairings \nSavor the flavors of exquisite cuisine prepared from local chefs featuring an oyster bar\, pig roast\, sushi\, and more. Many dishes will be paired with carefully curated libations.  Discover your favorite! \nBid on On-Site and Online Auction Items \nFrom vacations\, private dinners\, tickets for sporting and musical events\, as well as one-of-a-kind treasures\, our on-site and online auctions offer something for everyone! \nCelebrate with Friends \nLight Up the Night is not just about supporting a great cause; it’s also a chance to gather together in a spectacular outdoor garden setting\, share a lovely evening with good food and friends\, and truly make a difference in the lives of families in our community. \nGet ready for a great night to support a great cause! \n(Festive attire for an al fresco evening. Street parking approved.) \nFOA depends upon LUTN to raise one-third of our annual budget to ensure families avoid homelessness\, hunger\, domestic violence\, and child abuse. Help us keep the door open by participating in Light Up the Night! 2024 by donating today! \nFor more information\, call 413-548-1272 or email Carly Marburger at cmarburger@chd.org.
URL:https://www.humanserviceforum.org/event/family-outreach-of-amherst-light-up-the-night/
CATEGORIES:Community Calendar,HSF Member Event
END:VEVENT
BEGIN:VEVENT
DTSTART;TZID=America/New_York:20240608T090000
DTEND;TZID=America/New_York:20240608T130000
DTSTAMP:20260423T133547
CREATED:20240321T112217Z
LAST-MODIFIED:20240321T112217Z
UID:10002350-1717837200-1717851600@www.humanserviceforum.org
SUMMARY:CHD All In: Barrier-Free Recreation Ride Along
DESCRIPTION:Saturday\, June 8\nRedstone Rail Trail\nEast Longmeadow\, MA\nCHD’s All In program is partnering with local fire and police departments to hold its first annual Ride Along event in East Longmeadow. This is an all-inclusive fun “roll” event for people with and without disabilities to come together for a special day on the Redstone Rail Trail! \nThe Ride Along will take place from 9:00 a.m. to 1:00 p.m. at The Depot at Graham Central Station\, 64 Maple Street\, East Longmeadow. Registration fee is $10; kids 12 and under ride free. Rain date is June 9.
URL:https://www.humanserviceforum.org/event/chd-all-in-barrier-free-recreation-ride-along/
CATEGORIES:Community Calendar,HSF Member Event
END:VEVENT
BEGIN:VEVENT
DTSTART;TZID=America/New_York:20240505T100000
DTEND;TZID=America/New_York:20240505T130000
DTSTAMP:20260423T133547
CREATED:20240321T111728Z
LAST-MODIFIED:20240321T111728Z
UID:10002349-1714903200-1714914000@www.humanserviceforum.org
SUMMARY:14th Annual Daffodil Run 5k/10k
DESCRIPTION:By signing up for the Daffodil Run 5k or 10k\, you’re helping Big Brothers Big Sisters of Hampshire County create and support one-to-one mentoring relationships that ignite the power and promise of youth.\n  \nCHD’s Big Brothers Big Sisters of Hampshire County will hold the 14th Annual Daffodil Run in person at the Amherst Town Common\, Amherst\, MA 01002 \nIt will begin at 10:00 a.m. \nWalk or run and invite others to join you in support of mentoring.  Register for the Daffodil Run. \nThis community event has become the first marker of spring for the town of Amherst and draws hundreds of community members to the area to participate and cheer on their family and friends. \nLook forward to 5K Run/Walk & 10K Run post-race party with delicious food\, and family-friendly fun. The Daffodil Run helps sustain the power of youth mentoring through Big Brothers Big Sisters by connecting adult mentors with young people in our community. Once matched they go on to build a meaningful\, positive relationship that empowers the potential inherent in each child.
URL:https://www.humanserviceforum.org/event/14th-annual-daffodil-run-5k-10k/
CATEGORIES:Community Calendar,HSF Member Event
END:VEVENT
BEGIN:VEVENT
DTSTART;TZID=America/New_York:20240322T170000
DTEND;TZID=America/New_York:20240322T193000
DTSTAMP:20260423T133547
CREATED:20240220T173040Z
LAST-MODIFIED:20240220T173040Z
UID:10001895-1711126800-1711135800@www.humanserviceforum.org
SUMMARY:Bingo Night for CHD's-MaryAnne's Kids Fund for Foster Children; Presented by Raymour & Flanigan
DESCRIPTION:Raymour & Flanigan will be hosting a Bingo Night supporting CHD’S MaryAnne’s Kids Fund for Foster Care. \nRaffle items and Bingo Prizes. \nRaffle tickets and bingo sheets for purchase** CASH ONLY EVENT \nRaymour & Flanigan – 895 Riverdale St\, West Springfield\, MA 01089
URL:https://www.humanserviceforum.org/event/bingo-night-for-chds-maryannes-kids-fund-for-foster-children-presented-by-raymour-flanigan/
LOCATION:Raymour & Flanigan\, 1406 Elm Street\, West Springfield\, MA\, 01089\, United States
CATEGORIES:Community Calendar,HSF Member Event
GEO:42.1225429;-72.62672
X-APPLE-STRUCTURED-LOCATION;VALUE=URI;X-ADDRESS=Raymour & Flanigan 1406 Elm Street West Springfield MA 01089 United States;X-APPLE-RADIUS=500;X-TITLE=1406 Elm Street:geo:-72.62672,42.1225429
END:VEVENT
BEGIN:VEVENT
DTSTART;TZID=America/New_York:20240303T120000
DTEND;TZID=America/New_York:20240303T170000
DTSTAMP:20260423T133547
CREATED:20240220T192142Z
LAST-MODIFIED:20240220T192142Z
UID:10001906-1709467200-1709485200@www.humanserviceforum.org
SUMMARY:Sled Hockey Double Header
DESCRIPTION:
URL:https://www.humanserviceforum.org/event/sled-hockey-double-header/
CATEGORIES:Community Calendar,HSF Member Event
END:VEVENT
BEGIN:VEVENT
DTSTART;TZID=America/New_York:20240208T183000
DTEND;TZID=America/New_York:20240208T213000
DTSTAMP:20260423T133547
CREATED:20240109T150814Z
LAST-MODIFIED:20240109T150814Z
UID:10001781-1707417000-1707427800@www.humanserviceforum.org
SUMMARY:BIG LOVE LITTLE PERFORMANCES
DESCRIPTION:
URL:https://www.humanserviceforum.org/event/big-love-little-performances/
CATEGORIES:Community Calendar,HSF Member Event
END:VEVENT
END:VCALENDAR