BEGIN:VCALENDAR
VERSION:2.0
PRODID:-//Human Service Forum - ECPv6.15.20//NONSGML v1.0//EN
CALSCALE:GREGORIAN
METHOD:PUBLISH
X-WR-CALNAME:Human Service Forum
X-ORIGINAL-URL:https://www.humanserviceforum.org
X-WR-CALDESC:Events for Human Service Forum
REFRESH-INTERVAL;VALUE=DURATION:PT1H
X-Robots-Tag:noindex
X-PUBLISHED-TTL:PT1H
BEGIN:VTIMEZONE
TZID:America/New_York
BEGIN:DAYLIGHT
TZOFFSETFROM:-0500
TZOFFSETTO:-0400
TZNAME:EDT
DTSTART:20230312T070000
END:DAYLIGHT
BEGIN:STANDARD
TZOFFSETFROM:-0400
TZOFFSETTO:-0500
TZNAME:EST
DTSTART:20231105T060000
END:STANDARD
BEGIN:DAYLIGHT
TZOFFSETFROM:-0500
TZOFFSETTO:-0400
TZNAME:EDT
DTSTART:20240310T070000
END:DAYLIGHT
BEGIN:STANDARD
TZOFFSETFROM:-0400
TZOFFSETTO:-0500
TZNAME:EST
DTSTART:20241103T060000
END:STANDARD
BEGIN:DAYLIGHT
TZOFFSETFROM:-0500
TZOFFSETTO:-0400
TZNAME:EDT
DTSTART:20250309T070000
END:DAYLIGHT
BEGIN:STANDARD
TZOFFSETFROM:-0400
TZOFFSETTO:-0500
TZNAME:EST
DTSTART:20251102T060000
END:STANDARD
BEGIN:DAYLIGHT
TZOFFSETFROM:-0500
TZOFFSETTO:-0400
TZNAME:EDT
DTSTART:20260308T070000
END:DAYLIGHT
BEGIN:STANDARD
TZOFFSETFROM:-0400
TZOFFSETTO:-0500
TZNAME:EST
DTSTART:20261101T060000
END:STANDARD
BEGIN:DAYLIGHT
TZOFFSETFROM:-0500
TZOFFSETTO:-0400
TZNAME:EDT
DTSTART:20270314T070000
END:DAYLIGHT
BEGIN:STANDARD
TZOFFSETFROM:-0400
TZOFFSETTO:-0500
TZNAME:EST
DTSTART:20271107T060000
END:STANDARD
END:VTIMEZONE
BEGIN:VEVENT
DTSTART;TZID=America/New_York:20260125T170000
DTEND;TZID=America/New_York:20260131T210000
DTSTAMP:20260423T141515
CREATED:20260106T122435Z
LAST-MODIFIED:20260106T123600Z
UID:10007776-1769360400-1769893200@www.humanserviceforum.org
SUMMARY:Eat Up for Heat Up!
DESCRIPTION: 
URL:https://www.humanserviceforum.org/event/eat-up-for-heat-up/
CATEGORIES:Community Calendar,HSF Member Event
END:VEVENT
BEGIN:VEVENT
DTSTART;TZID=America/New_York:20250925T180000
DTEND;TZID=America/New_York:20250925T210000
DTSTAMP:20260423T141515
CREATED:20250812T133509Z
LAST-MODIFIED:20250812T133509Z
UID:10007221-1758823200-1758834000@www.humanserviceforum.org
SUMMARY:Celebrating the Career of Clare Higgins
DESCRIPTION:Join us for a special evening honoring Clare Higgins’ extraordinary decades of leadership while launching the Clare Higgins Fund for Community Resilience —a vital initiative to ensure Community Action Pioneer Valley (CAPV) can continue providing essential programs and support for the 28\,000+ neighbors we serve each year across Franklin and Hampshire counties. \nHonoring Clare’s Legacy\nClare Higgins has dedicated her career to the belief that all people\, regardless of income or circumstance\, deserve opportunity\, voice\, and respect. Her decades of service have powerfully shaped CAPV’s work—rooted in dignity\, equity\, and community-led change. As Clare retires\, we celebrate her vision of stronger\, more just\, and more connected communities. \nThe Clare Higgins Fund for Community Resilience\nEach year\, CAPV partners with over 28\,000 neighbors across Franklin and Hampshire counties to build paths toward economic stability\, resilience\, and thriving lives. As federal funding becomes less reliable\, the Clare Higgins Fund will provide long-term support to preserve the essential programs\, staffing\, and infrastructure that serve as lifelines for thousands of families. \nThis fund reflects Clare’s core belief in opportunity and respect for all\, ensuring that CAPV can continue to be a trusted source of stability and hope—even in uncertain times. A gift to the Fund is an investment in the future: a future where communities are stronger\, more just\, and more connected—just as Clare envisioned. \nOur goal is to raise $100\,000 at this event to contribute to the Clare Higgins Fund for Community Resilience\, with a total goal of $500\,000 to honor her leadership while securing the future of vital community services. \nEvent Goal\nOur goal is to raise $100\,000 at this event to contribute to the Clare Higgins Fund for Community Resilience\, honoring leadership while securing the future of vital community services.
URL:https://www.humanserviceforum.org/event/celebrating-the-career-of-clare-higgins/
CATEGORIES:Community Calendar,HSF Member Event
END:VEVENT
BEGIN:VEVENT
DTSTART;TZID=America/New_York:20250411T080000
DTEND;TZID=America/New_York:20250411T093000
DTSTAMP:20260423T141515
CREATED:20250325T154904Z
LAST-MODIFIED:20250325T154904Z
UID:10005504-1744358400-1744363800@www.humanserviceforum.org
SUMMARY:Community Action Pioneer Valley
DESCRIPTION:
URL:https://www.humanserviceforum.org/event/community-action-pioneer-valley/
CATEGORIES:Community Calendar,HSF Member Event
END:VEVENT
BEGIN:VEVENT
DTSTART;TZID=America/New_York:20250208T180000
DTEND;TZID=America/New_York:20250208T210000
DTSTAMP:20260423T141515
CREATED:20250121T190129Z
LAST-MODIFIED:20250121T190129Z
UID:10005370-1739037600-1739048400@www.humanserviceforum.org
SUMMARY:Lights\, Community\, Action!
DESCRIPTION:A Fundraiser For Community Action\nJoin us for a night of community and live theater! This review show is sure to be a night to remember. We will make our way through Broadway and Pop favorites as we raise money for Community Action. This event will feature many special guests from our beautiful community and is underwritten by Greenfield Savings Bank. Ticket Prices: General Admission (Adult) – $15 Children (12 and under) – $12 Senior Citizen (65 and over) – $12 All Star (General + Donation) – $25 Rated: G Running time: 90 minutes (one intermission) Note: Strobe and Special Lighting Effects will be used throughout the show.
URL:https://www.humanserviceforum.org/event/lights-community-action/2025-02-08/
CATEGORIES:Community Calendar,HSF Member Event
END:VEVENT
BEGIN:VEVENT
DTSTART;TZID=America/New_York:20241202T080000
DTEND;TZID=America/New_York:20241202T220000
DTSTAMP:20260423T141515
CREATED:20241105T170009Z
LAST-MODIFIED:20241105T170009Z
UID:10004746-1733126400-1733176800@www.humanserviceforum.org
SUMMARY:Fuel Up Week!
DESCRIPTION:
URL:https://www.humanserviceforum.org/event/fuel-up-week/
CATEGORIES:Community Calendar,HSF Member Event
END:VEVENT
BEGIN:VEVENT
DTSTART;TZID=America/New_York:20240812T140000
DTEND;TZID=America/New_York:20240812T173000
DTSTAMP:20260423T141515
CREATED:20240729T165142Z
LAST-MODIFIED:20240729T165142Z
UID:10003198-1723471200-1723483800@www.humanserviceforum.org
SUMMARY:Annual Backpack & School Supply Distribution
DESCRIPTION:
URL:https://www.humanserviceforum.org/event/annual-backpack-school-supply-distribution/2024-08-12/
CATEGORIES:Community Calendar,HSF Member Event
END:VEVENT
BEGIN:VEVENT
DTSTART;TZID=America/New_York:20240503T073000
DTEND;TZID=America/New_York:20240503T210000
DTSTAMP:20260423T141515
CREATED:20240501T101231Z
LAST-MODIFIED:20240501T101231Z
UID:10002892-1714721400-1714770000@www.humanserviceforum.org
SUMMARY:Community Action PV Annual Meeting
DESCRIPTION:
URL:https://www.humanserviceforum.org/event/community-action-pv-annual-meeting/
CATEGORIES:Community Calendar,HSF Member Event
END:VEVENT
END:VCALENDAR