BEGIN:VCALENDAR
VERSION:2.0
PRODID:-//Human Service Forum - ECPv6.15.20//NONSGML v1.0//EN
CALSCALE:GREGORIAN
METHOD:PUBLISH
X-ORIGINAL-URL:https://www.humanserviceforum.org
X-WR-CALDESC:Events for Human Service Forum
REFRESH-INTERVAL;VALUE=DURATION:PT1H
X-Robots-Tag:noindex
X-PUBLISHED-TTL:PT1H
BEGIN:VTIMEZONE
TZID:America/New_York
BEGIN:DAYLIGHT
TZOFFSETFROM:-0500
TZOFFSETTO:-0400
TZNAME:EDT
DTSTART:20230312T070000
END:DAYLIGHT
BEGIN:STANDARD
TZOFFSETFROM:-0400
TZOFFSETTO:-0500
TZNAME:EST
DTSTART:20231105T060000
END:STANDARD
BEGIN:DAYLIGHT
TZOFFSETFROM:-0500
TZOFFSETTO:-0400
TZNAME:EDT
DTSTART:20240310T070000
END:DAYLIGHT
BEGIN:STANDARD
TZOFFSETFROM:-0400
TZOFFSETTO:-0500
TZNAME:EST
DTSTART:20241103T060000
END:STANDARD
BEGIN:DAYLIGHT
TZOFFSETFROM:-0500
TZOFFSETTO:-0400
TZNAME:EDT
DTSTART:20250309T070000
END:DAYLIGHT
BEGIN:STANDARD
TZOFFSETFROM:-0400
TZOFFSETTO:-0500
TZNAME:EST
DTSTART:20251102T060000
END:STANDARD
BEGIN:DAYLIGHT
TZOFFSETFROM:-0500
TZOFFSETTO:-0400
TZNAME:EDT
DTSTART:20260308T070000
END:DAYLIGHT
BEGIN:STANDARD
TZOFFSETFROM:-0400
TZOFFSETTO:-0500
TZNAME:EST
DTSTART:20261101T060000
END:STANDARD
END:VTIMEZONE
BEGIN:VEVENT
DTSTART;TZID=America/New_York:20250612T080000
DTEND;TZID=America/New_York:20250612T170000
DTSTAMP:20260424T035431
CREATED:20250514T145853Z
LAST-MODIFIED:20250514T145853Z
UID:10006687-1749715200-1749747600@www.humanserviceforum.org
SUMMARY:Equity in the 413: Western Massachusetts Racial Equity Summit
DESCRIPTION:Equity in the 413: Western Massachusetts Racial Equity Summit is a convening to support relationship building across several industry areas. This call-to-action helps attendees from our region align our efforts to advance racial equity in workplaces and organizations across western Massachusetts. \nIn 2023\, nearly 400 attendees joined us for Equity in the 413 to participate in more than a dozen workshops offered on advancing racial equity in workplaces across industry areas. For 2025\, we’re excited to offer more workshops and self-care opportunities. \nAt the Summit you will: \n\nLearn how to analyze and incorporate data in an asset-based framework to understand how racial inequity is impacting our region and drive our efforts to support advancing racial equity.\nLearn how to create talent acquisition and employee engagement plans that increase diversity in your workforce while building equitable practices across the employee life cycle in an inclusive culture.\nLearn how to develop and enact internal policies and practices that can be changed to support people in moving along a continuum of equitable practices.\nLearn lessons from leaders who have begun to advance racial equity in their organizations.
URL:https://www.humanserviceforum.org/event/equity-in-the-413-western-massachusetts-racial-equity-summit/
CATEGORIES:Community Calendar,HSF Member Event
END:VEVENT
BEGIN:VEVENT
DTSTART;TZID=America/New_York:20240531T080000
DTEND;TZID=America/New_York:20240531T170000
DTSTAMP:20260424T035431
CREATED:20240529T132554Z
LAST-MODIFIED:20240529T132554Z
UID:10003028-1717142400-1717174800@www.humanserviceforum.org
SUMMARY:Capacity Building Grant 2024 For Individual Artists Application Opens
DESCRIPTION:ATTENTION MASSACHUSETTS ARTISTS!! Are you new to #ValleyCreates and live or have studio space in Hampden\, Hampshire\, or Franklin County? Don’t miss the opportunity to apply for a Capacity-Building Grant opening THIS FRIDAY\, May 31st.\n\n\nFunded by the Community Foundation’s ValleyCreates program and administered by MASS MoCA’s Assets for Artists (A4A) program\, Capacity-Building Grants provide selected artists:\n\n\n A $2\,500 grant\n\n\n Business/career planning resources\n\n\n Personal financial literacy resources\n\n\n Two individual one-hour coaching sessions\n\n\n Access to Assets for Artists’ professional development workshops\n\n\n Community-building with fellow artists\, and more!\n\n\nLearn more and apply starting May 31st at: https://communityfoundation.org/…/capacity-grant-2023/
URL:https://www.humanserviceforum.org/event/capacity-building-grant-2024-for-individual-artists-application-opens/
CATEGORIES:Community Calendar,HSF Member Event
END:VEVENT
END:VCALENDAR