BEGIN:VCALENDAR
VERSION:2.0
PRODID:-//Human Service Forum - ECPv6.15.20//NONSGML v1.0//EN
CALSCALE:GREGORIAN
METHOD:PUBLISH
X-ORIGINAL-URL:https://www.humanserviceforum.org
X-WR-CALDESC:Events for Human Service Forum
REFRESH-INTERVAL;VALUE=DURATION:PT1H
X-Robots-Tag:noindex
X-PUBLISHED-TTL:PT1H
BEGIN:VTIMEZONE
TZID:America/New_York
BEGIN:DAYLIGHT
TZOFFSETFROM:-0500
TZOFFSETTO:-0400
TZNAME:EDT
DTSTART:20230312T070000
END:DAYLIGHT
BEGIN:STANDARD
TZOFFSETFROM:-0400
TZOFFSETTO:-0500
TZNAME:EST
DTSTART:20231105T060000
END:STANDARD
BEGIN:DAYLIGHT
TZOFFSETFROM:-0500
TZOFFSETTO:-0400
TZNAME:EDT
DTSTART:20240310T070000
END:DAYLIGHT
BEGIN:STANDARD
TZOFFSETFROM:-0400
TZOFFSETTO:-0500
TZNAME:EST
DTSTART:20241103T060000
END:STANDARD
BEGIN:DAYLIGHT
TZOFFSETFROM:-0500
TZOFFSETTO:-0400
TZNAME:EDT
DTSTART:20250309T070000
END:DAYLIGHT
BEGIN:STANDARD
TZOFFSETFROM:-0400
TZOFFSETTO:-0500
TZNAME:EST
DTSTART:20251102T060000
END:STANDARD
BEGIN:DAYLIGHT
TZOFFSETFROM:-0500
TZOFFSETTO:-0400
TZNAME:EDT
DTSTART:20260308T070000
END:DAYLIGHT
BEGIN:STANDARD
TZOFFSETFROM:-0400
TZOFFSETTO:-0500
TZNAME:EST
DTSTART:20261101T060000
END:STANDARD
END:VTIMEZONE
BEGIN:VEVENT
DTSTART;TZID=America/New_York:20251018T110000
DTEND;TZID=America/New_York:20251018T160000
DTSTAMP:20260423T210747
CREATED:20250904T164617Z
LAST-MODIFIED:20250904T164617Z
UID:10007325-1760785200-1760803200@www.humanserviceforum.org
SUMMARY:Demystifying Mental Health - A Community Forum
DESCRIPTION:
URL:https://www.humanserviceforum.org/event/demystifying-mental-health-a-community-forum/
CATEGORIES:Community Calendar,HSF Member Event
END:VEVENT
BEGIN:VEVENT
DTSTART;TZID=America/New_York:20250610T083000
DTEND;TZID=America/New_York:20250610T160000
DTSTAMP:20260423T210747
CREATED:20250527T162952Z
LAST-MODIFIED:20250527T162952Z
UID:10007070-1749544200-1749571200@www.humanserviceforum.org
SUMMARY:7th Annual Trauma & Resilience Symposium
DESCRIPTION:Jun 10\, 2025\, 8:30 AM – 4:00 PM \nGreenfield Community College\, 1 College Dr\, Greenfield\, MA 01301\, USA \n\n\n\n\nAbout the event\n\n\n\n \nFrom Challenge to Resilience: Maintaining Integrity and Focusing on Equity in Uncertain Times. Join the DMH Western Mass Area for our 7th Annual Trauma & Resilience Symposium! \n \nThe day’s events will include a Keynote Speaker\, morning and afternoon workshops\, Resource Tabling and a Connection Scavenger Hunt.
URL:https://www.humanserviceforum.org/event/7th-annual-trauma-resilience-symposium/
CATEGORIES:Community Calendar,HSF Member Event
END:VEVENT
BEGIN:VEVENT
DTSTART;TZID=America/New_York:20241108T130000
DTEND;TZID=America/New_York:20241108T163000
DTSTAMP:20260423T210747
CREATED:20241021T114627Z
LAST-MODIFIED:20241021T114627Z
UID:10004340-1731070800-1731083400@www.humanserviceforum.org
SUMMARY:Empowering Older Adults Through Supportive Conversations
DESCRIPTION:
URL:https://www.humanserviceforum.org/event/empowering-older-adults-through-supportive-conversations/
CATEGORIES:Community Calendar,HSF Member Event
END:VEVENT
END:VCALENDAR