BEGIN:VCALENDAR
VERSION:2.0
PRODID:-//Human Service Forum - ECPv6.15.20//NONSGML v1.0//EN
CALSCALE:GREGORIAN
METHOD:PUBLISH
X-WR-CALNAME:Human Service Forum
X-ORIGINAL-URL:https://www.humanserviceforum.org
X-WR-CALDESC:Events for Human Service Forum
REFRESH-INTERVAL;VALUE=DURATION:PT1H
X-Robots-Tag:noindex
X-PUBLISHED-TTL:PT1H
BEGIN:VTIMEZONE
TZID:America/New_York
BEGIN:DAYLIGHT
TZOFFSETFROM:-0500
TZOFFSETTO:-0400
TZNAME:EDT
DTSTART:20230312T070000
END:DAYLIGHT
BEGIN:STANDARD
TZOFFSETFROM:-0400
TZOFFSETTO:-0500
TZNAME:EST
DTSTART:20231105T060000
END:STANDARD
BEGIN:DAYLIGHT
TZOFFSETFROM:-0500
TZOFFSETTO:-0400
TZNAME:EDT
DTSTART:20240310T070000
END:DAYLIGHT
BEGIN:STANDARD
TZOFFSETFROM:-0400
TZOFFSETTO:-0500
TZNAME:EST
DTSTART:20241103T060000
END:STANDARD
BEGIN:DAYLIGHT
TZOFFSETFROM:-0500
TZOFFSETTO:-0400
TZNAME:EDT
DTSTART:20250309T070000
END:DAYLIGHT
BEGIN:STANDARD
TZOFFSETFROM:-0400
TZOFFSETTO:-0500
TZNAME:EST
DTSTART:20251102T060000
END:STANDARD
BEGIN:DAYLIGHT
TZOFFSETFROM:-0500
TZOFFSETTO:-0400
TZNAME:EDT
DTSTART:20260308T070000
END:DAYLIGHT
BEGIN:STANDARD
TZOFFSETFROM:-0400
TZOFFSETTO:-0500
TZNAME:EST
DTSTART:20261101T060000
END:STANDARD
BEGIN:DAYLIGHT
TZOFFSETFROM:-0500
TZOFFSETTO:-0400
TZNAME:EDT
DTSTART:20270314T070000
END:DAYLIGHT
BEGIN:STANDARD
TZOFFSETFROM:-0400
TZOFFSETTO:-0500
TZNAME:EST
DTSTART:20271107T060000
END:STANDARD
END:VTIMEZONE
BEGIN:VEVENT
DTSTART;TZID=America/New_York:20260418T180000
DTEND;TZID=America/New_York:20260418T213000
DTSTAMP:20260423T163511
CREATED:20260330T154224Z
LAST-MODIFIED:20260330T154224Z
UID:10008000-1776535200-1776547800@www.humanserviceforum.org
SUMMARY:2nd Annual Derby Kickoff Party: Cocktails With a Cause
DESCRIPTION:You’re invited for a night of Derby-style fun\, connection\, and purpose where every moment makes an impact. 🐎 \n \nBy joining us\, you’re not just having a great time; you’re helping strengthen the lifeline for cancer survivors and their families. \nThis is more than an evening of celebration; it’s a chance to stand with cancer survivors when they need support most. By sponsoring or attending this event\, you are helping ensure that no one has to navigate life during or after cancer treatment alone. \n \nFunds raised for the Each Moment We’re Alive Cancer Support Network directly sustain our free survivorship programs\, live support groups\, and personalized guidance for survivors and their families. Funds raised through the upcoming Derby Kickoff Party: Cocktails for a Cause will allow EMWA to also expand access to live support groups and expand our team of Licensed Clinical Social Workers (LCSWs) and trained facilitators\, meeting the growing deman…
URL:https://www.humanserviceforum.org/event/2nd-annual-derby-kickoff-party-cocktails-with-a-cause/
CATEGORIES:Community Calendar,HSF Member Event
ATTACH;FMTTYPE=image/jpeg:https://www.humanserviceforum.org/wp-content/uploads/2026/03/cocktails.jpg
ORGANIZER;CN="Each Moment We&#039%3Bre Alive%2CInc":MAILTO:cindy@eachmomentwerealive.net
END:VEVENT
BEGIN:VEVENT
DTSTART;TZID=America/New_York:20260114T180000
DTEND;TZID=America/New_York:20260114T193000
DTSTAMP:20260423T163511
CREATED:20260106T113831Z
LAST-MODIFIED:20260106T113926Z
UID:10007774-1768413600-1768419000@www.humanserviceforum.org
SUMMARY:Living A New Day (L.A.N.D.)
DESCRIPTION:
URL:https://www.humanserviceforum.org/event/living-a-new-day-l-a-n-d/
CATEGORIES:Community Calendar,HSF Member Event
ORGANIZER;CN="Each Moment We&#039%3Bre Alive%2CInc":MAILTO:cindy@eachmomentwerealive.net
END:VEVENT
BEGIN:VEVENT
DTSTART;TZID=America/New_York:20251209T180000
DTEND;TZID=America/New_York:20251209T193000
DTSTAMP:20260423T163511
CREATED:20251124T124528Z
LAST-MODIFIED:20251203T114801Z
UID:10007640-1765303200-1765308600@www.humanserviceforum.org
SUMMARY:Mindful Holidays: Navigating the Season
DESCRIPTION:Mindful Holidays Navigating the Season: Prioritizing Your Well-Being During the Holidays\n\nTue\, Dec 09 \nNavigating the Season: Prioritizing Your Well-Being During the Holidays A supportive and insightful event designed to help you embrace the joy of the holidays while protecting your health and peace of mind.
URL:https://www.humanserviceforum.org/event/mindful-holidays-navigating-the-season/
CATEGORIES:Community Calendar,HSF Member Event
ORGANIZER;CN="Each Moment We&#039%3Bre Alive%2CInc":MAILTO:cindy@eachmomentwerealive.net
END:VEVENT
BEGIN:VEVENT
DTSTART;TZID=America/New_York:20251208T164000
DTEND;TZID=America/New_York:20251208T193000
DTSTAMP:20260423T163511
CREATED:20251125T202013Z
LAST-MODIFIED:20251203T115124Z
UID:10007649-1765212000-1765222200@www.humanserviceforum.org
SUMMARY:Shop Small Give Big
DESCRIPTION:Not sure what to gift? Is it difficult to find local products to gift this holiday season? \nWe’ve got your solution! Download Your FREE holiday gift guide by Feel Good Shop Local and get inspired with all the amazing locally made and curated gift ideas for loved ones\, friends\, coworkers and more! \n  \nUse code EMWA10 at checkout and 10% donation comes to Each Moment We’re Alive\n\n\n\n\n\n\n\n\n\n\n\n\n\n\n\n\n\n\n\n\n\n\n\n\n\n\n\n\n\n\n\n\n\n\n\n\n\n\n\n\n\n\nShop ONLINE or Join IN PERSON \nfor the Annual Holiday SIP & SHOP \nMonday\, December 8 4:40 – 7:30 PM \nMercedes-Benz of Springfield
URL:https://www.humanserviceforum.org/event/shop-small-give-big/
CATEGORIES:Community Calendar,HSF Member Event
ATTACH;FMTTYPE=image/png:https://www.humanserviceforum.org/wp-content/uploads/2025/11/shop.png
ORGANIZER;CN="Each Moment We&#039%3Bre Alive%2CInc":MAILTO:cindy@eachmomentwerealive.net
END:VEVENT
BEGIN:VEVENT
DTSTART;TZID=America/New_York:20251101T080000
DTEND;TZID=America/New_York:20251101T110000
DTSTAMP:20260423T163511
CREATED:20251028T121544Z
LAST-MODIFIED:20251028T121544Z
UID:10007576-1761984000-1761994800@www.humanserviceforum.org
SUMMARY:SICS National Honor Society Breast Cancer Walk
DESCRIPTION:Springfield International Charter School \nNov 1 8-11 am \nWe will begin with a couple of survivors sharing their stories. Featured games\, raffles and vendor tables. \n  \nRSVP Cindy@eachmomentwerealive.org \n  \n  \n 
URL:https://www.humanserviceforum.org/event/sics-national-honor-society-breast-cancer-walk/
CATEGORIES:Community Calendar,HSF Member Event
ORGANIZER;CN="Each Moment We&#039%3Bre Alive%2CInc":MAILTO:cindy@eachmomentwerealive.net
END:VEVENT
BEGIN:VEVENT
DTSTART;TZID=America/New_York:20251016T180000
DTEND;TZID=America/New_York:20251016T200000
DTSTAMP:20260423T163511
CREATED:20250929T153927Z
LAST-MODIFIED:20250929T153927Z
UID:10007476-1760637600-1760644800@www.humanserviceforum.org
SUMMARY:Bingo With Molly
DESCRIPTION:October’s bingo is in support of Each Moment We’re Alive (EMWA) cancer support services & programs to assist cancer survivors during & AFTER treatments \nNo cover charge. Monetary donations encouraged. Flights & tastings end at 5PM.
URL:https://www.humanserviceforum.org/event/bingo-with-molly/
CATEGORIES:Community Calendar,HSF Member Event
ATTACH;FMTTYPE=image/jpeg:https://www.humanserviceforum.org/wp-content/uploads/2025/09/bingo.jpg
ORGANIZER;CN="Each Moment We&#039%3Bre Alive%2CInc":MAILTO:cindy@eachmomentwerealive.net
END:VEVENT
BEGIN:VEVENT
DTSTART;TZID=America/New_York:20251008T110000
DTEND;TZID=America/New_York:20251008T120000
DTSTAMP:20260423T163511
CREATED:20250929T150301Z
LAST-MODIFIED:20250929T150301Z
UID:10007475-1759921200-1759924800@www.humanserviceforum.org
SUMMARY:Raising Awareness in PINK October
DESCRIPTION:About the event\n\n\n\nEach Moment We’re Alive (EMWA) will raise the flag at Holyoke City Hal for the 3rd year in support of Breast Cancer Awareness. This event serves as a powerful visual reminder of the ongoing fight against breast cancer and EMWA’s commitment to supporting survivors and their families.
URL:https://www.humanserviceforum.org/event/raising-awareness-in-pink-october/
CATEGORIES:Community Calendar,HSF Member Event
ATTACH;FMTTYPE=image/jpeg:https://www.humanserviceforum.org/wp-content/uploads/2025/09/raising-pink.jpg
ORGANIZER;CN="Each Moment We&#039%3Bre Alive%2CInc":MAILTO:cindy@eachmomentwerealive.net
END:VEVENT
BEGIN:VEVENT
DTSTART;TZID=America/New_York:20251005T140000
DTEND;TZID=America/New_York:20251005T170000
DTSTAMP:20260423T163511
CREATED:20250903T123102Z
LAST-MODIFIED:20250922T121435Z
UID:10007310-1759672800-1759683600@www.humanserviceforum.org
SUMMARY:Board & Brush
DESCRIPTION:Kick off breast cancer awareness month by joining us for a joyful\, uplifting afternoon bursting with Zesta-style energy—where creativity\, confidence\, and community shine\, all in support of cancer survivors. \n  \nThis special fundraiser features DIY fun with Board & Brush: visit their gallery online\, pick your favorite design\, and get a stained wood board\, stencil\, and all the supplies you need. With options for all ages\, you can craft from the comfort of home or join us on-site during the event—either way\, you’ll be creating for a cause. \n  \n\nCraft Your Own Wood Sign from hundreds of designs—no experience needed!\nEnjoy Tasty Bites & Specialty Cocktails\nKids welcome – fun for all ages!\n\n  \nExperience the latest Zesta-Style vibes from Girlfriend in Your Closet. Jen has been crafting stunning Zesta521 necklace/bracelet sets that pair perfectly with patterned cotton tops and our Zesta ponchos in a range of gorgeous colors. With Anita and Jen’s expert touch\, you’ll discover a personal style that’s effortlessly fabulous. \n 
URL:https://www.humanserviceforum.org/event/board-brush/
CATEGORIES:Community Calendar,HSF Member Event
ORGANIZER;CN="Each Moment We&#039%3Bre Alive%2CInc":MAILTO:cindy@eachmomentwerealive.net
END:VEVENT
BEGIN:VEVENT
DTSTART;TZID=America/New_York:20251002T173000
DTEND;TZID=America/New_York:20251002T210000
DTSTAMP:20260423T163511
CREATED:20250929T145928Z
LAST-MODIFIED:20250929T145928Z
UID:10007474-1759426200-1759438800@www.humanserviceforum.org
SUMMARY:Celebrity Bartending
DESCRIPTION:Celebrity Bartending – In honor of Breast Cancer Awareness Month\n\n\nOct 02\, 2025\, 5:30 PM – 9:00 PM\nWest Springfield\, 429 Morgan Rd\, West Springfield\, MA 01089\, USA\n\n\nIn honor of Breast Cancer Awareness Month Join WS Park & Recreation Dept & Each Moment We’re Alive cancer survivors as Celebrity Bartenders.
URL:https://www.humanserviceforum.org/event/celebrity-bartending/
CATEGORIES:Community Calendar,HSF Member Event
ATTACH;FMTTYPE=image/jpeg:https://www.humanserviceforum.org/wp-content/uploads/2025/09/celebrity.jpg
ORGANIZER;CN="Each Moment We&#039%3Bre Alive%2CInc":MAILTO:cindy@eachmomentwerealive.net
END:VEVENT
BEGIN:VEVENT
DTSTART;TZID=America/New_York:20250822T170000
DTEND;TZID=America/New_York:20250822T210000
DTSTAMP:20260423T163511
CREATED:20250624T190835Z
LAST-MODIFIED:20250624T190835Z
UID:10007112-1755882000-1755896400@www.humanserviceforum.org
SUMMARY:6th Annual Canines Against Cancer Support Walk
DESCRIPTION:6th Annual Canines Against Cancer Support Walk – Fundraiser\nAugust 22\, 2025 |  5:00–9:00 PM |  Morgan Road Pavilion\, West Springfield \n  \nLet’s spark some friendly competition! \n  \nJoin the Local or Virtual Circle of Angels Cancer Support Team. \nBoth teams are rallying to support cancer survivors and raise critical funds for EMWA. Whether you’re walking with us in person or cheering from afar\, your impact is powerful. Pick your team\, bring your spirit\, and let’s see which Circle of Angels can rise to the top! \nBecome a Furry Friend Fundraiser
URL:https://www.humanserviceforum.org/event/6th-annual-canines-against-cancer-support-walk/
CATEGORIES:Community Calendar,HSF Member Event
ORGANIZER;CN="Each Moment We&#039%3Bre Alive%2CInc":MAILTO:cindy@eachmomentwerealive.net
END:VEVENT
BEGIN:VEVENT
DTSTART;TZID=America/New_York:20250426T183000
DTEND;TZID=America/New_York:20250426T213000
DTSTAMP:20260423T163511
CREATED:20250407T132124Z
LAST-MODIFIED:20250416T141738Z
UID:10005517-1745692200-1745703000@www.humanserviceforum.org
SUMMARY:Derby Kickoff Party: Cocktails for a Cause
DESCRIPTION:About the event\n\n\n\nGet ready for a night of Derby-style elegance and excitement!  \nJoin us at Gary Rome Hyundai’s Derby Kickoff Party: Cocktails for a Cause\, where the showroom will be transformed into a festive celebration featuring: \n\n\nSignature cocktails and hors d’oeuvres  \n\n\nDerby-inspired decor and entertainment  \n\n\nDerby-themed games and horse races  \n\n\nPrizes for best homemade Derby hat & best-dressed Derby couple  \n\n\nExciting raffle prizes you won’t want to miss ️ \n \n\n\nEnjoy the fun while connecting with others and supporting a meaningful cause. The funds raised for Each Moment We’re Alive Cancer Support Network will be used to continue our mission of providing free programs\, resources\, and support for cancer survivors and their families as they navigate life during and after treatment. These funds will also help us add additional Licensed Clinical Social Workers (LCSWs) and facilitators to meet the increasing demand for our survivorship programs. This support ensures we can continue providing high-quality\, personalized care to those we serve\, making this a night to remember. \n \nBecome a 2025 Derby Sponsor \nWe invite you to join us as a sponsor for this special evening\, which directly benefits individuals and their families  \ndiagnosed with cancer! The Derby Kickoff provides the perfect opportunity to promote your business while  \nsupporting a worthy cause. Sponsors will receive the recognition outlined in the following enclosure. Cocktails  \nfor a Cause promises to be a memorable evening that underscores the power of community and compassion.
URL:https://www.humanserviceforum.org/event/derby-kickoff-party-cocktails-for-a-cause/
CATEGORIES:Community Calendar,HSF Member Event
ORGANIZER;CN="Each Moment We&#039%3Bre Alive%2CInc":MAILTO:cindy@eachmomentwerealive.net
END:VEVENT
BEGIN:VEVENT
DTSTART;TZID=America/New_York:20250120T180000
DTEND;TZID=America/New_York:20250120T193000
DTSTAMP:20260423T163511
CREATED:20241218T123728Z
LAST-MODIFIED:20241218T123728Z
UID:10005254-1737396000-1737401400@www.humanserviceforum.org
SUMMARY:L.A.N.D. Living a New Day - A New Norm After Cancer
DESCRIPTION:L.A.N.D. – Living a New Day\, A New Norm is a guided program which offers you a step-by-step process\, paired with knowledge and skills to create positive outcomes for living a sustainable future.
URL:https://www.humanserviceforum.org/event/l-a-n-d-living-a-new-day-a-new-norm-after-cancer-3/
CATEGORIES:Community Calendar,HSF Member Event
ORGANIZER;CN="Each Moment We&#039%3Bre Alive%2CInc":MAILTO:cindy@eachmomentwerealive.net
END:VEVENT
BEGIN:VEVENT
DTSTART;TZID=America/New_York:20250106T180000
DTEND;TZID=America/New_York:20250106T193000
DTSTAMP:20260423T163511
CREATED:20241218T123525Z
LAST-MODIFIED:20241218T123525Z
UID:10005253-1736186400-1736191800@www.humanserviceforum.org
SUMMARY:I survived Cancer\, Now What?
DESCRIPTION:Jan 06\, 2025\, 6:00 PM – 7:30 PM EST\n\n\n\nInteractive webinar to explore life beyond treatment with practical tools\, personal stories\, and support. Register today to take the next step in your cancer journey!
URL:https://www.humanserviceforum.org/event/i-survived-cancer-now-what/
CATEGORIES:Community Calendar,HSF Member Event
ORGANIZER;CN="Each Moment We&#039%3Bre Alive%2CInc":MAILTO:cindy@eachmomentwerealive.net
END:VEVENT
BEGIN:VEVENT
DTSTART;TZID=America/New_York:20241006T120000
DTEND;TZID=America/New_York:20241006T170000
DTSTAMP:20260423T163511
CREATED:20240830T171550Z
LAST-MODIFIED:20240830T171550Z
UID:10003399-1728216000-1728234000@www.humanserviceforum.org
SUMMARY:Cornhole Charity Fundraiser
DESCRIPTION:Please join ‘Each Moment We’re Alive’ for an afternoon fundraiser on Sunday\, October 6. TWO Brackets – Competitive & Social Cash Prizes for both brackets.The event\, hosted by Gary Rome Hyundai. Organized by SSS cornholeRegistration opens 8/1/2024All proceeds will benefit educational and support & survivorship programs for cancer survivors through ‘Each Moment We’re Alive’. There will be a food truck available on site.
URL:https://www.humanserviceforum.org/event/cornhole-charity-fundraiser/
CATEGORIES:Community Calendar,HSF Member Event
ORGANIZER;CN="Each Moment We&#039%3Bre Alive%2CInc":MAILTO:cindy@eachmomentwerealive.net
END:VEVENT
BEGIN:VEVENT
DTSTART;TZID=America/New_York:20240911T180000
DTEND;TZID=America/New_York:20240911T193000
DTSTAMP:20260423T163511
CREATED:20240830T163650Z
LAST-MODIFIED:20240830T163650Z
UID:10003398-1726077600-1726083000@www.humanserviceforum.org
SUMMARY:L.A.N.D. Living a New Day - A New Norm After Cancer
DESCRIPTION:This program is recommended for those who have completed their initial cancer treatments. Please contact Cindy if in treatment. Cindy@eachmomentwerealive.org \n  \n“Seasons may change\, but cancer doesn’t – Join us on the journey together!” \nEMWA Survivorship Program – 8 WEEKS  This small group is limited to 10 – If you are interested in being a part please R.S.V.P. soon. \nEach Moment We’re Alive – Living a New Day\, A New Norm (L.A.N.D.) is a guided 8 week program which offers you a step-by-step process\, paired with knowledge and skills to create positive outcomes for living a sustainable
URL:https://www.humanserviceforum.org/event/l-a-n-d-living-a-new-day-a-new-norm-after-cancer-2/
CATEGORIES:Community Calendar,HSF Member Event
ORGANIZER;CN="Each Moment We&#039%3Bre Alive%2CInc":MAILTO:cindy@eachmomentwerealive.net
END:VEVENT
END:VCALENDAR