BEGIN:VCALENDAR
VERSION:2.0
PRODID:-//Human Service Forum - ECPv6.15.20//NONSGML v1.0//EN
CALSCALE:GREGORIAN
METHOD:PUBLISH
X-ORIGINAL-URL:https://www.humanserviceforum.org
X-WR-CALDESC:Events for Human Service Forum
REFRESH-INTERVAL;VALUE=DURATION:PT1H
X-Robots-Tag:noindex
X-PUBLISHED-TTL:PT1H
BEGIN:VTIMEZONE
TZID:America/New_York
BEGIN:DAYLIGHT
TZOFFSETFROM:-0500
TZOFFSETTO:-0400
TZNAME:EDT
DTSTART:20230312T070000
END:DAYLIGHT
BEGIN:STANDARD
TZOFFSETFROM:-0400
TZOFFSETTO:-0500
TZNAME:EST
DTSTART:20231105T060000
END:STANDARD
BEGIN:DAYLIGHT
TZOFFSETFROM:-0500
TZOFFSETTO:-0400
TZNAME:EDT
DTSTART:20240310T070000
END:DAYLIGHT
BEGIN:STANDARD
TZOFFSETFROM:-0400
TZOFFSETTO:-0500
TZNAME:EST
DTSTART:20241103T060000
END:STANDARD
BEGIN:DAYLIGHT
TZOFFSETFROM:-0500
TZOFFSETTO:-0400
TZNAME:EDT
DTSTART:20250309T070000
END:DAYLIGHT
BEGIN:STANDARD
TZOFFSETFROM:-0400
TZOFFSETTO:-0500
TZNAME:EST
DTSTART:20251102T060000
END:STANDARD
END:VTIMEZONE
BEGIN:VEVENT
DTSTART;TZID=America/New_York:20240519T100000
DTEND;TZID=America/New_York:20240519T220000
DTSTAMP:20260424T010357
CREATED:20231221T150640Z
LAST-MODIFIED:20231221T150640Z
UID:10001157-1716112800-1716156000@www.humanserviceforum.org
SUMMARY:Shooting For Success
DESCRIPTION:Join us for an exciting two-day event to inspire and educate youth through sports and career exploration! Day one ignites with a unique “media day” at the Basketball Hall of Fame. This special event includes professional photos and launches a focused career readiness component for our young participants. Before diving into the 3v3 basketball tournament\, boys and girls in grades 7-12 will engage in a dynamic career exploration event. This jam-packed experience offers networking opportunities\, learning sessions\, and professional growth opportunities—all essential components to be completed before tournament entry. \nThe excitement continues with the top four teams from the initial rounds on day two. Beyond the games\, students will explore various industries through community partners\, collecting stamps from each. Day two will also include an electrifying 3-point contest and enlightening talks from inspiring guest speakers. \nScholarship prizes\, alternative prizes\, and partnerships with Spalding to feature FMS-themed basketballs will excite the event. Don’t miss this opportunity to join us for two days of sports\, education\, and valuable insights\, promising inspiration and growth!
URL:https://www.humanserviceforum.org/event/shooting-for-success/2024-05-19/
CATEGORIES:Community Calendar,HSF Member Event
END:VEVENT
END:VCALENDAR