BEGIN:VCALENDAR
VERSION:2.0
PRODID:-//Human Service Forum - ECPv6.15.20//NONSGML v1.0//EN
CALSCALE:GREGORIAN
METHOD:PUBLISH
X-ORIGINAL-URL:https://www.humanserviceforum.org
X-WR-CALDESC:Events for Human Service Forum
REFRESH-INTERVAL;VALUE=DURATION:PT1H
X-Robots-Tag:noindex
X-PUBLISHED-TTL:PT1H
BEGIN:VTIMEZONE
TZID:America/New_York
BEGIN:DAYLIGHT
TZOFFSETFROM:-0500
TZOFFSETTO:-0400
TZNAME:EDT
DTSTART:20240310T070000
END:DAYLIGHT
BEGIN:STANDARD
TZOFFSETFROM:-0400
TZOFFSETTO:-0500
TZNAME:EST
DTSTART:20241103T060000
END:STANDARD
BEGIN:DAYLIGHT
TZOFFSETFROM:-0500
TZOFFSETTO:-0400
TZNAME:EDT
DTSTART:20250309T070000
END:DAYLIGHT
BEGIN:STANDARD
TZOFFSETFROM:-0400
TZOFFSETTO:-0500
TZNAME:EST
DTSTART:20251102T060000
END:STANDARD
BEGIN:DAYLIGHT
TZOFFSETFROM:-0500
TZOFFSETTO:-0400
TZNAME:EDT
DTSTART:20260308T070000
END:DAYLIGHT
BEGIN:STANDARD
TZOFFSETFROM:-0400
TZOFFSETTO:-0500
TZNAME:EST
DTSTART:20261101T060000
END:STANDARD
END:VTIMEZONE
BEGIN:VEVENT
DTSTART;TZID=America/New_York:20251125T060000
DTEND;TZID=America/New_York:20251125T170000
DTSTAMP:20260424T024238
CREATED:20251009T141404Z
LAST-MODIFIED:20251009T141404Z
UID:10007492-1764050400-1764090000@www.humanserviceforum.org
SUMMARY:16th Annual March for the Food Bank
DESCRIPTION:Every year the Food Bank and Monte Belmonte lead a march against hunger for 43-miles from Springfield to Greenfield. Monte\, Congressman Jim McGovern\, Food Bank Executive Director Andrew Morehouse\, and marchers fundraise to support the mission of the Food Bank and spread awareness about how hunger effects people throughout the region. \nFor the 16th Annual March for the Food Bank\, our goal is to raise $650\,000 – the equivalent of 1\,300\,000 meals!\n \nThe community is encouraged to make donations by phone or online while Monte and the marchers make their way across three counties. Both WRSI – The River and New England Public Media will be airing special programming about food insecurity and hunger leading up to and during the days of the March. \nCan’t make it out to the March? You can also support our efforts by donating to the March or purchasing a Monte’s Mixed Bag. Each of the 100 exclusive bags is filled with a unique combination of goodies and gift cards\, and will become available at State Street Market and Coopers Corner October 28th for a donation of $100.
URL:https://www.humanserviceforum.org/event/16th-annual-march-for-the-food-bank/2025-11-25/
CATEGORIES:Community Calendar,HSF Member Event
ATTACH;FMTTYPE=image/png:https://www.humanserviceforum.org/wp-content/uploads/2025/10/monte.png
END:VEVENT
END:VCALENDAR