BEGIN:VCALENDAR
VERSION:2.0
PRODID:-//Human Service Forum - ECPv6.15.20//NONSGML v1.0//EN
CALSCALE:GREGORIAN
METHOD:PUBLISH
X-WR-CALNAME:Human Service Forum
X-ORIGINAL-URL:https://www.humanserviceforum.org
X-WR-CALDESC:Events for Human Service Forum
REFRESH-INTERVAL;VALUE=DURATION:PT1H
X-Robots-Tag:noindex
X-PUBLISHED-TTL:PT1H
BEGIN:VTIMEZONE
TZID:America/New_York
BEGIN:DAYLIGHT
TZOFFSETFROM:-0500
TZOFFSETTO:-0400
TZNAME:EDT
DTSTART:20230312T070000
END:DAYLIGHT
BEGIN:STANDARD
TZOFFSETFROM:-0400
TZOFFSETTO:-0500
TZNAME:EST
DTSTART:20231105T060000
END:STANDARD
BEGIN:DAYLIGHT
TZOFFSETFROM:-0500
TZOFFSETTO:-0400
TZNAME:EDT
DTSTART:20240310T070000
END:DAYLIGHT
BEGIN:STANDARD
TZOFFSETFROM:-0400
TZOFFSETTO:-0500
TZNAME:EST
DTSTART:20241103T060000
END:STANDARD
BEGIN:DAYLIGHT
TZOFFSETFROM:-0500
TZOFFSETTO:-0400
TZNAME:EDT
DTSTART:20250309T070000
END:DAYLIGHT
BEGIN:STANDARD
TZOFFSETFROM:-0400
TZOFFSETTO:-0500
TZNAME:EST
DTSTART:20251102T060000
END:STANDARD
BEGIN:DAYLIGHT
TZOFFSETFROM:-0500
TZOFFSETTO:-0400
TZNAME:EDT
DTSTART:20260308T070000
END:DAYLIGHT
BEGIN:STANDARD
TZOFFSETFROM:-0400
TZOFFSETTO:-0500
TZNAME:EST
DTSTART:20261101T060000
END:STANDARD
END:VTIMEZONE
BEGIN:VEVENT
DTSTART;TZID=America/New_York:20250411T093000
DTEND;TZID=America/New_York:20250411T150000
DTSTAMP:20260423T202219
CREATED:20250401T143456Z
LAST-MODIFIED:20250401T143456Z
UID:10005508-1744363800-1744383600@www.humanserviceforum.org
SUMMARY:Transportation Forum: Western MA is on the Move!
DESCRIPTION:Join the third Western Mass Transportation Advocacy Network Forum on April 11th! This event is for anyone interested in transportation access\, funding\, and innovation in the four counties of western MA. Admission is free. You’ll hear from a keynote speaker\, as well as moderated panels on funding\, microtransit\, cross-county collaboration\, and the intersection of transportation with housing and food access. Discover what’s happening now and how to improve transportation in our region!
URL:https://www.humanserviceforum.org/event/transportation-forum-western-ma-is-on-the-move/
CATEGORIES:Community Calendar,HSF Member Event
END:VEVENT
BEGIN:VEVENT
DTSTART;TZID=America/New_York:20250114T183000
DTEND;TZID=America/New_York:20250114T193000
DTSTAMP:20260423T202219
CREATED:20241217T143748Z
LAST-MODIFIED:20241217T143748Z
UID:10005244-1736879400-1736883000@www.humanserviceforum.org
SUMMARY:Create Better Health: My Plate Cooking Class
DESCRIPTION:  \nThe Food Bank of Western Massachusetts\, in partnership with SNAP-Ed\, offers free nutrition education programs to our member agencies. \nIn this cooking presentation\, we’ll explore MyPlate healthy eating guidelines\, decipher the nutrition facts labels and learn how to make a budget-friendly meal! \nFor more information\, contact Nutrition Coordinators Abigail Killian at abigailk@foodbankwma.org (413)419-1156 or Katie Grimaldi at katiel@foodbankwma.org (413)203-6379.
URL:https://www.humanserviceforum.org/event/create-better-health-my-plate-cooking-class/
CATEGORIES:Community Calendar,HSF Member Event
END:VEVENT
BEGIN:VEVENT
DTSTART;TZID=America/New_York:20241126T063000
DTEND;TZID=America/New_York:20241126T180000
DTSTAMP:20260423T202219
CREATED:20241015T123128Z
LAST-MODIFIED:20241015T123128Z
UID:10004211-1732602600-1732644000@www.humanserviceforum.org
SUMMARY:March for the Food Bank
DESCRIPTION:15 years ago\, Monte Belmonte pushed an empty shopping cart from Northampton to Greenfield with the goal of raising $5\,000 for the Food Bank. He raised $13\,000 that year\, and started a movement that has become the three county\, 43-mile March for the Food Bank. \n  \nJoin Monte\, Congressman Jim McGovern\, & Food Bank Executive Director Andrew Morehouse as they march from Springfield to Greenfield this November.  \nOur $500\,000 goal for this march will enable the Food Bank to provide the equivalent of 1.5 million meals to the community! \n 
URL:https://www.humanserviceforum.org/event/march-for-the-food-bank/2024-11-26/
CATEGORIES:Community Calendar,HSF Member Event
END:VEVENT
BEGIN:VEVENT
DTSTART;TZID=America/New_York:20241019T120000
DTEND;TZID=America/New_York:20241019T200000
DTSTAMP:20260423T202219
CREATED:20240827T140737Z
LAST-MODIFIED:20240827T140737Z
UID:10003317-1729339200-1729368000@www.humanserviceforum.org
SUMMARY:Fall Food Festival
DESCRIPTION:
URL:https://www.humanserviceforum.org/event/fall-food-festival/
CATEGORIES:Community Calendar,HSF Member Event
END:VEVENT
BEGIN:VEVENT
DTSTART;TZID=America/New_York:20241019T120000
DTEND;TZID=America/New_York:20241019T160000
DTSTAMP:20260423T202219
CREATED:20240827T141002Z
LAST-MODIFIED:20240827T141002Z
UID:10003318-1729339200-1729353600@www.humanserviceforum.org
SUMMARY:Roundhouse Rally Classic Car Show
DESCRIPTION:
URL:https://www.humanserviceforum.org/event/roundhouse-rally-classic-car-show/
CATEGORIES:Community Calendar,HSF Member Event
END:VEVENT
BEGIN:VEVENT
DTSTART;TZID=America/New_York:20240922T070000
DTEND;TZID=America/New_York:20240922T170000
DTSTAMP:20260423T202219
CREATED:20240416T142353Z
LAST-MODIFIED:20240416T142353Z
UID:10002444-1726988400-1727024400@www.humanserviceforum.org
SUMMARY:Will Bike 4 Food
DESCRIPTION:Will Bike 4 Food (WB4F) is back for its 14th year!This fun cycling event raises funds and awareness for The Food Bank of Western Massachusetts. Cyclists of all levels can pedal towards a hunger-free future by joining us for a Century (100 mile)\, Half Century (50 mile)\, Quarter Century (25 mile)\, or the 10-mile Family Fun Ride. Registered riders can also choose to participate virtually by riding their miles any time in September during Hunger Action Month. \n 
URL:https://www.humanserviceforum.org/event/will-bike-4-food-2/
CATEGORIES:Community Calendar,HSF Member Event
END:VEVENT
BEGIN:VEVENT
DTSTART;TZID=America/New_York:20240821T170000
DTEND;TZID=America/New_York:20240821T190000
DTSTAMP:20260423T202219
CREATED:20240717T133252Z
LAST-MODIFIED:20240717T133252Z
UID:10003169-1724259600-1724266800@www.humanserviceforum.org
SUMMARY:Voices in Food Equity: Nourishing Tomorrow's Leaders
DESCRIPTION:Join us for Voices in Food Equity: Nourishing Tomorrow’s Leaders on Wednesday\, August 21st at Berkshire Community College from 5:00-7:30 PM. This crucial event will address childhood hunger as well as its impact on students through college in Western Massachusetts. We’re excited to learn about community-driven solutions and the importance of legislative action together as a community. Register using the link below!\nThis event is completely free however space is limited. So\, secure your seat now and join us for incredible discussions and delicious hors d’oeuvres!
URL:https://www.humanserviceforum.org/event/voices-in-food-equity-nourishing-tomorrows-leaders/
CATEGORIES:Community Calendar,HSF Member Event
END:VEVENT
BEGIN:VEVENT
DTSTART;TZID=America/New_York:20240612T170000
DTEND;TZID=America/New_York:20240612T193000
DTSTAMP:20260423T202219
CREATED:20240529T130749Z
LAST-MODIFIED:20240529T130749Z
UID:10003023-1718211600-1718220600@www.humanserviceforum.org
SUMMARY:Voices in Food Equity
DESCRIPTION: 
URL:https://www.humanserviceforum.org/event/voices-in-food-equity-2/
CATEGORIES:Community Calendar,HSF Member Event
END:VEVENT
BEGIN:VEVENT
DTSTART;TZID=America/New_York:20240518T090000
DTEND;TZID=America/New_York:20240518T110000
DTSTAMP:20260423T202219
CREATED:20240501T101813Z
LAST-MODIFIED:20240501T101813Z
UID:10002894-1716022800-1716030000@www.humanserviceforum.org
SUMMARY:The Heirloom Classic 5k
DESCRIPTION:The Heirloom Collective is proud to present our THIRD annual “The Heirloom Classic 5K” – a charity run and walk to benefit The Food Bank of Western Massachusetts.  All proceeds raised from registration fees\, donations\, and sponsorships will be directly donated to The Food Bank.  The course is a challenging but rewarding out-and-back that departs from Crumpin Fox Golf Course and traverses via Purple Meadow Road to the crest of the hill and back.  Hydration aid stations will be set up along the way. All fitness levels are welcome and encouraged to join.  Run\, or walk\, just come out and join us for a morning of fresh air for a good cause!  Click the link above to register and visit The Heirloom Classic 5K website to learn more about The Food Bank of Western Massachusetts and it’s impact on the local community.  Sign in begins at 8AM and the race begins at 9AM.  Saturday May 18\, 2023.  We look forward to seeing you out there!
URL:https://www.humanserviceforum.org/event/the-heirloom-classic-5k/
CATEGORIES:Community Calendar,HSF Member Event
END:VEVENT
BEGIN:VEVENT
DTSTART;TZID=America/New_York:20240511T160000
DTEND;TZID=America/New_York:20240511T180000
DTSTAMP:20260423T202219
CREATED:20240501T101532Z
LAST-MODIFIED:20240501T101532Z
UID:10002893-1715443200-1715450400@www.humanserviceforum.org
SUMMARY:Springfield Symphony Chorus “Sing\, Praise\, Light II”
DESCRIPTION:
URL:https://www.humanserviceforum.org/event/springfield-symphony-chorus-sing-praise-light-ii/
CATEGORIES:Community Calendar,HSF Member Event
END:VEVENT
BEGIN:VEVENT
DTSTART;TZID=America/New_York:20240501T080000
DTEND;TZID=America/New_York:20240501T170000
DTSTAMP:20260423T202219
CREATED:20240416T141719Z
LAST-MODIFIED:20240416T141719Z
UID:10002443-1714550400-1714582800@www.humanserviceforum.org
SUMMARY:Early Registration Will Bike 4 Food
DESCRIPTION:Will Bike 4 Food (WB4F) is back for its 14th year!This fun cycling event raises funds and awareness for The Food Bank of Western Massachusetts. Cyclists of all levels can pedal towards a hunger-free future by joining us for a Century (100 mile)\, Half Century (50 mile)\, Quarter Century (25 mile)\, or the 10-mile Family Fun Ride. Registered riders can also choose to participate virtually by riding their miles any time in September during Hunger Action Month.
URL:https://www.humanserviceforum.org/event/early-registration-will-bike-4-food/
CATEGORIES:Community Calendar,HSF Member Event
END:VEVENT
END:VCALENDAR