BEGIN:VCALENDAR
VERSION:2.0
PRODID:-//Human Service Forum - ECPv6.15.20//NONSGML v1.0//EN
CALSCALE:GREGORIAN
METHOD:PUBLISH
X-ORIGINAL-URL:https://www.humanserviceforum.org
X-WR-CALDESC:Events for Human Service Forum
REFRESH-INTERVAL;VALUE=DURATION:PT1H
X-Robots-Tag:noindex
X-PUBLISHED-TTL:PT1H
BEGIN:VTIMEZONE
TZID:America/New_York
BEGIN:DAYLIGHT
TZOFFSETFROM:-0500
TZOFFSETTO:-0400
TZNAME:EDT
DTSTART:20230312T070000
END:DAYLIGHT
BEGIN:STANDARD
TZOFFSETFROM:-0400
TZOFFSETTO:-0500
TZNAME:EST
DTSTART:20231105T060000
END:STANDARD
BEGIN:DAYLIGHT
TZOFFSETFROM:-0500
TZOFFSETTO:-0400
TZNAME:EDT
DTSTART:20240310T070000
END:DAYLIGHT
BEGIN:STANDARD
TZOFFSETFROM:-0400
TZOFFSETTO:-0500
TZNAME:EST
DTSTART:20241103T060000
END:STANDARD
BEGIN:DAYLIGHT
TZOFFSETFROM:-0500
TZOFFSETTO:-0400
TZNAME:EDT
DTSTART:20250309T070000
END:DAYLIGHT
BEGIN:STANDARD
TZOFFSETFROM:-0400
TZOFFSETTO:-0500
TZNAME:EST
DTSTART:20251102T060000
END:STANDARD
BEGIN:DAYLIGHT
TZOFFSETFROM:-0500
TZOFFSETTO:-0400
TZNAME:EDT
DTSTART:20260308T070000
END:DAYLIGHT
BEGIN:STANDARD
TZOFFSETFROM:-0400
TZOFFSETTO:-0500
TZNAME:EST
DTSTART:20261101T060000
END:STANDARD
END:VTIMEZONE
BEGIN:VEVENT
DTSTART;TZID=America/New_York:20251205T174000
DTEND;TZID=America/New_York:20251205T184000
DTSTAMP:20260423T230301
CREATED:20251202T155338Z
LAST-MODIFIED:20251203T115521Z
UID:10007664-1764956400-1764960000@www.humanserviceforum.org
SUMMARY:Teddy Bear Toss
DESCRIPTION:Anna Maria College will be hosting a toy drive at their girl’s ice hockey game on December 5th.\nAll toys donated will be given to Gandara’s ICC program to distribute to families in need.
URL:https://www.humanserviceforum.org/event/teddy-bear-toss/
CATEGORIES:Community Calendar,HSF Member Event
ATTACH;FMTTYPE=image/jpeg:https://www.humanserviceforum.org/wp-content/uploads/2025/12/toss.jpg
END:VEVENT
BEGIN:VEVENT
DTSTART;TZID=America/New_York:20251117T080000
DTEND;TZID=America/New_York:20251117T170000
DTSTAMP:20260423T230301
CREATED:20251029T133716Z
LAST-MODIFIED:20251105T125519Z
UID:10007584-1763366400-1763398800@www.humanserviceforum.org
SUMMARY:Community Care Package Drive
DESCRIPTION:Each year\, our Community Care Package Drive reminds us what kindness looks like in action. Last year\, your generosity helped us bring comfort and essentials to hundreds of families across our communities.\n\n\nWe’re doing it again\, and we need your help to keep it going.\n\n\nIf you’re able to donate\, organize a collection\, or spread the word\, you’ll help us reach even more families who count on our support.\n\n\nPlease share this with your friends\, families\, workplaces\, and any platforms where it can make a difference. Every box\, every share\, every small act matters.\n\n\nLet’s move hope forward. Thank you for your help.
URL:https://www.humanserviceforum.org/event/community-care-package-drive-3/2025-11-17/
CATEGORIES:Community Calendar,HSF Member Event
ATTACH;FMTTYPE=image/jpeg:https://www.humanserviceforum.org/wp-content/uploads/2025/10/gandaracare.jpg
END:VEVENT
BEGIN:VEVENT
DTSTART;TZID=America/New_York:20251030T173000
DTEND;TZID=America/New_York:20251030T193000
DTSTAMP:20260423T230301
CREATED:20251029T134008Z
LAST-MODIFIED:20251029T134008Z
UID:10007585-1761845400-1761852600@www.humanserviceforum.org
SUMMARY:Trunk or Treat
DESCRIPTION:Gándara Center is partnering with Monte Marie again this year to host a Trunk or Treat Event TOMORROW\, Wednesday\, October 30th \, from 5:30 pm to 7:30 pm at the Mont Marie facility at 36 Lower Westfield Road\, Holyoke. We are looking for agencies to decorate the trunks of their cars and provide candy to youth and families. We are asking trunks to arrive between 4:30 pm and 5:00 pm\, so we will be ready to begin at 5:30 pm. If you are available\, please register using the link below\, so we will know how many trunks to expect.\n\n\nhttps://forms.gle/BSZjqLM7jvpD1jex7
URL:https://www.humanserviceforum.org/event/trunk-or-treat-2/
CATEGORIES:Community Calendar,HSF Member Event
ATTACH;FMTTYPE=image/jpeg:https://www.humanserviceforum.org/wp-content/uploads/2025/10/trunk-or-treat.jpg
END:VEVENT
BEGIN:VEVENT
DTSTART;TZID=America/New_York:20251022T120000
DTEND;TZID=America/New_York:20251022T170000
DTSTAMP:20260423T230301
CREATED:20251022T101631Z
LAST-MODIFIED:20251022T101631Z
UID:10007511-1761134400-1761152400@www.humanserviceforum.org
SUMMARY:Community Care Package Drive
DESCRIPTION:Each year\, our Community Care Package Drive reminds us what kindness looks like in action. Last year\, your generosity helped us bring comfort and essentials to hundreds of families across our communities.\n\n\nWe’re doing it again\, and we need your help to keep it going.\n\n\nIf you’re able to donate\, organize a collection\, or spread the word\, you’ll help us reach even more families who count on our support.\n\n\nPlease share this with your friends\, families\, workplaces\, and any platforms where it can make a difference. Every box\, every share\, every small act matters.\n\n\nLet’s move hope forward. Thank you for your help.
URL:https://www.humanserviceforum.org/event/community-care-package-drive-2/
CATEGORIES:Community Calendar,HSF Member Event
ATTACH;FMTTYPE=image/jpeg:https://www.humanserviceforum.org/wp-content/uploads/2025/10/package-drive.jpg
END:VEVENT
BEGIN:VEVENT
DTSTART;TZID=America/New_York:20250816T080000
DTEND;TZID=America/New_York:20250816T120000
DTSTAMP:20260423T230301
CREATED:20250625T132809Z
LAST-MODIFIED:20250625T132809Z
UID:10007115-1755331200-1755345600@www.humanserviceforum.org
SUMMARY:11th Annual Mindful Miles
DESCRIPTION:Introducing Journey: The Heart of Our Annual 5K \n\nWe’re excited to unveil our new mascot for our annual 5K—Journey! \n​ \nJourney represents the long-term commitment to mental health and the power of walking alongside others on this path. \n\nMore than just a mascot\, Journey embodies care\, love\, and thoughtfulness\, reminding us that every step we take helps change the way the world views mental health. \n​ \nJoin us as we move forward\, together—one step at a time.
URL:https://www.humanserviceforum.org/event/11th-annual-mindful-miles/
CATEGORIES:Community Calendar,HSF Member Event
END:VEVENT
BEGIN:VEVENT
DTSTART;TZID=America/New_York:20250626T180000
DTEND;TZID=America/New_York:20250626T200000
DTSTAMP:20260423T230301
CREATED:20250625T123008Z
LAST-MODIFIED:20250625T123008Z
UID:10007114-1750960800-1750968000@www.humanserviceforum.org
SUMMARY:MTCP Comic Book Showcase
DESCRIPTION:Please join our MTCP\, Tobacco Free Communities Program to celebrate our youth for being brave to create art and share it with the world. We’d like to invite you to the MTCP Comic Book Showcase. This project was a joint effort with the 84movement\, and the Master Heo’s Tae Kwon Do Center in Holyoke to give youth a creative outlet to express themselves and their experiences when it comes to tobacco products and vaping.
URL:https://www.humanserviceforum.org/event/mtcp-comic-book-showcase/
CATEGORIES:Community Calendar,HSF Member Event
END:VEVENT
BEGIN:VEVENT
DTSTART;TZID=America/New_York:20241113T080000
DTEND;TZID=America/New_York:20241113T170000
DTSTAMP:20260423T230301
CREATED:20241001T154318Z
LAST-MODIFIED:20241001T154318Z
UID:10003815-1731484800-1731517200@www.humanserviceforum.org
SUMMARY:Community Care Package Drive
DESCRIPTION:
URL:https://www.humanserviceforum.org/event/community-care-package-drive/2024-11-13/
CATEGORIES:Community Calendar,HSF Member Event
END:VEVENT
BEGIN:VEVENT
DTSTART;TZID=America/New_York:20240818T080000
DTEND;TZID=America/New_York:20240818T170000
DTSTAMP:20260423T230301
CREATED:20240730T132349Z
LAST-MODIFIED:20240730T132349Z
UID:10003221-1723968000-1724000400@www.humanserviceforum.org
SUMMARY:Annual Frozen Yogurt 5K Run/Walk
DESCRIPTION:
URL:https://www.humanserviceforum.org/event/annual-frozen-yogurt-5k-run-walk/
CATEGORIES:Community Calendar,HSF Member Event
END:VEVENT
BEGIN:VEVENT
DTSTART;TZID=America/New_York:20240522T100000
DTEND;TZID=America/New_York:20240522T140000
DTSTAMP:20260423T230301
CREATED:20240516T102232Z
LAST-MODIFIED:20240516T102232Z
UID:10002966-1716372000-1716386400@www.humanserviceforum.org
SUMMARY:New Bedford Hiring Event - Gándara Center
DESCRIPTION:We’re hiring! Join us Wednesday\, May 22 from 10 a.m. to 2 p.m. in New Bedford. Come meet us\, learn about the roles we have to offer like the opportunity to be a Youth Mentor or Clinician\, and make a difference in our community.
URL:https://www.humanserviceforum.org/event/new-bedford-hiring-event-gandara-center/
LOCATION:376 Nash Rd\, New Bedford\, MA\, 376 Nash Rd\, New Bedford\, 02740\, United States
CATEGORIES:Community Calendar,HSF Member Event
END:VEVENT
BEGIN:VEVENT
DTSTART;TZID=America/New_York:20240209T110000
DTEND;TZID=America/New_York:20240209T120000
DTSTAMP:20260423T230301
CREATED:20240201T152112Z
LAST-MODIFIED:20240201T154250Z
UID:10001812-1707476400-1707480000@www.humanserviceforum.org
SUMMARY:Gandara Center celebrates New Family Resource Center in Sprinfield
DESCRIPTION:The Gándara Center will be hosting a Ribbon Cutting celebration at its new Family Resource Center on Friday\, February 9th from 11 a.m. to 12 p.m. The new program located at 1095 Main Street in Springfield\, provides a number of resources for families in one convenient and accessible location. \nThe FRC provides parenting programs\, support groups\, information and referral resources\, assessment services\, early childhood services and educational programs for families whose children range in age from birth to 18 years old. Families can also get help navigating through housing\, education\, courts and legal systems as well as health insurance\, EBT and behavioral health services.
URL:https://www.humanserviceforum.org/event/gandara-center-celebrates-new-family-resource-center-in-sprinfield/
LOCATION:Gandara Center\, 1095 main street i\, Springfield\, MA\, 01104\, United States
CATEGORIES:Community Calendar,HSF Member Event
END:VEVENT
END:VCALENDAR