BEGIN:VCALENDAR
VERSION:2.0
PRODID:-//Human Service Forum - ECPv6.15.20//NONSGML v1.0//EN
CALSCALE:GREGORIAN
METHOD:PUBLISH
X-ORIGINAL-URL:https://www.humanserviceforum.org
X-WR-CALDESC:Events for Human Service Forum
REFRESH-INTERVAL;VALUE=DURATION:PT1H
X-Robots-Tag:noindex
X-PUBLISHED-TTL:PT1H
BEGIN:VTIMEZONE
TZID:America/New_York
BEGIN:DAYLIGHT
TZOFFSETFROM:-0500
TZOFFSETTO:-0400
TZNAME:EDT
DTSTART:20230312T070000
END:DAYLIGHT
BEGIN:STANDARD
TZOFFSETFROM:-0400
TZOFFSETTO:-0500
TZNAME:EST
DTSTART:20231105T060000
END:STANDARD
BEGIN:DAYLIGHT
TZOFFSETFROM:-0500
TZOFFSETTO:-0400
TZNAME:EDT
DTSTART:20240310T070000
END:DAYLIGHT
BEGIN:STANDARD
TZOFFSETFROM:-0400
TZOFFSETTO:-0500
TZNAME:EST
DTSTART:20241103T060000
END:STANDARD
BEGIN:DAYLIGHT
TZOFFSETFROM:-0500
TZOFFSETTO:-0400
TZNAME:EDT
DTSTART:20250309T070000
END:DAYLIGHT
BEGIN:STANDARD
TZOFFSETFROM:-0400
TZOFFSETTO:-0500
TZNAME:EST
DTSTART:20251102T060000
END:STANDARD
BEGIN:DAYLIGHT
TZOFFSETFROM:-0500
TZOFFSETTO:-0400
TZNAME:EDT
DTSTART:20260308T070000
END:DAYLIGHT
BEGIN:STANDARD
TZOFFSETFROM:-0400
TZOFFSETTO:-0500
TZNAME:EST
DTSTART:20261101T060000
END:STANDARD
END:VTIMEZONE
BEGIN:VEVENT
DTSTART;TZID=America/New_York:20250219T173000
DTEND;TZID=America/New_York:20250219T190000
DTSTAMP:20260424T013934
CREATED:20250203T132603Z
LAST-MODIFIED:20250205T152535Z
UID:10005425-1739986200-1739991600@www.humanserviceforum.org
SUMMARY:Habitat Open House
DESCRIPTION:Join us for an inspiring and interactive Open House hosted by Greater Springfield Habitat for Humanity! Whether you’re curious about our mission\, eager to get involved\, or just want to learn more about how we build stronger communities\, this is the perfect opportunity. There is no fee but an RSVP is appreciated. Reserve your spot today: bit.ly/4jwNo0i
URL:https://www.humanserviceforum.org/event/habitat-open-house/
LOCATION:East Forest Park Library\, 136 Surrey Road\, Springfield MA\, MA\, 01109\, United States
CATEGORIES:Community Calendar,HSF Member Event
END:VEVENT
BEGIN:VEVENT
DTSTART;TZID=America/New_York:20250212T170000
DTEND;TZID=America/New_York:20250212T190000
DTSTAMP:20260424T013934
CREATED:20250127T154111Z
LAST-MODIFIED:20250127T154111Z
UID:10005382-1739379600-1739386800@www.humanserviceforum.org
SUMMARY:Habitat "Home" School
DESCRIPTION:Habitat Home School is a monthly interactive online class that teaches its participants how to become financially ready to apply for Greater Springfield Habitat’s homeownership program. The inaugural class “Building Strong Credit” will be held in English on Wednesday\, Feb. 12\, at 5pm; and Tuesday\, Feb. 18\, at 5pm for Spanish speakers. There is no cost to attend\, but registration is required. Classes are offered in collaboration with Operation Hope and will be lead by their instructors.
URL:https://www.humanserviceforum.org/event/habitat-home-school/
CATEGORIES:Community Calendar,HSF Member Event
END:VEVENT
BEGIN:VEVENT
DTSTART;TZID=America/New_York:20241107T180000
DTEND;TZID=America/New_York:20241107T210000
DTSTAMP:20260424T013934
CREATED:20241003T140012Z
LAST-MODIFIED:20241003T140012Z
UID:10003816-1731002400-1731013200@www.humanserviceforum.org
SUMMARY:Building Dreams
DESCRIPTION:For more than 30 years\, our community partners have played a critical role in helping local families gain strength\, stability\, and self-reliance through our homeownership and home preservation programs. Building Dreams provides a wonderful opportunity for you and our attendees to hear about our projects\, meet our partner families\, connect with colleagues and friends\, and support our efforts throughout the Greater Springfield area while enjoying delicious food samplings from area restaurants and the chance to bid on fabulous prizes.
URL:https://www.humanserviceforum.org/event/building-dreams/
LOCATION:Twin Hills Country Club\, Longmeadow\, MA\, United States
CATEGORIES:Community Calendar,HSF Member Event
GEO:42.0501022;-72.5828642
END:VEVENT
BEGIN:VEVENT
DTSTART;TZID=America/New_York:20241023T180000
DTEND;TZID=America/New_York:20241023T193000
DTSTAMP:20260424T013934
CREATED:20241016T125612Z
LAST-MODIFIED:20241016T125612Z
UID:10004279-1729706400-1729711800@www.humanserviceforum.org
SUMMARY:Financial Literacy Workshop: "Keep it safe: Protecting your identity"
DESCRIPTION:
URL:https://www.humanserviceforum.org/event/financial-literacy-workshop-keep-it-safe-protecting-your-identity/
CATEGORIES:Community Calendar,HSF Member Event
END:VEVENT
BEGIN:VEVENT
DTSTART;TZID=America/New_York:20240911T180000
DTEND;TZID=America/New_York:20240911T193000
DTSTAMP:20260424T013934
CREATED:20240820T153058Z
LAST-MODIFIED:20240828T115404Z
UID:10003276-1726077600-1726083000@www.humanserviceforum.org
SUMMARY:Financial Literacy Workshop
DESCRIPTION:
URL:https://www.humanserviceforum.org/event/74820/
CATEGORIES:Community Calendar,HSF Member Event
END:VEVENT
BEGIN:VEVENT
DTSTART;TZID=America/New_York:20240822T180000
DTEND;TZID=America/New_York:20240822T190000
DTSTAMP:20260424T013934
CREATED:20240820T152810Z
LAST-MODIFIED:20240820T152810Z
UID:10003275-1724349600-1724353200@www.humanserviceforum.org
SUMMARY:Focus on Your Future
DESCRIPTION:  \n  \n \n  \n\n\n\n\n\n\nGet ready to learn the basics of making a budget\, how to read a credit report\, and what can be done to correct errors that may negatively affect your credit rating. Led by HOPE Financial Wellbeing Coach Amy Hoerle\, the workshop will also cover your rights as a consumer and how to make the most of them. The workshop is free to attendees\, but registration is required.​ \n​ \nThe same course will be offered on back-to-back days. Which day works better for your schedule?
URL:https://www.humanserviceforum.org/event/focus-on-your-future-2/
CATEGORIES:Community Calendar,HSF Member Event
END:VEVENT
BEGIN:VEVENT
DTSTART;TZID=America/New_York:20240821T180000
DTEND;TZID=America/New_York:20240821T190000
DTSTAMP:20260424T013934
CREATED:20240820T152647Z
LAST-MODIFIED:20240820T152647Z
UID:10003274-1724263200-1724266800@www.humanserviceforum.org
SUMMARY:Focus on Your Future
DESCRIPTION:  \n  \n \n  \n\n\n\n\n\n\nGet ready to learn the basics of making a budget\, how to read a credit report\, and what can be done to correct errors that may negatively affect your credit rating. Led by HOPE Financial Wellbeing Coach Amy Hoerle\, the workshop will also cover your rights as a consumer and how to make the most of them. The workshop is free to attendees\, but registration is required.​ \n​ \nThe same course will be offered on back-to-back days. Which day works better for your schedule?
URL:https://www.humanserviceforum.org/event/focus-on-your-future/
CATEGORIES:Community Calendar,HSF Member Event
END:VEVENT
BEGIN:VEVENT
DTSTART;VALUE=DATE:20240630
DTEND;VALUE=DATE:20240701
DTSTAMP:20260424T013934
CREATED:20240516T102826Z
LAST-MODIFIED:20240522T104755Z
UID:10002973-1719734400-1719766800@www.humanserviceforum.org
SUMMARY:Veteran Homeowner Repair Services Accepting Applications
DESCRIPTION:Greater Springfield Habitat is accepting applications for veteran homeowners needing home repair services. Please call our office at 413-739-5503 to receive an application and home assessment. Open to any honorably discharged veteran must be able to provide a copy of DD214 to verify veteran status.
URL:https://www.humanserviceforum.org/event/veteran-homeowner-repair-services/2024-06-30/
LOCATION:Greater Springfield Habitat for Humanity\, 268 Cold Spring Ave\, West Springfield\, MA\, 01089\, United States
CATEGORIES:Community Calendar,HSF Member Event
END:VEVENT
BEGIN:VEVENT
DTSTART;TZID=America/New_York:20240607T180000
DTEND;TZID=America/New_York:20240607T210000
DTSTAMP:20260424T013934
CREATED:20240516T102536Z
LAST-MODIFIED:20240516T102536Z
UID:10002969-1717783200-1717794000@www.humanserviceforum.org
SUMMARY:Paint & Pinot Party
DESCRIPTION:Paint and Sip party hosted by the Raymour and Flanigan Outlet Store\, 1406 Elm Street\, West Springfield\, to support Greater Springfield Habitat for Humanity.\nJoin us for a fun night of painting\, conversation\, wine tasting and raffle prizes.\nPreregistration is required\, cost is $30.00 paid at the door
URL:https://www.humanserviceforum.org/event/paint-pinot-party/
CATEGORIES:Community Calendar,HSF Member Event
END:VEVENT
BEGIN:VEVENT
DTSTART;VALUE=DATE:20240601
DTEND;VALUE=DATE:20240602
DTSTAMP:20260424T013934
CREATED:20240516T102719Z
LAST-MODIFIED:20240516T102719Z
UID:10002970-1717200000-1717286399@www.humanserviceforum.org
SUMMARY:One for the Books
DESCRIPTION:Sign up to be part of One for the Books a summer Read-a-Thon to support the work of Greater Springfield Habitat for Humanity.
URL:https://www.humanserviceforum.org/event/one-for-the-books/
CATEGORIES:Community Calendar,HSF Member Event
END:VEVENT
BEGIN:VEVENT
DTSTART;TZID=America/New_York:20240323T100000
DTEND;TZID=America/New_York:20240323T150000
DTSTAMP:20260424T013934
CREATED:20240205T153006Z
LAST-MODIFIED:20240205T153006Z
UID:10001822-1711188000-1711206000@www.humanserviceforum.org
SUMMARY:Spring into Action
DESCRIPTION:Ladies\, leave the “honey to-do list” for another day. Let’s get together and celebrate our strengths\, camaraderie\, and build! Grab your friends and join us. OK\, men can come\, too. \nIn honor of March’s Women’s History Month and Habitat for Humanity’s Women Build event\,\nlet’s celebrate women at our first “Spring into Action” event! Join us for a one-day build event with prizes\, goody bags\, snacks\, and a wrap party at Two Weeks Notice brewery!
URL:https://www.humanserviceforum.org/event/spring-into-action/
LOCATION:Greater Springfield Habitat for Humanity\, 268 Cold Spring Ave\, West Springfield\, MA\, 01089\, United States
CATEGORIES:Community Calendar,HSF Member Event
ATTACH;FMTTYPE=image/png:https://www.humanserviceforum.org/wp-content/uploads/2024/02/Spring-into-action-logo.png
END:VEVENT
BEGIN:VEVENT
DTSTART;TZID=America/New_York:20240215T180000
DTEND;TZID=America/New_York:20240215T193000
DTSTAMP:20260424T013934
CREATED:20240205T132716Z
LAST-MODIFIED:20240205T132716Z
UID:10001821-1708020000-1708025400@www.humanserviceforum.org
SUMMARY:Creating a Savings and Spending Plan
DESCRIPTION:On Thursday\, Feb. 15\, Greater Springfield Habitat for Humanity (GSHFH) will host a FREE financial seminar for the community.\nSue Zielenski of Bank of America will present the topic: “Creating a Savings and Spending Plan” at the Bank of America Financial Center at 225 Memorial Ave in West Springfield. The class will start at 6pm and end at 7:30pm. There is no cost to attend\, but participants are required to sign up. Every registered guest is entered for a chance to win the door prize. To sign up\, visit https://bit.ly/3On4saZ\n“With the ease of digital wallets and debit cards\, it’s easy to lose track of your spending\,” said Olga Callirgos\, GSHFH Homeowner Programs coordinator. “I think it’s really important to have a game plan every month to make sure you’re on the right track towards your financial goals.”\nThis seminar is the second financial class hosted by Greater Springfield Habitat since the start of the New Year. To keep up-to-date about future Habitat events\, visit habitatspringfield.org/upcoming-events\nGSHFH is dedicated to strengthening communities by empowering low-income families to change their lives and the lives of future generations through homeownership and home preservation opportunities. Since 1987\, Greater Springfield Habitat has built or repaired 129 homes in Hampden County.
URL:https://www.humanserviceforum.org/event/creating-a-savings-and-spending-plan/
LOCATION:Bank of America\, 225 Memorial Ave\, West Springfield\, 01089\, United States
CATEGORIES:Community Calendar,HSF Member Event
END:VEVENT
END:VCALENDAR