BEGIN:VCALENDAR
VERSION:2.0
PRODID:-//Human Service Forum - ECPv6.15.20//NONSGML v1.0//EN
CALSCALE:GREGORIAN
METHOD:PUBLISH
X-ORIGINAL-URL:https://www.humanserviceforum.org
X-WR-CALDESC:Events for Human Service Forum
REFRESH-INTERVAL;VALUE=DURATION:PT1H
X-Robots-Tag:noindex
X-PUBLISHED-TTL:PT1H
BEGIN:VTIMEZONE
TZID:America/New_York
BEGIN:DAYLIGHT
TZOFFSETFROM:-0500
TZOFFSETTO:-0400
TZNAME:EDT
DTSTART:20240310T070000
END:DAYLIGHT
BEGIN:STANDARD
TZOFFSETFROM:-0400
TZOFFSETTO:-0500
TZNAME:EST
DTSTART:20241103T060000
END:STANDARD
BEGIN:DAYLIGHT
TZOFFSETFROM:-0500
TZOFFSETTO:-0400
TZNAME:EDT
DTSTART:20250309T070000
END:DAYLIGHT
BEGIN:STANDARD
TZOFFSETFROM:-0400
TZOFFSETTO:-0500
TZNAME:EST
DTSTART:20251102T060000
END:STANDARD
BEGIN:DAYLIGHT
TZOFFSETFROM:-0500
TZOFFSETTO:-0400
TZNAME:EDT
DTSTART:20260308T070000
END:DAYLIGHT
BEGIN:STANDARD
TZOFFSETFROM:-0400
TZOFFSETTO:-0500
TZNAME:EST
DTSTART:20261101T060000
END:STANDARD
END:VTIMEZONE
BEGIN:VEVENT
DTSTART;TZID=America/New_York:20250603T083000
DTEND;TZID=America/New_York:20250603T120000
DTSTAMP:20260423T220625
CREATED:20250514T121352Z
LAST-MODIFIED:20250514T121352Z
UID:10006679-1748939400-1748952000@www.humanserviceforum.org
SUMMARY:The Resilient Workplace: Proactive Strategies for Managing People Risk and Your Responsibilities Seminar
DESCRIPTION:Date: Tuesday\, June 3\, 2025\nTime: 8:30AM to 12:00PM\nLocation: The Westin Waltham Boston – 70 3rd Ave Waltham\, MA 02451 \nBreakfast will be served.\nContinuing Education Credits will be provided. \nWho should attend?\nPlease note there is a limit of up to three representatives per company.\nHuman Resource Professionals: CHROs\, VPs\, Directors\, Managers\nFinance Department Professionals: CFOs\, VPs\, Directors\, Managers\nCEOs\, Owners\, Presidents \nThe ever-evolving landscape of workplace compliance\, risk management\, and employment liability is more complex than ever. \nWe encourage you to join HUB International\, Jackson Lewis PC and Travelers for three dynamic panel discussions featuring industry experts and thought leaders who will provide critical insights on safeguarding your organization\, mitigating risk\, and making informed decisions that drive long-term success. From understanding leave policies and employment practices liability to navigating OSHA compliance\, these discussions will equip you with the knowledge and strategies needed to stay ahead in the modern workplace. \nThroughout the day\, you’ll gain cutting-edge perspectives from three insightful panel discussions: \nThe Evolving Landscape of Paid and Unpaid Leave\nRussell Denver\, Esq.\, Chief Compliance Officer\, HUB International | Eve Keller\, Associate\, Jackson Lewis PC | Stacey Hyland\, President\, Employee Benefits\, HUB International | Trevor Watson\, Vice President\, Workforce Absence Management Consulting\, Team Lead\, HUB International \n\nState-specific and local leave law updates and their growing impact on employers\nHow paid leave policies intersect with unpaid leave requirements\nCommon legal pitfalls and the role of documentation and communication in defending against claims\n\nEPLI Uncovered: Safeguarding Your Organization from Employment Lawsuits\nMatthew Freeman\, Principal\, Labor & Employment Attorney\, Jackson Lewis PC | Jamie Kessler\, Principal\, Jackson Lewis PC | Chris Taylor\, ProEx Practice Leader\, HUB International\, Chris Williams\, Employment Practices Liability Product Manager\, Travelers \n\nThe role of EPL insurance and proactive strategies to protect against legal action\nCommon workplace compliance failures that lead to EPL claims\nHow insurers assess risk and what businesses can do to secure better policy terms\n\nThe Silent Dangers in Your Workplace That Could Lead to OSHA Violations\nCarmine Cimetti\, Vice President\, Construction Specialties Group\, HUB International | Karl Kumli\, Associate\, Jackson Lewis PC | Kasey Lam\, Associate Attorney\, Jackson Lewis PC | Lindsay Young\, Vice President\, Risk Services Manager\, HUB International \n\nKey OSHA compliance requirements and enforcement trends on employers\nUnderstanding employer rights and responsibilities during an OSHA inspection\nThe importance of hazard assessments\, safety training\, and emergency prepardness\nProactive steps to take before OSHA is involved\n\nDo not miss this opportunity to learn and network with industry professionals and elevate your expertise. Secure your spot today! \nIn Partnership with our sponsors:\nJackson Lewis PC\nTravelers \n 
URL:https://www.humanserviceforum.org/event/the-resilient-workplace-proactive-strategies-for-managing-people-risk-and-your-responsibilities-seminar/
CATEGORIES:Community Calendar,HSF Member Event
END:VEVENT
END:VCALENDAR