BEGIN:VCALENDAR
VERSION:2.0
PRODID:-//Human Service Forum - ECPv6.15.20//NONSGML v1.0//EN
CALSCALE:GREGORIAN
METHOD:PUBLISH
X-WR-CALNAME:Human Service Forum
X-ORIGINAL-URL:https://www.humanserviceforum.org
X-WR-CALDESC:Events for Human Service Forum
REFRESH-INTERVAL;VALUE=DURATION:PT1H
X-Robots-Tag:noindex
X-PUBLISHED-TTL:PT1H
BEGIN:VTIMEZONE
TZID:America/New_York
BEGIN:DAYLIGHT
TZOFFSETFROM:-0500
TZOFFSETTO:-0400
TZNAME:EDT
DTSTART:20230312T070000
END:DAYLIGHT
BEGIN:STANDARD
TZOFFSETFROM:-0400
TZOFFSETTO:-0500
TZNAME:EST
DTSTART:20231105T060000
END:STANDARD
BEGIN:DAYLIGHT
TZOFFSETFROM:-0500
TZOFFSETTO:-0400
TZNAME:EDT
DTSTART:20240310T070000
END:DAYLIGHT
BEGIN:STANDARD
TZOFFSETFROM:-0400
TZOFFSETTO:-0500
TZNAME:EST
DTSTART:20241103T060000
END:STANDARD
BEGIN:DAYLIGHT
TZOFFSETFROM:-0500
TZOFFSETTO:-0400
TZNAME:EDT
DTSTART:20250309T070000
END:DAYLIGHT
BEGIN:STANDARD
TZOFFSETFROM:-0400
TZOFFSETTO:-0500
TZNAME:EST
DTSTART:20251102T060000
END:STANDARD
BEGIN:DAYLIGHT
TZOFFSETFROM:-0500
TZOFFSETTO:-0400
TZNAME:EDT
DTSTART:20260308T070000
END:DAYLIGHT
BEGIN:STANDARD
TZOFFSETFROM:-0400
TZOFFSETTO:-0500
TZNAME:EST
DTSTART:20261101T060000
END:STANDARD
END:VTIMEZONE
BEGIN:VEVENT
DTSTART;TZID=America/New_York:20250813T083000
DTEND;TZID=America/New_York:20250813T103000
DTSTAMP:20260423T154402
CREATED:20240724T151119Z
LAST-MODIFIED:20250710T134416Z
UID:10003185-1755073800-1755081000@www.humanserviceforum.org
SUMMARY:Catchafire  Day
DESCRIPTION:Register Now\n  \n\n\n\n\n\n\nCatchafire Day and Information Session\n\n\n\n\n\nHSF is glad to announce The Beveridge Foundation\, Community Foundation of Western Mass\, and the Irene E. & George A. Davis Foundation are continuing to support HSF members access to Catchafire. HSF members have accessed support and services valued at over $1\,434\,483.00 FOR FREE! HSF Executive Director Becca Cooolong will update you on how little time it really takes. This is not just a resource for senior leaders\, it is a resource for everyone!\nFollowing the informational hour Becca will give technical assistance to start or move forward your projects. \n\n\n\n8:30am – 9:30 am Informational\n9:30am -10:30am Questions and Hands On Assistance\n\n\n\n\n\n\n\n  \n  \n  \nThank you to our Annual Sponsors \n \n   \n  \n\n 
URL:https://www.humanserviceforum.org/event/catchafire-relaunch-day/
LOCATION:Northeast Center for Youth & Families Conference Room\, 203 East Street\, Easthampton\, MA\, 01027
CATEGORIES:Community Calendar,HSF Event,Workshop
ATTACH;FMTTYPE=image/jpeg:https://www.humanserviceforum.org/wp-content/uploads/2023/12/catch-800x400-1.jpg
END:VEVENT
BEGIN:VEVENT
DTSTART;TZID=America/New_York:20250131T073000
DTEND;TZID=America/New_York:20250131T101500
DTSTAMP:20260423T154402
CREATED:20231202T204316Z
LAST-MODIFIED:20250129T220250Z
UID:10001098-1738308600-1738318500@www.humanserviceforum.org
SUMMARY:HSF Legislative Reception
DESCRIPTION: Zoom breakout rooms\, \n All registrants will be assigned to a breakout room with one of their legislators.\n\nRegistration closed\n \n For staff\, board\, constituents/clients\, family members\, and volunteers of member agencies of the Human Service Forum.\n\nJoin your colleagues\, clients and community members as we engage with our state legislators at the annual HSF Legislative Reception.\n\n\nThis unique event allows you to share a table\, zoom style\,  with one of the western Massachusetts Representatives or Senators and speak directly with them on topics that are important to you.\n\n\nYou and your concerns matter – raise your voice and your issue – Legislators want and need to hear from you.\n\n\nDon’t sit this one out – engage your voice and you can impact policy decisions!\n\n\nShare your story – let your representative know what policies and laws actually look like in action\, in our families and our communities.\n\nFind Your Legislator\n\n\n\nDue to the virtual format of this event all registrants emails will be required when registering.  These emails will receive a zoom registration link 2 weeks before the event.   In order to maintain the safest virtual environment once  the  zoom registration is filled out each person will receive an individual log in link.\n\nWhen\nFriday January 31\, 2025\n\n7:30am – 8:00am\nZoom log in and networking time\n\n8:00am- 10:15AM\nLegislator Welcome and Break Out Rooms\n\nCost is $20.00 per person\nPre-registration is required**\n\n\n   \n\n 
URL:https://www.humanserviceforum.org/event/hsf-legislative-reception/
CATEGORIES:Community Calendar,HSF Event,Special Event
ATTACH;FMTTYPE=image/jpeg:https://www.humanserviceforum.org/wp-content/uploads/2023/12/leg-800x400-1.jpg
END:VEVENT
BEGIN:VEVENT
DTSTART;TZID=America/New_York:20240627T080000
DTEND;TZID=America/New_York:20240627T090000
DTSTAMP:20260423T154402
CREATED:20231212T160605Z
LAST-MODIFIED:20240604T144513Z
UID:10001113-1719475200-1719478800@www.humanserviceforum.org
SUMMARY:Coffee and Catchafire Hour
DESCRIPTION:Register Now\nThis month we are focused on saving members money.  Help us help you\, we are trying to reach the 1 MILLION DOLLARS IN SAVINGS for our members through Catchafire use.  How much of the million in savings is for your agency?   YOU DECIDE! \nSenior staff of HSF members are invited to have Coffee and this month Catchafire with Becca.  This is a chance to get together to talk about ways to take advantage of free savings with Catchafire.  Becca will be available to help start any projects you may be thinking of.  Future sessions may have speakers on relevant topics. This is a member only event. Coffee  will be provided but feel free to bring your own food and drink!  This will be a hybrid event this month. \n  \nWhen\nThursday June 27\, 2024 from 8:00 AM to 9:00 AM EST\n\n\nProgram Fee \nHSF Members only: $15.00\n  \nWhere\nHSF offices locates at\nNortheast Center for Youth and Families Building\n203 East Street\nEasthampton\, MA\n\nAnnual Sponsors:\n\n   \n\n \n\n\n\n\n\n\n\n\n\n\n Add to calendar
URL:https://www.humanserviceforum.org/event/56694/
CATEGORIES:Breakfast,Community Calendar,HSF Event,HSF Member Event
ATTACH;FMTTYPE=image/png:https://www.humanserviceforum.org/wp-content/uploads/2023/12/coffee-800.png
END:VEVENT
BEGIN:VEVENT
DTSTART;TZID=America/New_York:20240612T090000
DTEND;TZID=America/New_York:20240612T123000
DTSTAMP:20260423T154402
CREATED:20240603T151727Z
LAST-MODIFIED:20240603T165006Z
UID:10003034-1718182800-1718195400@www.humanserviceforum.org
SUMMARY:The Future of Equity 
DESCRIPTION:Join us as presenters from the NCCJ (The National Conference for Community and Justice) discuss what they have learned by working with high school students in their teen programs. What lessons that older generations struggled to learn\, do they already know? What is their ideal equitable future? And\, importantly\, what can we do now to prepare to turn the future over to them?\n\n\n\nREGISTER NOW\n  \nThis session is part of our 2024 Workplace Equity Series. \nSession 5: Cohort Plan Creation \nWednesday June 26th  \nPresenters: Janine Fondon and Lucie Lewis \nSession 6: CLOSING PANEL- Where Do We Go From Here? \nWednesday July 3rd \nModerators: Janine Fondon and Lucie Lewis \nThank You to Our Series Sponsors: \n \n  \n \nThank you Annual Sponsors: \n \n  \n  \n  \n 
URL:https://www.humanserviceforum.org/event/the-future-of-equity/
CATEGORIES:Community Calendar,HSF Event,Workshop
ATTACH;FMTTYPE=image/jpeg:https://www.humanserviceforum.org/wp-content/uploads/2024/06/future.jpg
END:VEVENT
BEGIN:VEVENT
DTSTART;TZID=America/New_York:20240605T090000
DTEND;TZID=America/New_York:20240605T123000
DTSTAMP:20260423T154402
CREATED:20240529T110430Z
LAST-MODIFIED:20240531T124012Z
UID:10003021-1717578000-1717590600@www.humanserviceforum.org
SUMMARY:Examining a Gender Inclusive Workplace
DESCRIPTION:We spend so much time at work\, we want our staff to feel comfortable to bring their authentic selves to this space. But is your workplace a safe environment for marginalize identities\, including trans and nonbinary workers. \nJoin us as presenters from Think Again Training discuss gender in nuanced ways\, and how to normalize gender diversity. \n \n\n\n\nREGISTER NOW\n  \nThis session is part of our 2024 Workplace Equity Series. \nSession 4: The Future of Equity  \nWednesday June 12th \nPresenter: NCCJ \nSession 5: Cohort Plan Creation \nWednesday June 26th  \nPresenters: Janine Fondon and Lucie Lewis \nSession 6: CLOSING PANEL- Where Do We Go From Here? \nWednesday July 3rd \nModerators: Janine Fondon and Lucie Lewis \nThank You to Our Series Sponsors: \n \n  \n \nThank you Annual Sponsors: \n \n  \n  \n  \n 
URL:https://www.humanserviceforum.org/event/examining-a-gender-inclusive-workplace/
CATEGORIES:Community Calendar,HSF Event,Workshop
ATTACH;FMTTYPE=image/jpeg:https://www.humanserviceforum.org/wp-content/uploads/2024/05/gender-e1716987712369.jpg
END:VEVENT
BEGIN:VEVENT
DTSTART;TZID=America/New_York:20240529T090000
DTEND;TZID=America/New_York:20240529T123000
DTSTAMP:20260423T154402
CREATED:20240522T152347Z
LAST-MODIFIED:20240523T095926Z
UID:10003012-1716973200-1716985800@www.humanserviceforum.org
SUMMARY:Equity in Mental Health
DESCRIPTION:How do systems of inequality and oppression affect mental health\, and treatment to that health? What can we do to provide a supportive community where all individuals can find solace\, understanding and validation. \nPresenter Ysabel Garcia\, from Estoy Aqui LLC\, has first hand experience\, and uses that along with extensive training and education\, to discuss this large topic. \nREGISTER NOW\n  \nThis session is part of our 2024 Workplace Equity Series. \nSession 3: Examining a Gender Inclusive Workplace \nWednesday June 5th \nPresenter: Think Again Training \nSession 4: The Future of Equity  \nWednesday June 12th \nPresenter: NCCJ \nSession 5: Cohort Plan Creation \nWednesday June 26th  \nPresenters: Janine Fondon and Lucie Lewis \nSession 6: CLOSING PANEL- Where Do We Go From Here? \nWednesday July 3rd \nModerators: Janine Fondon and Lucie Lewis \nThank You to Our Series Sponsors: \n \n \n \nThank you Annual Sponsors: \n \n  \n  \n  \n 
URL:https://www.humanserviceforum.org/event/equity-in-mental-health/
CATEGORIES:Community Calendar,HSF Event,Workshop
ATTACH;FMTTYPE=image/jpeg:https://www.humanserviceforum.org/wp-content/uploads/2021/03/equity-2355700_1280-e1620084279983.jpg
END:VEVENT
BEGIN:VEVENT
DTSTART;TZID=America/New_York:20240110T090000
DTEND;TZID=America/New_York:20240110T113000
DTSTAMP:20260423T154402
CREATED:20231211T152953Z
LAST-MODIFIED:20231212T151115Z
UID:10001100-1704877200-1704886200@www.humanserviceforum.org
SUMMARY:Catchafire Day
DESCRIPTION:Catchafire Update\nHSF in coordination with The Beveridge Foundation\, Community Foundation of Western Mass\, and the  Irene E. & George A. Davis Foundation are excited to be able to offer access to Catchafire for a third year to our members.\n\nHSF members have accessed support and services valued at over $465\,000.00 FOR FREE! HSF Executive Director\, Becca Coolong\, will let you know how HSF has used Catchafire for services ranging from rebranding to creating print materials to data analysis to strategic planning. We know that TIME is the biggest barrier to use so she will update you on how little time it really takes. This event will help  programs\, and locations in your organization benefit from having access to Catchafire. This is not just a resource for senior leaders\, it is a resource for everyone!\n\nFollowing the informational hour Becca will give technical assistance to start or move forward your projects.\n\n\n\n\n\n\n\n\n\n\n\n\n\n\n\n\n\n\n\n\n\n\nRegister Now!\n\n\n\n\n\n\n\n\nThank you to our Annual Sponsors \n   \n  \n\n 
URL:https://www.humanserviceforum.org/event/catchafire-day-2/
CATEGORIES:Community Calendar,HSF Event,Workshop
ATTACH;FMTTYPE=image/jpeg:https://www.humanserviceforum.org/wp-content/uploads/2023/12/catch-800x400-1.jpg
END:VEVENT
END:VCALENDAR