BEGIN:VCALENDAR
VERSION:2.0
PRODID:-//Human Service Forum - ECPv6.15.20//NONSGML v1.0//EN
CALSCALE:GREGORIAN
METHOD:PUBLISH
X-WR-CALNAME:Human Service Forum
X-ORIGINAL-URL:https://www.humanserviceforum.org
X-WR-CALDESC:Events for Human Service Forum
REFRESH-INTERVAL;VALUE=DURATION:PT1H
X-Robots-Tag:noindex
X-PUBLISHED-TTL:PT1H
BEGIN:VTIMEZONE
TZID:America/New_York
BEGIN:DAYLIGHT
TZOFFSETFROM:-0500
TZOFFSETTO:-0400
TZNAME:EDT
DTSTART:20250309T070000
END:DAYLIGHT
BEGIN:STANDARD
TZOFFSETFROM:-0400
TZOFFSETTO:-0500
TZNAME:EST
DTSTART:20251102T060000
END:STANDARD
BEGIN:DAYLIGHT
TZOFFSETFROM:-0500
TZOFFSETTO:-0400
TZNAME:EDT
DTSTART:20260308T070000
END:DAYLIGHT
BEGIN:STANDARD
TZOFFSETFROM:-0400
TZOFFSETTO:-0500
TZNAME:EST
DTSTART:20261101T060000
END:STANDARD
BEGIN:DAYLIGHT
TZOFFSETFROM:-0500
TZOFFSETTO:-0400
TZNAME:EDT
DTSTART:20270314T070000
END:DAYLIGHT
BEGIN:STANDARD
TZOFFSETFROM:-0400
TZOFFSETTO:-0500
TZNAME:EST
DTSTART:20271107T060000
END:STANDARD
END:VTIMEZONE
BEGIN:VEVENT
DTSTART;TZID=America/New_York:20260226T170000
DTEND;TZID=America/New_York:20260226T210000
DTSTAMP:20260423T175859
CREATED:20260219T174852Z
LAST-MODIFIED:20260219T174852Z
UID:10007844-1772125200-1772139600@www.humanserviceforum.org
SUMMARY:JA’s Celebrity Bartender
DESCRIPTION:JA’s Celebrity Bartender event is a fundraiser where well-known people in the community get behind the bar to serve drinks to raise funds for JAWM programs\, empowering youth to own their economic success. Donations come through your tips to the bartenders\, so tip well —100% of bar and online tips benefit JA programs for the young people of Western Massachusetts. \nCelebrity Bartenders: \nXiomara Alban DeLobato\, Western Massachusetts Economic Development Council\nMatt Bannister\, PeoplesBank\nJanna Brown\, Western Mass News and TJO Foundation\nKristin Carlson\, Peerless Precision\nNate Costa\, Springfield Thunderbirds\nDave Ference\, PeoplesBank\nJeff Goulet\, Loophole Brewing\nRyan Hess\, Florence Bank\nDJ Onyx\, Vision Entertainment\nRob Jones\, USI Insurance\nDanielle Langevin\, Lock and Key Realty\nSiobhan Matty\, St. Germain Investment Management\nMary McGovern\, Country Bank\nJorge Morgado\, Allied Paint and Flooring and Budget Cabinet Sales\nDan Moriarty\, Monson Savings Bank\nSenator Jake Oliveira- Massachusetts Senate\nJeff Sattler\, Liberty Bank\nJohn “Sully” Sullivan\, Nathan Bill’s Bar and Restaurant\nNate Tassinari\, TD Bank\nAttorney Chris Todd\, President\, Hampden County Lawyers for Justice\, Inc.\nJoe Williams\, bankESB\nHeather Zielenski\, Westfield Bank \nWe hope you’ll invite friends\, family\, and co-workers! It is always a fun night out! You can expect to see a lot of people you know\, including local politicians\, business and community leaders and more. You’ll enjoy great company\, delicious food and drinks while supporting financial literacy\, work readiness\, and entrepreneurship programs for our youth. Additionally\, you can enter to win some great raffle prizes with the purchase of raffle tickets. \nThere will be a full cash bar and Nathan Bill’s has great menu options to try! Parking is available in their parking lot\, too. \nWe also have live music from Presz-Perry Accousic! \nDonations can be made in person at the event or online:\nhttps://secure.qgiv.com/for/jaowm/event/celebritybartendersforja2026/
URL:https://www.humanserviceforum.org/event/jas-celebrity-bartender/
CATEGORIES:Community Calendar,HSF Member Event
ATTACH;FMTTYPE=image/jpeg:https://www.humanserviceforum.org/wp-content/uploads/2026/02/ja.jpg
END:VEVENT
END:VCALENDAR