BEGIN:VCALENDAR
VERSION:2.0
PRODID:-//Human Service Forum - ECPv6.15.20//NONSGML v1.0//EN
CALSCALE:GREGORIAN
METHOD:PUBLISH
X-ORIGINAL-URL:https://www.humanserviceforum.org
X-WR-CALDESC:Events for Human Service Forum
REFRESH-INTERVAL;VALUE=DURATION:PT1H
X-Robots-Tag:noindex
X-PUBLISHED-TTL:PT1H
BEGIN:VTIMEZONE
TZID:America/New_York
BEGIN:DAYLIGHT
TZOFFSETFROM:-0500
TZOFFSETTO:-0400
TZNAME:EDT
DTSTART:20230312T070000
END:DAYLIGHT
BEGIN:STANDARD
TZOFFSETFROM:-0400
TZOFFSETTO:-0500
TZNAME:EST
DTSTART:20231105T060000
END:STANDARD
BEGIN:DAYLIGHT
TZOFFSETFROM:-0500
TZOFFSETTO:-0400
TZNAME:EDT
DTSTART:20240310T070000
END:DAYLIGHT
BEGIN:STANDARD
TZOFFSETFROM:-0400
TZOFFSETTO:-0500
TZNAME:EST
DTSTART:20241103T060000
END:STANDARD
BEGIN:DAYLIGHT
TZOFFSETFROM:-0500
TZOFFSETTO:-0400
TZNAME:EDT
DTSTART:20250309T070000
END:DAYLIGHT
BEGIN:STANDARD
TZOFFSETFROM:-0400
TZOFFSETTO:-0500
TZNAME:EST
DTSTART:20251102T060000
END:STANDARD
BEGIN:DAYLIGHT
TZOFFSETFROM:-0500
TZOFFSETTO:-0400
TZNAME:EDT
DTSTART:20260308T070000
END:DAYLIGHT
BEGIN:STANDARD
TZOFFSETFROM:-0400
TZOFFSETTO:-0500
TZNAME:EST
DTSTART:20261101T060000
END:STANDARD
END:VTIMEZONE
BEGIN:VEVENT
DTSTART;TZID=America/New_York:20250904T170000
DTEND;TZID=America/New_York:20250904T180000
DTSTAMP:20260423T230413
CREATED:20250827T125611Z
LAST-MODIFIED:20250827T125611Z
UID:10007304-1757005200-1757008800@www.humanserviceforum.org
SUMMARY:Learn at Lunch
DESCRIPTION:
URL:https://www.humanserviceforum.org/event/learn-at-lunch/
CATEGORIES:Community Calendar,HSF Member Event
END:VEVENT
BEGIN:VEVENT
DTSTART;TZID=America/New_York:20250709T120000
DTEND;TZID=America/New_York:20250709T120000
DTSTAMP:20260423T230413
CREATED:20250702T115854Z
LAST-MODIFIED:20250702T115854Z
UID:10007126-1752062400-1752062400@www.humanserviceforum.org
SUMMARY:Leadership Luncheon Empowering Women in Business
DESCRIPTION:Join us for an inspiring and educational Leadership Luncheon featuring a keynote address by Lisa Totz\, the current President of the Women Business Owners Alliance of Pioneer Valley (WBOA). Since 1982\, the WBOA has been dedicated to elevating the impact of women in business by providing a platform for women to share their experiences\, support each other\, and foster the growth of the next generation of female entrepreneurs. \nAs a 501(c)(3) organization\, WBOA is focused on the education and empowerment of women business owners. Our events typically incorporate educational components covering a wide range of topics including business finances\, systems\, social media\, insurance tips\, and much more. Through active engagement\, WBOA promotes women-owned businesses by sharing success stories\, enhancing social media presence\, and creating a supportive community. \nAt this luncheon\, Lisa Totz will share her professional journey\, which spans significant roles with major U.S. employers such as Boeing in Seattle\, Raytheon in Tucson\, and ITT in West Springfield. Her impressive career includes leadership in organizations like YESnet (Young Engineers and Scientists Network) and Raytheon Women on the Move\, along with her entrepreneurial ventures as the owner of LT Consulting. Lisa’s contributions to the community are further highlighted by her roles as President of the Jimmy Fund Council of Western Massachusetts\, BNI President\, and Race Director for various triathlons. \nLisa’s journey of navigating business\, career\, and personal goals will provide valuable insights and inspiration to all attendees. Don’t miss this opportunity to connect with fellow professionals and gain knowledge from a leader who has successfully transitioned from corporate roles to impactful community engagement and entrepreneurship.
URL:https://www.humanserviceforum.org/event/leadership-luncheon-empowering-women-in-business/
CATEGORIES:Community Calendar,HSF Member Event
ATTACH;FMTTYPE=image/jpeg:https://www.humanserviceforum.org/wp-content/uploads/2025/07/leadership.jpg
END:VEVENT
BEGIN:VEVENT
DTSTART;TZID=America/New_York:20250610T170000
DTEND;TZID=America/New_York:20250610T183000
DTSTAMP:20260423T230413
CREATED:20240905T110429Z
LAST-MODIFIED:20240905T112138Z
UID:10003419-1749574800-1749580200@www.humanserviceforum.org
SUMMARY:Books and Brew
DESCRIPTION:A unique book club designed to bring people together; young professionals\, community members and anyone interested in financial empowerment.\nThank you White Lion\, Springfield City Library and Liberty Bank
URL:https://www.humanserviceforum.org/event/books-and-brew/2025-06-10/
CATEGORIES:Community Calendar,HSF Non Member Event
END:VEVENT
BEGIN:VEVENT
DTSTART;TZID=America/New_York:20250403T073000
DTEND;TZID=America/New_York:20250403T170000
DTSTAMP:20260423T230413
CREATED:20250312T141225Z
LAST-MODIFIED:20250402T124229Z
UID:10005495-1743665400-1743699600@www.humanserviceforum.org
SUMMARY:WLC Amplify
DESCRIPTION:For three decades\, the Women’s Leadership Conference has been bringing entrepreneurs\, professionals\, educators\, clinicians\, and leaders from businesses\, community organizations\, and government– women and their supporters–together for a day of professional development and personal exploration. Each year\, a new theme is brought to life through focus sessions and keynote speakers\, challenging attendees to think\, share\, and support each other as they confront obstacles and define goals. \nWLC: Amplify will give conference attendees the power to step into their most confident selves as they bolster and boost their voices\, their strengths\, and their potential.  \nBy embracing your unique power and sharing it with the world\, you will walk away emboldened to inspire change and growth–within yourself\, your organizations\, and your communities.
URL:https://www.humanserviceforum.org/event/wlc-amplify/
CATEGORIES:Community Calendar,HSF Member Event
END:VEVENT
BEGIN:VEVENT
DTSTART;TZID=America/New_York:20250325T163000
DTEND;TZID=America/New_York:20250325T173000
DTSTAMP:20260423T230413
CREATED:20241021T151743Z
LAST-MODIFIED:20241021T151743Z
UID:10004347-1742920200-1742923800@www.humanserviceforum.org
SUMMARY:Financial Literacy Series
DESCRIPTION:Liberty Bank Financial Literacy Series\nwith Springfield Housing Authority \n  \nTuesday every Month beginning Oct 29 4:30 to 5:30\n82 Division Street Springfield\, MA\nOct 29: Money Management: How and Why to Bank?\nNov26: Money Management- How to work with a budget!\nDec 17: Credit: How to build/ rebuild credit and why?\nJan 25: First Time Home Buyer\nFeb 25: How to avoid fraud!\nMarch 25: Academy for Small Business\nLiberty Bank is Partnering with Springfield Housing Authority to offer\nFinancial Wellness to Community.\nThere is no fee associated with this information sessions. All are\nwelcome and encouraged.\nKnowledge is power\, let us help you grow!
URL:https://www.humanserviceforum.org/event/financial-literacy-series/2025-03-25/
CATEGORIES:Community Calendar,HSF Member Event
END:VEVENT
BEGIN:VEVENT
DTSTART;TZID=America/New_York:20241217T120000
DTEND;TZID=America/New_York:20241217T130000
DTSTAMP:20260423T230413
CREATED:20240905T111945Z
LAST-MODIFIED:20240905T112006Z
UID:10003423-1734436800-1734440400@www.humanserviceforum.org
SUMMARY:Lunch & Learn: Financial Wellness
DESCRIPTION:Program Description\nEvent Details\n\nSpend a lunch break at the Library and get financially fit with Dawn Creighton of Liberty Bank! Join Dawn for a series of engaging lunch-time workshops about budgeting\, money management\, saving\, credit-building\, home-buying\, and more. Treat yourself to free light refreshments and time to network with other community members interested in financial empowerment. \nRegistration required\, because space is limited. Ages 18+. \n \n\n 
URL:https://www.humanserviceforum.org/event/lunch-learn-financial-wellness/2024-12-17/
CATEGORIES:Community Calendar,HSF Non Member Event
END:VEVENT
END:VCALENDAR