BEGIN:VCALENDAR
VERSION:2.0
PRODID:-//Human Service Forum - ECPv6.15.20//NONSGML v1.0//EN
CALSCALE:GREGORIAN
METHOD:PUBLISH
X-WR-CALNAME:Human Service Forum
X-ORIGINAL-URL:https://www.humanserviceforum.org
X-WR-CALDESC:Events for Human Service Forum
REFRESH-INTERVAL;VALUE=DURATION:PT1H
X-Robots-Tag:noindex
X-PUBLISHED-TTL:PT1H
BEGIN:VTIMEZONE
TZID:America/New_York
BEGIN:DAYLIGHT
TZOFFSETFROM:-0500
TZOFFSETTO:-0400
TZNAME:EDT
DTSTART:20230312T070000
END:DAYLIGHT
BEGIN:STANDARD
TZOFFSETFROM:-0400
TZOFFSETTO:-0500
TZNAME:EST
DTSTART:20231105T060000
END:STANDARD
BEGIN:DAYLIGHT
TZOFFSETFROM:-0500
TZOFFSETTO:-0400
TZNAME:EDT
DTSTART:20240310T070000
END:DAYLIGHT
BEGIN:STANDARD
TZOFFSETFROM:-0400
TZOFFSETTO:-0500
TZNAME:EST
DTSTART:20241103T060000
END:STANDARD
BEGIN:DAYLIGHT
TZOFFSETFROM:-0500
TZOFFSETTO:-0400
TZNAME:EDT
DTSTART:20250309T070000
END:DAYLIGHT
BEGIN:STANDARD
TZOFFSETFROM:-0400
TZOFFSETTO:-0500
TZNAME:EST
DTSTART:20251102T060000
END:STANDARD
BEGIN:DAYLIGHT
TZOFFSETFROM:-0500
TZOFFSETTO:-0400
TZNAME:EDT
DTSTART:20260308T070000
END:DAYLIGHT
BEGIN:STANDARD
TZOFFSETFROM:-0400
TZOFFSETTO:-0500
TZNAME:EST
DTSTART:20261101T060000
END:STANDARD
BEGIN:DAYLIGHT
TZOFFSETFROM:-0500
TZOFFSETTO:-0400
TZNAME:EDT
DTSTART:20270314T070000
END:DAYLIGHT
BEGIN:STANDARD
TZOFFSETFROM:-0400
TZOFFSETTO:-0500
TZNAME:EST
DTSTART:20271107T060000
END:STANDARD
END:VTIMEZONE
BEGIN:VEVENT
DTSTART;TZID=America/New_York:20260401T080000
DTEND;TZID=America/New_York:20260401T170000
DTSTAMP:20260423T220157
CREATED:20260331T142734Z
LAST-MODIFIED:20260331T142734Z
UID:10008003-1775030400-1775062800@www.humanserviceforum.org
SUMMARY:King's Kids Summer Camp Registration Open
DESCRIPTION:
URL:https://www.humanserviceforum.org/event/kings-kids-summer-camp-registration-open/
CATEGORIES:Community Calendar,HSF Member Event
END:VEVENT
BEGIN:VEVENT
DTSTART;TZID=America/New_York:20260319T173000
DTEND;TZID=America/New_York:20260319T190000
DTSTAMP:20260423T220157
CREATED:20260223T175307Z
LAST-MODIFIED:20260310T175219Z
UID:10007863-1773941400-1773946800@www.humanserviceforum.org
SUMMARY:Let's Talk Risk
DESCRIPTION:Join Us for the “Let’s Talk Risk!” For A Parent/Guardian Workshop Series!\n\n\nBeat the Odds invites all parents and guardians to participate in our engaging Problem Gambling Awareness Workshops this March.\n\n\nThis series is designed to empower you with the knowledge and tools to protect and support your youth while fostering a stronger\, informed community.\n\n\nWorkshop Series Details:\nMarch 12\, 2026 – 5:30 – 7:30 PM 65 Lincoln St.\, Springfield\nMarch 16\, 2026 – 5:30 – 7:00 PM 136 Surrey Rd.\, Springfield\nMarch 19\, 2026 – 5:30 – 7:00 PM Location TBD\n\n\nWhy Attend?\nThese workshops will provide valuable insights into understanding gambling risks\, how to identify signs of problem gambling\, and ways to foster open conversations with your children.\n\n\nWe are proud to partner with the Massachusetts Department of Public Health\, the Massachusetts Office of Problem Gambling Services\, and our partner organizations New North Citizen’s Council and South End Community Center\, dedicated to youth well-being.\n\n\nWe can Beat The Odds for our youth!!!\n\n\nRegister today by scanning the QR code on the graphic or visiting: https://rcgd.org/8esMWG or link in bio.
URL:https://www.humanserviceforum.org/event/lets-talk-risk/2026-03-19/
CATEGORIES:Community Calendar,HSF Member Event
ATTACH;FMTTYPE=image/jpeg:https://www.humanserviceforum.org/wp-content/uploads/2026/02/risk.jpg
END:VEVENT
BEGIN:VEVENT
DTSTART;TZID=America/New_York:20260119T123000
DTEND;TZID=America/New_York:20260119T160000
DTSTAMP:20260423T220157
CREATED:20251218T182849Z
LAST-MODIFIED:20251218T182914Z
UID:10007703-1768825800-1768838400@www.humanserviceforum.org
SUMMARY:MLK Day Restoring Justice\, Reclaiming the Dream
DESCRIPTION:Each year\, as we gather to honor the life and enduring legacy of Dr. Martin Luther King Jr.\, we are reminded of the life\, legacy and unshakeable moral leadership of Rev. Dr. Martin Luther King\, Jr. This year’s theme\, “Restoring Justice. Reclaiming the Dream.\,” invites us all to rise together in a moment when Dr. King’s vision urgently calls for renewed commitment\, courage\, and collective action.The MLK Day Collaborative invites you to “MLK Day 2026: Restoring Justice. Reclaiming the Dream.” On Monday\, January 19\, 2026 at the MassMutual Center for an Arts & Wellness Expo from 12:30pm to 2:00pm with the program beginning at 2:00pm.12:30 – 2:00pm – Arts & Wellness Expo\, MassMutual Center2:00 – 4:00pm – MLK Day Program\, MassMutual CenterAll are welcome as we open the doors of the MassMutual Center to the public at 12:30pm with artistic expressions\, exhibitions\, and vendors in the lobby entrance followed by an awe-inspiring\, purpose driven program where over 800 youth and supporting adult participants will manifest our theme through inspiring spoken word\, dance & music presentations featuring: MLK Charter School of Excellence\, Martin Luther King Jr. Family Services’ Youth & Clemente Program\, Community Music School of Springfield’s Sonido Musica\, String City Festival Orchestra\, Springfield CommUnity Chorale\, Young at Heart Chorus\, Children’s Chorus of Springfield\, Springfield Public Schools students\, and more.Mark your calendars now and bring the family!This is our moment to step forward as the Living Legacies of Dr. King—to confront what’s broken\, amplify what’s possible\, and push the moral arc with intention and power.Join us at the events that will shape this year’s MLK Day and the next chapter of our movement by following our event page at the link below\, including the City’s Flag Raising at Springfield City Hall on January 16\, and Springfield Symphony Orchestra MLK Day Concert featuring MoTown & The Philly Sound on January 17. Event and other MLK events here: https://www.mlkjrfamilyservices.org/event/2755/Sponsorships available. Contact Claudia at cpazmany@mlkjrfs.org
URL:https://www.humanserviceforum.org/event/mlk-day-restoring-justice-reclaiming-the-dream/
CATEGORIES:Community Calendar,HSF Member Event
ATTACH;FMTTYPE=image/jpeg:https://www.humanserviceforum.org/wp-content/uploads/2025/12/mlk-day.jpg
END:VEVENT
BEGIN:VEVENT
DTSTART;TZID=America/New_York:20251122T110000
DTEND;TZID=America/New_York:20251122T140000
DTSTAMP:20260423T220157
CREATED:20251114T143330Z
LAST-MODIFIED:20251114T143330Z
UID:10007610-1763809200-1763820000@www.humanserviceforum.org
SUMMARY:Panel Discussion on Why HBCUs Matter
DESCRIPTION:This engaging event will feature a lineup of HBCU graduates sharing their unique experiences and insights about attending HBCU’s. \n  \nEvent Details: \nDate: Saturday\, November 22\, 2025 \nTime: 11:00 AM to 2:00 PM \nLocation: Martin Luther King Jr. Family Services Community Center\, 3 Rutland Street\, Springfield\, MA 01109 – FREE to attend \n  \nIn addition to the personal stories from our panelists\, we will discuss the 2026 HBCU Tour itinerary and upcoming workshops designed to empower and inform prospective students. \n  \nThis is a great opportunity to learn more about the rich history and vibrant culture of HBCUs\, and how they can shape your educational journey. \n  \nWhether you’re a student\, parent\, or educator\, don’t miss this chance to connect and engage with our community. We look forward to seeing you there!
URL:https://www.humanserviceforum.org/event/panel-discussion-on-why-hbcus-matter/
CATEGORIES:Community Calendar,HSF Member Event
ATTACH;FMTTYPE=image/jpeg:https://www.humanserviceforum.org/wp-content/uploads/2025/11/hbcu.jpg
END:VEVENT
BEGIN:VEVENT
DTSTART;TZID=America/New_York:20251120T113000
DTEND;TZID=America/New_York:20251120T133000
DTSTAMP:20260423T220157
CREATED:20251112T130356Z
LAST-MODIFIED:20251112T130356Z
UID:10007605-1763638200-1763645400@www.humanserviceforum.org
SUMMARY:Paninis for Our Pantry
DESCRIPTION:We’re excited to invite you to a meaningful lunch on Thursday\, November 20th\, from 11:30 AM to 1:30 PM. This month’s Guest Chef is our own Shannon M. Rudder\, President & CEO of Martin Luther King\, Jr. Family Services\, serving her mouthwatering Buffalo Chicken Panini! Of course\, all other menu items will be available too.\n\n\n\nFor each order placed during lunch\, LugNutz will contribute **$2** to MLKFS’ Emergency Food Pantry. With a staggering increase in demand—over 30%—and so much uncertainty surrounding food security\, our pantry is committed to providing essential nourishment and heartfelt support. Every dollar of support helps maintain the dignity of those we serve\n.\n\n\nCome savor delicious food while making a positive impact! We look forward to seeing you there.\n\n\nMuch gratitude for the Marcotte Ford team for hosting us and for their continued support of our mission.
URL:https://www.humanserviceforum.org/event/paninis-for-our-pantry/
CATEGORIES:Community Calendar,HSF Member Event
END:VEVENT
BEGIN:VEVENT
DTSTART;TZID=America/New_York:20251120T080000
DTEND;TZID=America/New_York:20251120T120000
DTSTAMP:20260423T220157
CREATED:20251112T125612Z
LAST-MODIFIED:20251112T125612Z
UID:10007604-1763625600-1763640000@www.humanserviceforum.org
SUMMARY:Food and Wellness Fair
DESCRIPTION:
URL:https://www.humanserviceforum.org/event/food-and-wellness-fair/
CATEGORIES:Community Calendar,HSF Member Event
END:VEVENT
BEGIN:VEVENT
DTSTART;TZID=America/New_York:20251018T120000
DTEND;TZID=America/New_York:20251018T150000
DTSTAMP:20260423T220157
CREATED:20250814T145632Z
LAST-MODIFIED:20250814T145632Z
UID:10007228-1760788800-1760799600@www.humanserviceforum.org
SUMMARY:2025 MLKFS Social Justice Awards
DESCRIPTION:About This Event\n\nIt is with great pride and enthusiasm that Martin Luther King Jr. Family Services\, Inc. invites YOU to its premier event of the year\, our 2025 Social Justice Awards! \nEach year\, we honor leaders whose work uplifts the legacy of Dr. King—and this year’s theme draws directly from his powerful words: “We are determined to work and fight until justice runs down like water and righteousness like a mighty stream.” \nJustice thrives when we take action. How will you stand for social change? \nJOIN US in honoring and uplifting those who champion social justice. When we work together we are creating a unified voice toward systemic regional change.
URL:https://www.humanserviceforum.org/event/2025-mlkfs-social-justice-awards/
CATEGORIES:Community Calendar,HSF Member Event
ATTACH;FMTTYPE=image/png:https://www.humanserviceforum.org/wp-content/uploads/2025/08/social-justice.png
END:VEVENT
BEGIN:VEVENT
DTSTART;TZID=America/New_York:20250719T103000
DTEND;TZID=America/New_York:20250719T140000
DTSTAMP:20260423T220157
CREATED:20250709T130114Z
LAST-MODIFIED:20250709T130114Z
UID:10007192-1752921000-1752933600@www.humanserviceforum.org
SUMMARY:Love & Wellness 2025
DESCRIPTION:Welcome to the Love & Wellness event! Join us for a day filled with self-care\, mindfulness\, and connection. This in-person event is designed to help you prioritize your well-being and nurture your relationships. From yoga sessions to wellness workshops\, come and explore different ways to enhance your physical and emotional health. Connect with like-minded individuals and learn from experts in the field. Don’t miss this opportunity to invest in yourself and spread love to those around you. See you there!
URL:https://www.humanserviceforum.org/event/love-wellness-2025/
CATEGORIES:Community Calendar,HSF Member Event
ATTACH;FMTTYPE=image/jpeg:https://www.humanserviceforum.org/wp-content/uploads/2025/07/love.jpg
END:VEVENT
BEGIN:VEVENT
DTSTART;TZID=America/New_York:20250419T080000
DTEND;TZID=America/New_York:20250419T170000
DTSTAMP:20260423T220157
CREATED:20250219T132519Z
LAST-MODIFIED:20250219T132519Z
UID:10005452-1745049600-1745082000@www.humanserviceforum.org
SUMMARY:Black College Tour
DESCRIPTION:We are excited to announce the 2025 Black College Tour\, a long-standing and highly anticipated program offered by the HBCU Experience. Celebrating over 40 years\, this tour has provided countless youth with the opportunity to explore the excellence\, culture\, and excitement of Historically Black Colleges and Universities (HBCUs). In 2025\, we are thrilled to offer an unforgettable experience for students as we embark on a Southern and Mid-Atlantic route\, visiting HBCUs in Georgia\, Alabama\, North Carolina\, Virginia\, and Maryland!  \n  \nPlease visit our website for all updates and workshop dates and share with your networks. \n  \nFor more information or any questions\, please feel free to reach out to us via email or call (413) 746-3655. We are here to assist you every step of the way.
URL:https://www.humanserviceforum.org/event/black-college-tour/
CATEGORIES:Community Calendar,HSF Member Event
END:VEVENT
BEGIN:VEVENT
DTSTART;TZID=America/New_York:20250303T160000
DTEND;TZID=America/New_York:20250303T180000
DTSTAMP:20260423T220157
CREATED:20250219T131742Z
LAST-MODIFIED:20250219T131742Z
UID:10005451-1741017600-1741024800@www.humanserviceforum.org
SUMMARY:12th Annual Martin Luther King Jr Lecture
DESCRIPTION:SPRINGFIELD COLLEGE\, DIVISION OF CAMPUS LIFE & INCLUSION PRESENT: \nHonoring the history of inclusion and diversity at Springfield College \nMonday\, March 3\, 2025 at 4 p.m. \nCleveland E. and Phyllis B. Dodge Room (C-F)\, Flynn Campus Union \nJune 14\, 1964\, was one of the greatest days in Springfield College history. \n  \nThat was the day when Martin Luther King Jr. delivered the College’s commencement address. Taking place at the height of his fame and the height of the Civil Rights Movement\, it also happened in a remarkable context. That included both pressure from the FBI on the College to cancel the speech\, and King’s arrest and imprisonment three days before he was scheduled to appear. \n  \n2025 marks the 61st anniversary of these events. March 3 will mark the 12th annual MLK Lecture. \n  \nThis year’s event is not really a lecture at all. It is a thought-provoking conversation rooted in King’s own political and prophetic thought and advocacy in both historical and contemporary contexts. The discussion will assist us in understanding how racial\, ethnic\, gender\, and/or class issues have influenced the current political landscape in the United States. \n  \nOur President & CEO\, Shannon M. Rudder\, MBA\, joins other esteemed panelists: State Sen. Adam Gomez and Mount Holyoke College President Danielle R. Holley. Moderating the talk will be Terry Powe ’96\, Board of Trustees member and co-chair of the Academic and Student Affairs Committee. JOIN THE CONVERSATION
URL:https://www.humanserviceforum.org/event/12th-annual-martin-luther-king-jr-lecture/
CATEGORIES:Community Calendar,HSF Member Event
END:VEVENT
BEGIN:VEVENT
DTSTART;TZID=America/New_York:20250120T120000
DTEND;TZID=America/New_York:20250120T160000
DTSTAMP:20260423T220157
CREATED:20241219T134505Z
LAST-MODIFIED:20241219T134505Z
UID:10005238-1737374400-1737388800@www.humanserviceforum.org
SUMMARY:MLK Day 2025
DESCRIPTION:MLK Day is January 20\, 2025!\nMassMutual Center\nSunday\, January 20\, 2025\n12:00PM – Arts & Wellness Expo\n2:00PM – Program \nEach year\, as we gather to honor the life and enduring legacy of Dr. Martin Luther King Jr.\, we are reminded of his unwavering commitment to justice\, equity\, and peace. This year’s theme\, “Pursue Justice. Persist in Peace\,” captures the essence of Dr. King’s philosophy and provides a framework for how we are to approach the myriads of challenges that persist today.\nThe event will take place on Monday\, January 20\, 2025\, from 2:00 PM to 4:00 PM at the MassMutual Center in Springfield\, MA. Our community welcome begins with artistic expressions\, exhibitions\, and vendors in the lobby entrance followed by an awe-inspiring purpose driven program where nearly 1\,000 youth and supporting adult participants will manifest our theme through inspiring spoken word\, dance & music presentations featuring MLK Charter School of Excellence\, Martin Luther King Jr. Family Services’ Youth & Clemente Program\, Community Music School of Springfield’s Sonido Musica\, String City\, African Drumming\, Springfield CommUnity Chorale\, Young at Heart Chorus\, Springfield Public Schools students\, and more.\nOur community coalition of organizations include Community Music School of Springfield\, D.R.E.A.M. Studios\, Inclusive Strategies\, Legacy Sounds\, Martin Luther King Jr. Family Services\, Martin Luther King Jr. Charter School of Excellence\, Springfield College\, Springfield Public Schools\, Springfield Cultural Partnership\, Urban League of Springfield and Young At Heart Chorus\, who are all working in unity together to ensure this is a memorable community experience.\nThis collaboration demonstrates the power of coming together\, transcending boundaries\, and working toward the common goal of justice with and for our Beloved Community. Let’s show the world what persisting in peace looks like in the 4-1-3. \nTo learn more or to sponsor this inspiring community event\, please contact cpazmany@mlkjrfs.org.
URL:https://www.humanserviceforum.org/event/mlk-day-2025/
LOCATION:MassMutual Center\, 1277 Main Street\, Springfield \, MA\, 01103\, United States
CATEGORIES:Community Calendar,HSF Member Event
GEO:42.101659;-72.586825
X-APPLE-STRUCTURED-LOCATION;VALUE=URI;X-ADDRESS=MassMutual Center 1277 Main Street Springfield  MA 01103 United States;X-APPLE-RADIUS=500;X-TITLE=1277 Main Street:geo:-72.586825,42.101659
END:VEVENT
BEGIN:VEVENT
DTSTART;TZID=America/New_York:20241122T170000
DTEND;TZID=America/New_York:20241122T200000
DTSTAMP:20260423T220157
CREATED:20241030T101047Z
LAST-MODIFIED:20241030T101047Z
UID:10004734-1732294800-1732305600@www.humanserviceforum.org
SUMMARY:Holiday Tree Jubilee
DESCRIPTION:Our Holiday Tree Jubilee returns for 2025! And we have over 100 trees committed – that is more than the 75 gloriously decorated trees for our inaugural year in 2024.\n\n\nThe Martin Luther King\, Jr. Family Services\, in partnership with the Massachusetts Department of Youth Services\, Center for Human Development (CHD) division of Adolescent Reentry Services\, and the Saint George Greek Orthodox Cathedral are hosting a “Holiday Tree Jubilee” for the under-resourced communities we serve. The event will take place on November 22\, 2024\, 5pm to 8pm at the Greek Cultural Center at 22 St. George Rd. in Springfield. It is an honor and great privilege to have the ability to give back to our community and host this event for youth and families from the region.\n\n\nWith the support of a variety of community sponsors\, the event is entirely FREE to the communities we serve providing barrier free enjoyment for the entire family. The event bring the Holiday Spirit to life with: photos with Santa; carolers; hot chocolate station; dance performances; face painting; cookie decorating: karaoke; letters to Santa; and best of all: a decorated holiday tree raffle free to everyone! All trees are generously donated and decorated in a family-friendly theme\, to donate them to go home with the families in attendance. Transportation details to come.\n\n\nIf you have an interest in supporting this event monetarily or with a decorated tree donation\, please reach out to Claudia Pazmany at (413) 687-9661 or email.\n\n\nProviding a joyous holiday memory these families will never forget along with over 100 decorated\, sparkling holiday trees for the homes of the families we serve will deliver immeasurable cheer and hope in this season of giving.
URL:https://www.humanserviceforum.org/event/holiday-tree-jubilee/
CATEGORIES:Community Calendar,HSF Member Event
END:VEVENT
BEGIN:VEVENT
DTSTART;TZID=America/New_York:20240908T160000
DTEND;TZID=America/New_York:20240908T183000
DTSTAMP:20260423T220157
CREATED:20240821T105021Z
LAST-MODIFIED:20240821T105021Z
UID:10003280-1725811200-1725820200@www.humanserviceforum.org
SUMMARY:MLK JR Family Services Family Reunion
DESCRIPTION:  \nFamily-Fun Day! \nSaturday\, September 7\, 2024\, 11am – 5pm \nA brief program will inspire & kick us off followed by backyard games\, tournaments and food and snacks. \nDid we mention cotton candy\, karaoke\, face painting\, family fun relay games\, DJ – and maybe a visit from our favorite area mascots! \nAND….WTCC Radio will be joining us to offer opportunities to record YOUR MLKFS story of impact.  Don’t miss it! \n  \nFellowship & Worship \nSunday\, September 8\, 2024\, 4pm \nThere is no MLKFS without the vision of Project Mustard Seed—we will gather in that spirit and tradition with a special worship service under the leadership The Reverend Dr. Terrlyn L. Curry Avery\, Pastor of the MLK Jr. Community Presbyterian Church as we welcome Project Mustard Seed Visionary Leader The Reverend Dr. Ronald E. Peters to bless us with his message and call to action. \nWe are overjoyed that this celebration will feature a MLK Community Choir under the direction of Elder Terrence Haynes\, accompanied by Terrence Schider.  Prepare to be blessed! \n  \nGetting excited?   ALL must pre-register for the event.
URL:https://www.humanserviceforum.org/event/mlk-jr-family-services-family-reunion/2024-09-08/
CATEGORIES:Community Calendar,HSF Member Event
END:VEVENT
END:VCALENDAR