BEGIN:VCALENDAR
VERSION:2.0
PRODID:-//Human Service Forum - ECPv6.15.20//NONSGML v1.0//EN
CALSCALE:GREGORIAN
METHOD:PUBLISH
X-WR-CALNAME:Human Service Forum
X-ORIGINAL-URL:https://www.humanserviceforum.org
X-WR-CALDESC:Events for Human Service Forum
REFRESH-INTERVAL;VALUE=DURATION:PT1H
X-Robots-Tag:noindex
X-PUBLISHED-TTL:PT1H
BEGIN:VTIMEZONE
TZID:America/New_York
BEGIN:DAYLIGHT
TZOFFSETFROM:-0500
TZOFFSETTO:-0400
TZNAME:EDT
DTSTART:20240310T070000
END:DAYLIGHT
BEGIN:STANDARD
TZOFFSETFROM:-0400
TZOFFSETTO:-0500
TZNAME:EST
DTSTART:20241103T060000
END:STANDARD
BEGIN:DAYLIGHT
TZOFFSETFROM:-0500
TZOFFSETTO:-0400
TZNAME:EDT
DTSTART:20250309T070000
END:DAYLIGHT
BEGIN:STANDARD
TZOFFSETFROM:-0400
TZOFFSETTO:-0500
TZNAME:EST
DTSTART:20251102T060000
END:STANDARD
BEGIN:DAYLIGHT
TZOFFSETFROM:-0500
TZOFFSETTO:-0400
TZNAME:EDT
DTSTART:20260308T070000
END:DAYLIGHT
BEGIN:STANDARD
TZOFFSETFROM:-0400
TZOFFSETTO:-0500
TZNAME:EST
DTSTART:20261101T060000
END:STANDARD
END:VTIMEZONE
BEGIN:VEVENT
DTSTART;TZID=America/New_York:20251103T120000
DTEND;TZID=America/New_York:20251103T130000
DTSTAMP:20260424T020743
CREATED:20251029T122032Z
LAST-MODIFIED:20251029T122032Z
UID:10007581-1762171200-1762174800@www.humanserviceforum.org
SUMMARY:Drowning in Data: Making Use (and Sense) of What You Already Have
DESCRIPTION:Nonprofits juggle a lot: programs to run\, communities to serve\, boards and funders to keep informed\, and somewhere in the mix sits data. You have intake forms\, attendance logs\, survey responses (paper and online)\, rogue spreadsheets\, CRM exports (oh my!). You’re working hard\, you care deeply\, and you want data to help\, not weigh you down. This workshop is about throwing you a life raft. We’ll cut through the noise of overwhelming data and reframe it as something you already have (and don’t need to reinvent). No new systems or complicated dashboards\, just simple tools to spot what’s getting in the way\, ask sharper questions\, and turn existing data into insights your team\, board\, and funders can use.
URL:https://www.humanserviceforum.org/event/drowning-in-data-making-use-and-sense-of-what-you-already-have/
CATEGORIES:Community Calendar,HSF Member Event
END:VEVENT
END:VCALENDAR