BEGIN:VCALENDAR
VERSION:2.0
PRODID:-//Human Service Forum - ECPv6.15.20//NONSGML v1.0//EN
CALSCALE:GREGORIAN
METHOD:PUBLISH
X-WR-CALNAME:Human Service Forum
X-ORIGINAL-URL:https://www.humanserviceforum.org
X-WR-CALDESC:Events for Human Service Forum
REFRESH-INTERVAL;VALUE=DURATION:PT1H
X-Robots-Tag:noindex
X-PUBLISHED-TTL:PT1H
BEGIN:VTIMEZONE
TZID:America/New_York
BEGIN:DAYLIGHT
TZOFFSETFROM:-0500
TZOFFSETTO:-0400
TZNAME:EDT
DTSTART:20230312T070000
END:DAYLIGHT
BEGIN:STANDARD
TZOFFSETFROM:-0400
TZOFFSETTO:-0500
TZNAME:EST
DTSTART:20231105T060000
END:STANDARD
BEGIN:DAYLIGHT
TZOFFSETFROM:-0500
TZOFFSETTO:-0400
TZNAME:EDT
DTSTART:20240310T070000
END:DAYLIGHT
BEGIN:STANDARD
TZOFFSETFROM:-0400
TZOFFSETTO:-0500
TZNAME:EST
DTSTART:20241103T060000
END:STANDARD
BEGIN:DAYLIGHT
TZOFFSETFROM:-0500
TZOFFSETTO:-0400
TZNAME:EDT
DTSTART:20250309T070000
END:DAYLIGHT
BEGIN:STANDARD
TZOFFSETFROM:-0400
TZOFFSETTO:-0500
TZNAME:EST
DTSTART:20251102T060000
END:STANDARD
END:VTIMEZONE
BEGIN:VEVENT
DTSTART;TZID=America/New_York:20241213T080000
DTEND;TZID=America/New_York:20241213T170000
DTSTAMP:20260424T010755
CREATED:20241015T145959Z
LAST-MODIFIED:20241015T145959Z
UID:10004274-1734076800-1734109200@www.humanserviceforum.org
SUMMARY:Connect Science: Service-Learning Training Program
DESCRIPTION:MSA is excited to announce the return of our Connect Science: Service-Learning Training Program! Join us to learn about Connect Science: a research-based science instruction that integrates social emotional learning\, science\, and service-learning. \n\nWHAT: Training\, materials\, and support aligned with upper elementary MA Science and Technology Standards. Participants will receive an evidence-based service-learning/social emotional/science unit of study with all the materials to implement with students.\nWHO: Any school district or out-of-school time program\nWHEN:\n\nDecember 5 & 6\, 2024\nDecember 12 & 13\, 2024\nFollow up virtual session determined by participants\n\n\nWHERE: Massachusetts Service Alliance\, 98 N. Washington Street\, Suite 400 Boston\, MA 02114\n\n  \nTo learn more\, read this linked info sheet and attend the upcoming Connect Science Service-Learning Training Info Session on October 4th at 11 am. Register for the Connect Science info session using this link.* \n‍ \n*If you are not able to attend this session live and you would still like to hear the information\, please still register and you will be sent a link to the recording of the session.
URL:https://www.humanserviceforum.org/event/connect-science-service-learning-training-program/2024-12-13/
CATEGORIES:Community Calendar,HSF Non Member Event
ORGANIZER;CN="Massachusetts Service Alliance":MAILTO:lrooney@mass-service.org 
END:VEVENT
BEGIN:VEVENT
DTSTART;TZID=America/New_York:20241205T140000
DTEND;TZID=America/New_York:20241205T150000
DTSTAMP:20260424T010755
CREATED:20241015T145744Z
LAST-MODIFIED:20241015T145744Z
UID:10004270-1733407200-1733410800@www.humanserviceforum.org
SUMMARY:Service Enterprise Cohorts
DESCRIPTION:MSA is currently seeking organizations from ALL regions of Massachusetts to join our 2025 Service Enterprise cohorts! The Service Enterprise Initiative is a transformational training program that strategically enhances an organization’s ability to engage volunteers and advance their mission. This nationally recognized certification is the gold standard in volunteer engagement and is proven to increase efficiency and effectiveness across all levels of your organization. Learn more about Service Enterprise and see current and past nonprofit participants by visiting our website and attending one of the following Info Sessions. \n  \nSEI Info Session #1* — registration link \nDate: October 15th \nTime: 10 am – 11 am \nSEI Info Session #2* — registration link \nDate: December 5th \nTime: 2 pm – 3 pm \n  \n*If you are not able to attend these sessions live and you would still like to hear the information\, please still register and you will be sent a link to the recording of the session.
URL:https://www.humanserviceforum.org/event/service-enterprise-cohorts/2024-12-05/
CATEGORIES:Community Calendar,HSF Non Member Event
ORGANIZER;CN="Massachusetts Service Alliance":MAILTO:lrooney@mass-service.org 
END:VEVENT
END:VCALENDAR