BEGIN:VCALENDAR
VERSION:2.0
PRODID:-//Human Service Forum - ECPv6.15.20//NONSGML v1.0//EN
CALSCALE:GREGORIAN
METHOD:PUBLISH
X-WR-CALNAME:Human Service Forum
X-ORIGINAL-URL:https://www.humanserviceforum.org
X-WR-CALDESC:Events for Human Service Forum
REFRESH-INTERVAL;VALUE=DURATION:PT1H
X-Robots-Tag:noindex
X-PUBLISHED-TTL:PT1H
BEGIN:VTIMEZONE
TZID:America/New_York
BEGIN:DAYLIGHT
TZOFFSETFROM:-0500
TZOFFSETTO:-0400
TZNAME:EDT
DTSTART:20230312T070000
END:DAYLIGHT
BEGIN:STANDARD
TZOFFSETFROM:-0400
TZOFFSETTO:-0500
TZNAME:EST
DTSTART:20231105T060000
END:STANDARD
BEGIN:DAYLIGHT
TZOFFSETFROM:-0500
TZOFFSETTO:-0400
TZNAME:EDT
DTSTART:20240310T070000
END:DAYLIGHT
BEGIN:STANDARD
TZOFFSETFROM:-0400
TZOFFSETTO:-0500
TZNAME:EST
DTSTART:20241103T060000
END:STANDARD
BEGIN:DAYLIGHT
TZOFFSETFROM:-0500
TZOFFSETTO:-0400
TZNAME:EDT
DTSTART:20250309T070000
END:DAYLIGHT
BEGIN:STANDARD
TZOFFSETFROM:-0400
TZOFFSETTO:-0500
TZNAME:EST
DTSTART:20251102T060000
END:STANDARD
END:VTIMEZONE
BEGIN:VEVENT
DTSTART;TZID=America/New_York:20241017T080000
DTEND;TZID=America/New_York:20241017T170000
DTSTAMP:20260424T035614
CREATED:20241015T145541Z
LAST-MODIFIED:20250416T125258Z
UID:10004214-1729152000-1729184400@www.humanserviceforum.org
SUMMARY:Youth Career Pathways Initiative Grant 2025 Open
DESCRIPTION:MSA is thrilled to announce the return of our Youth Career Pathways Initiative\, supported by AmeriCorps’ Volunteer Generation Fund. \n\nWHAT: Matching grants up to $20\,000 that support the creation\, expansion and/or replication of promising models that better engage volunteers in youth career development programming/support OR engage youth in skill-building/career development service\nWHO: Nonprofits and Volunteer Connector Organizations\nWHEN: Applications are due Friday\, November 1\, 2024; funding runs from January 2025 – August 2025\n\n  \nYou can read the full request for proposals here. If you want to learn more about this funding opportunity\, please attend the upcoming Youth Career Pathways Initiative Grant Info Session on October 8th at 11 am. Register for the YCPI info session using this link.* \n  \n*If you are not able to attend this session live and you would still like to hear the information\, please still register and you will be sent a link to the recording of the session.
URL:https://www.humanserviceforum.org/event/youth-career-pathways-initiative-grant-2025-open/
CATEGORIES:Community Calendar,HSF Non Member Event
END:VEVENT
END:VCALENDAR