BEGIN:VCALENDAR
VERSION:2.0
PRODID:-//Human Service Forum - ECPv6.15.20//NONSGML v1.0//EN
CALSCALE:GREGORIAN
METHOD:PUBLISH
X-WR-CALNAME:Human Service Forum
X-ORIGINAL-URL:https://www.humanserviceforum.org
X-WR-CALDESC:Events for Human Service Forum
REFRESH-INTERVAL;VALUE=DURATION:PT1H
X-Robots-Tag:noindex
X-PUBLISHED-TTL:PT1H
BEGIN:VTIMEZONE
TZID:America/New_York
BEGIN:DAYLIGHT
TZOFFSETFROM:-0500
TZOFFSETTO:-0400
TZNAME:EDT
DTSTART:20240310T070000
END:DAYLIGHT
BEGIN:STANDARD
TZOFFSETFROM:-0400
TZOFFSETTO:-0500
TZNAME:EST
DTSTART:20241103T060000
END:STANDARD
BEGIN:DAYLIGHT
TZOFFSETFROM:-0500
TZOFFSETTO:-0400
TZNAME:EDT
DTSTART:20250309T070000
END:DAYLIGHT
BEGIN:STANDARD
TZOFFSETFROM:-0400
TZOFFSETTO:-0500
TZNAME:EST
DTSTART:20251102T060000
END:STANDARD
BEGIN:DAYLIGHT
TZOFFSETFROM:-0500
TZOFFSETTO:-0400
TZNAME:EDT
DTSTART:20260308T070000
END:DAYLIGHT
BEGIN:STANDARD
TZOFFSETFROM:-0400
TZOFFSETTO:-0500
TZNAME:EST
DTSTART:20261101T060000
END:STANDARD
BEGIN:DAYLIGHT
TZOFFSETFROM:-0500
TZOFFSETTO:-0400
TZNAME:EDT
DTSTART:20270314T070000
END:DAYLIGHT
BEGIN:STANDARD
TZOFFSETFROM:-0400
TZOFFSETTO:-0500
TZNAME:EST
DTSTART:20271107T060000
END:STANDARD
END:VTIMEZONE
BEGIN:VEVENT
DTSTART;TZID=America/New_York:20260114T173000
DTEND;TZID=America/New_York:20260114T193000
DTSTAMP:20260423T230522
CREATED:20260106T125815Z
LAST-MODIFIED:20260106T150757Z
UID:10007780-1768411800-1768419000@www.humanserviceforum.org
SUMMARY:Community Vision Board Event 2026
DESCRIPTION:Community Vision Board Event 2026\n\n\nFor the third year in a row\, we are coming together to pause\, reflect\, and intentionally envision the future we want to build together as a community.\n\n\nThis annual Community Vision Board Event has become a meaningful space where community members\, families\, partners\, and staff gather to honor what we’ve learned\, name what our community needs\, and co-create shared priorities for the year ahead. Through guided reflection\, vision boards\, and collective conversation\, we will shape our path into 2026.\n\n\n Wednesday\, January 14th\, 2025\n 5:30 PM – 7:30 PM\n Tower Square – Suite 220\nSpringfield\, MA 01105\n\n\n Materials will be provided  Light refreshments\n\n\n RSVP is encouraged so we can plan accordingly.\n\n\nCome imagine\, create\, and collaborate with us.\nWhen we come together with intention year after year\, meaningful impact follows.\n\n 
URL:https://www.humanserviceforum.org/event/community-vision-board-event-2026/
CATEGORIES:Community Calendar,HSF Member Event
ATTACH;FMTTYPE=image/jpeg:https://www.humanserviceforum.org/wp-content/uploads/2026/01/vision.jpg
END:VEVENT
BEGIN:VEVENT
DTSTART;TZID=America/New_York:20250815T110000
DTEND;TZID=America/New_York:20250815T140000
DTSTAMP:20260423T230522
CREATED:20250722T140312Z
LAST-MODIFIED:20250722T140312Z
UID:10007201-1755255600-1755266400@www.humanserviceforum.org
SUMMARY:Back to School Bash
DESCRIPTION:Join us for the NNCC 2025 End of the Summer Celebration — our Back-to-School Bash! \n\n\n Friday\, August 15\, 2025\n 11:00 AM – 2:00 PM\n Jaime Ulloa Park\, Springfield\, MA\n Rain Date: August 22\, 2025\n\n\nLet’s send the summer off in style with:\n Live music\n Backpack & material giveaways\n Face painting & games\n Free haircuts & braiding\n Food\, fun\, and family vibes!\n\n\n Over 1\,000 families served — and you’re invited to be part of the magic!
URL:https://www.humanserviceforum.org/event/back-to-school-bash/
CATEGORIES:Community Calendar,HSF Member Event
END:VEVENT
END:VCALENDAR