BEGIN:VCALENDAR
VERSION:2.0
PRODID:-//Human Service Forum - ECPv6.15.20//NONSGML v1.0//EN
CALSCALE:GREGORIAN
METHOD:PUBLISH
X-WR-CALNAME:Human Service Forum
X-ORIGINAL-URL:https://www.humanserviceforum.org
X-WR-CALDESC:Events for Human Service Forum
REFRESH-INTERVAL;VALUE=DURATION:PT1H
X-Robots-Tag:noindex
X-PUBLISHED-TTL:PT1H
BEGIN:VTIMEZONE
TZID:America/New_York
BEGIN:DAYLIGHT
TZOFFSETFROM:-0500
TZOFFSETTO:-0400
TZNAME:EDT
DTSTART:20250309T070000
END:DAYLIGHT
BEGIN:STANDARD
TZOFFSETFROM:-0400
TZOFFSETTO:-0500
TZNAME:EST
DTSTART:20251102T060000
END:STANDARD
BEGIN:DAYLIGHT
TZOFFSETFROM:-0500
TZOFFSETTO:-0400
TZNAME:EDT
DTSTART:20260308T070000
END:DAYLIGHT
BEGIN:STANDARD
TZOFFSETFROM:-0400
TZOFFSETTO:-0500
TZNAME:EST
DTSTART:20261101T060000
END:STANDARD
BEGIN:DAYLIGHT
TZOFFSETFROM:-0500
TZOFFSETTO:-0400
TZNAME:EDT
DTSTART:20270314T070000
END:DAYLIGHT
BEGIN:STANDARD
TZOFFSETFROM:-0400
TZOFFSETTO:-0500
TZNAME:EST
DTSTART:20271107T060000
END:STANDARD
END:VTIMEZONE
BEGIN:VEVENT
DTSTART;TZID=America/New_York:20260305T173000
DTEND;TZID=America/New_York:20260305T190000
DTSTAMP:20260423T195757
CREATED:20260303T195916Z
LAST-MODIFIED:20260303T195916Z
UID:10007949-1772731800-1772737200@www.humanserviceforum.org
SUMMARY:Northampton DHHS Community Forum
DESCRIPTION:The City of Northampton Department of Health and Human Services and the Northampton Board of Health will host a community forum on Thursday\, March 5\, providing an opportunity for open dialogue and public discussion about a proposed Nicotine-Free Generation (NFG) policy. Community members are encouraged to attend to learn more about the proposal\, ask questions\, and share perspectives. No deliberations or votes will occur at this forum. The Nicotine-Free Generation policy is a forward-looking public health approach that would gradually phase out the sale of nicotine products to future generations by establishing a birth-year cutoff for legal sales.
URL:https://www.humanserviceforum.org/event/northampton-dhhs-community-forum/
CATEGORIES:Community Calendar,HSF Member Event
END:VEVENT
END:VCALENDAR