BEGIN:VCALENDAR
VERSION:2.0
PRODID:-//Human Service Forum - ECPv6.15.20//NONSGML v1.0//EN
CALSCALE:GREGORIAN
METHOD:PUBLISH
X-ORIGINAL-URL:https://www.humanserviceforum.org
X-WR-CALDESC:Events for Human Service Forum
REFRESH-INTERVAL;VALUE=DURATION:PT1H
X-Robots-Tag:noindex
X-PUBLISHED-TTL:PT1H
BEGIN:VTIMEZONE
TZID:America/New_York
BEGIN:DAYLIGHT
TZOFFSETFROM:-0500
TZOFFSETTO:-0400
TZNAME:EDT
DTSTART:20240310T070000
END:DAYLIGHT
BEGIN:STANDARD
TZOFFSETFROM:-0400
TZOFFSETTO:-0500
TZNAME:EST
DTSTART:20241103T060000
END:STANDARD
BEGIN:DAYLIGHT
TZOFFSETFROM:-0500
TZOFFSETTO:-0400
TZNAME:EDT
DTSTART:20250309T070000
END:DAYLIGHT
BEGIN:STANDARD
TZOFFSETFROM:-0400
TZOFFSETTO:-0500
TZNAME:EST
DTSTART:20251102T060000
END:STANDARD
BEGIN:DAYLIGHT
TZOFFSETFROM:-0500
TZOFFSETTO:-0400
TZNAME:EDT
DTSTART:20260308T070000
END:DAYLIGHT
BEGIN:STANDARD
TZOFFSETFROM:-0400
TZOFFSETTO:-0500
TZNAME:EST
DTSTART:20261101T060000
END:STANDARD
END:VTIMEZONE
BEGIN:VEVENT
DTSTART;TZID=America/New_York:20251105T103000
DTEND;TZID=America/New_York:20251105T113000
DTSTAMP:20260424T050735
CREATED:20251031T130024Z
LAST-MODIFIED:20251031T130024Z
UID:10007589-1762338600-1762342200@www.humanserviceforum.org
SUMMARY:Community Benefits Forums
DESCRIPTION:Baystate Health and Health New England warmly invite patients\, friends\, and the wider community to attend their in-person Community Benefits Forums. These forums are an opportunity to learn\, share\, and connect around the health needs and priorities of our local communities.Register here: https://baystatehealth.jotform.com/252875534671062
URL:https://www.humanserviceforum.org/event/community-benefits-forums/
CATEGORIES:Community Calendar,HSF Member Event
END:VEVENT
BEGIN:VEVENT
DTSTART;TZID=America/New_York:20250425T120000
DTEND;TZID=America/New_York:20250425T130000
DTSTAMP:20260424T050735
CREATED:20250415T134356Z
LAST-MODIFIED:20250415T134356Z
UID:10005898-1745582400-1745586000@www.humanserviceforum.org
SUMMARY:Tips for Effectively Using 413Cares
DESCRIPTION:
URL:https://www.humanserviceforum.org/event/tips-for-effectively-using-413cares/
CATEGORIES:Community Calendar,HSF Member Event
END:VEVENT
END:VCALENDAR