BEGIN:VCALENDAR
VERSION:2.0
PRODID:-//Human Service Forum - ECPv6.15.20//NONSGML v1.0//EN
CALSCALE:GREGORIAN
METHOD:PUBLISH
X-ORIGINAL-URL:https://www.humanserviceforum.org
X-WR-CALDESC:Events for Human Service Forum
REFRESH-INTERVAL;VALUE=DURATION:PT1H
X-Robots-Tag:noindex
X-PUBLISHED-TTL:PT1H
BEGIN:VTIMEZONE
TZID:America/New_York
BEGIN:DAYLIGHT
TZOFFSETFROM:-0500
TZOFFSETTO:-0400
TZNAME:EDT
DTSTART:20230312T070000
END:DAYLIGHT
BEGIN:STANDARD
TZOFFSETFROM:-0400
TZOFFSETTO:-0500
TZNAME:EST
DTSTART:20231105T060000
END:STANDARD
BEGIN:DAYLIGHT
TZOFFSETFROM:-0500
TZOFFSETTO:-0400
TZNAME:EDT
DTSTART:20240310T070000
END:DAYLIGHT
BEGIN:STANDARD
TZOFFSETFROM:-0400
TZOFFSETTO:-0500
TZNAME:EST
DTSTART:20241103T060000
END:STANDARD
BEGIN:DAYLIGHT
TZOFFSETFROM:-0500
TZOFFSETTO:-0400
TZNAME:EDT
DTSTART:20250309T070000
END:DAYLIGHT
BEGIN:STANDARD
TZOFFSETFROM:-0400
TZOFFSETTO:-0500
TZNAME:EST
DTSTART:20251102T060000
END:STANDARD
BEGIN:DAYLIGHT
TZOFFSETFROM:-0500
TZOFFSETTO:-0400
TZNAME:EDT
DTSTART:20260308T070000
END:DAYLIGHT
BEGIN:STANDARD
TZOFFSETFROM:-0400
TZOFFSETTO:-0500
TZNAME:EST
DTSTART:20261101T060000
END:STANDARD
BEGIN:DAYLIGHT
TZOFFSETFROM:-0500
TZOFFSETTO:-0400
TZNAME:EDT
DTSTART:20270314T070000
END:DAYLIGHT
BEGIN:STANDARD
TZOFFSETFROM:-0400
TZOFFSETTO:-0500
TZNAME:EST
DTSTART:20271107T060000
END:STANDARD
END:VTIMEZONE
BEGIN:VEVENT
DTSTART;TZID=America/New_York:20260331T173000
DTEND;TZID=America/New_York:20260331T193000
DTSTAMP:20260423T181459
CREATED:20260310T161323Z
LAST-MODIFIED:20260310T161323Z
UID:10007963-1774978200-1774985400@www.humanserviceforum.org
SUMMARY:Transparency: A Panel on Transgender Care in Western MA
DESCRIPTION:Overview\n\n\n\n\nJoin us for a real talk panel on transgender healthcare issues in Western MA—let’s get transparent! \n\n\n\nJoin Safe Passage on Transgender Day of Visibility for an in-person and online panel discussion diving into transgender care in Western Massachusetts. This event brings together experts in healthcare\, mental health\, and law\, as well as and community members\, to share experiences\, explore challenges\, and highlight progress. \nWhether you’re directly impacted or want to better support trans folks in your communities\, attendees with leave Transparency with a expanded understanding of the needs of trans people today. Don’t miss out on this important conversation about transparency and care in the trans community! \nThis event will be held in-person and livestreamed to Zoom.
URL:https://www.humanserviceforum.org/event/transparency-a-panel-on-transgender-care-in-western-ma/
CATEGORIES:Community Calendar,HSF Member Event
ATTACH;FMTTYPE=image/jpeg:https://www.humanserviceforum.org/wp-content/uploads/2026/03/trans.jpg
END:VEVENT
BEGIN:VEVENT
DTSTART;TZID=America/New_York:20251207T080000
DTEND;TZID=America/New_York:20251207T120000
DTSTAMP:20260423T181459
CREATED:20251103T125418Z
LAST-MODIFIED:20251103T125418Z
UID:10007594-1765094400-1765108800@www.humanserviceforum.org
SUMMARY:Hot Chocolate Run
DESCRIPTION:Sign up to run\, walk\, or volunteer on December 7th! Then\, share your fundraising page with family and friends to create year-round support for survivors of domestic violence. \n\nJoin us for a great time for a great cause!
URL:https://www.humanserviceforum.org/event/hot-chocolate-run-3/
CATEGORIES:Community Calendar,HSF Member Event
END:VEVENT
BEGIN:VEVENT
DTSTART;TZID=America/New_York:20251112T180000
DTEND;TZID=America/New_York:20251112T200000
DTSTAMP:20260423T181459
CREATED:20251029T121822Z
LAST-MODIFIED:20251029T121822Z
UID:10007580-1762970400-1762977600@www.humanserviceforum.org
SUMMARY:Safe Passage Open House
DESCRIPTION:Safe Passage is hosting an Open Houses for therapists and behavioral health workers — Join Safe Passage to network and build coalition with fellow providers\, learn more about Safe Passage and their programs/services\, get a tour of the office and meet folks running programs\, and learn more about how you can engage with Safe Passage and support survivors of domestic violence. There will be refreshments and light snacks available. Please RSVP here if you plan to attend.
URL:https://www.humanserviceforum.org/event/safe-passage-open-house/
CATEGORIES:Community Calendar,HSF Member Event
ATTACH;FMTTYPE=image/jpeg:https://www.humanserviceforum.org/wp-content/uploads/2025/10/safe-passage-1.jpg
END:VEVENT
BEGIN:VEVENT
DTSTART;TZID=America/New_York:20251112T180000
DTEND;TZID=America/New_York:20251112T200000
DTSTAMP:20260423T181459
CREATED:20251027T131158Z
LAST-MODIFIED:20251027T131158Z
UID:10007512-1762970400-1762977600@www.humanserviceforum.org
SUMMARY:Safe Passage Open House: Therapists & Behavioral Health Workers
DESCRIPTION:Safe Passage is hosting an Open Houses for therapists and behavioral health workers — Join us to learn more about Safe Passage and our programs/services\, get a tour of our office and meet folks running our programs\, and learn more about how you can engage with Safe Passage and support survivors of domestic violence. We will have refreshments and light snacks available. RSVP is required at: https://docs.google.com/forms/d/e/1FAIpQLSemlOt3cnMiwUojWfP1OmwY5PvYxPOT3Yo0E72n0qWeCV6i-w/viewform?usp=dialog \nPlease note: This is a drop-in space and there is no expectation to stay for the entire length of the event! \nIf you have any questions\, you can reach us at outreach@safepass.org.
URL:https://www.humanserviceforum.org/event/safe-passage-open-house-therapists-behavioral-health-workers/
LOCATION:Safe Passage\, 76 Carlon Dr\, Northampton\, MA\, 01060\, United States
CATEGORIES:Community Calendar,HSF Member Event
ATTACH;FMTTYPE=image/png:https://www.humanserviceforum.org/wp-content/uploads/2025/10/SP-Open-House_Nov2025.png
END:VEVENT
BEGIN:VEVENT
DTSTART;TZID=America/New_York:20251022T080000
DTEND;TZID=America/New_York:20251022T170000
DTSTAMP:20260423T181459
CREATED:20251021T130736Z
LAST-MODIFIED:20251021T130736Z
UID:10007502-1761120000-1761152400@www.humanserviceforum.org
SUMMARY:Safe Passage Grant a Wish Sign Up Begins
DESCRIPTION:It’s never too early to start thinking about holiday cheer! We’re looking for some special magic makers to help make the holiday season special for children experiencing domestic violence. If that’s you you can go to safepass.org/grant-a-wish today to bring a little magic into the world!
URL:https://www.humanserviceforum.org/event/safe-passage-grant-a-wish-sign-up-begins/
CATEGORIES:Community Calendar,HSF Member Event
ATTACH;FMTTYPE=image/jpeg:https://www.humanserviceforum.org/wp-content/uploads/2025/10/safe-passage.jpg
END:VEVENT
BEGIN:VEVENT
DTSTART;TZID=America/New_York:20241208T080000
DTEND;TZID=America/New_York:20241208T120000
DTSTAMP:20260423T181459
CREATED:20240925T103752Z
LAST-MODIFIED:20240925T103752Z
UID:10003500-1733644800-1733659200@www.humanserviceforum.org
SUMMARY:Hot Chocolate Run
DESCRIPTION:The Hot Chocolate Run is a community celebration of Safe Passage\, the Hampshire County organization addressing domestic violence. \nSign up to run\, walk\, or volunteer on December 8! \nThen\, share your fundraising page with family and friends to create year-round support for survivors of domestic violence. \n\nJoin us for a great time for a great cause!
URL:https://www.humanserviceforum.org/event/hot-chocolate-run-2/
CATEGORIES:Community Calendar,HSF Member Event
END:VEVENT
END:VCALENDAR