BEGIN:VCALENDAR
VERSION:2.0
PRODID:-//Human Service Forum - ECPv6.15.20//NONSGML v1.0//EN
CALSCALE:GREGORIAN
METHOD:PUBLISH
X-ORIGINAL-URL:https://www.humanserviceforum.org
X-WR-CALDESC:Events for Human Service Forum
REFRESH-INTERVAL;VALUE=DURATION:PT1H
X-Robots-Tag:noindex
X-PUBLISHED-TTL:PT1H
BEGIN:VTIMEZONE
TZID:America/New_York
BEGIN:DAYLIGHT
TZOFFSETFROM:-0500
TZOFFSETTO:-0400
TZNAME:EDT
DTSTART:20240310T070000
END:DAYLIGHT
BEGIN:STANDARD
TZOFFSETFROM:-0400
TZOFFSETTO:-0500
TZNAME:EST
DTSTART:20241103T060000
END:STANDARD
BEGIN:DAYLIGHT
TZOFFSETFROM:-0500
TZOFFSETTO:-0400
TZNAME:EDT
DTSTART:20250309T070000
END:DAYLIGHT
BEGIN:STANDARD
TZOFFSETFROM:-0400
TZOFFSETTO:-0500
TZNAME:EST
DTSTART:20251102T060000
END:STANDARD
BEGIN:DAYLIGHT
TZOFFSETFROM:-0500
TZOFFSETTO:-0400
TZNAME:EDT
DTSTART:20260308T070000
END:DAYLIGHT
BEGIN:STANDARD
TZOFFSETFROM:-0400
TZOFFSETTO:-0500
TZNAME:EST
DTSTART:20261101T060000
END:STANDARD
END:VTIMEZONE
BEGIN:VEVENT
DTSTART;TZID=America/New_York:20251029T200000
DTEND;TZID=America/New_York:20251029T210000
DTSTAMP:20260423T220720
CREATED:20250903T130100Z
LAST-MODIFIED:20250903T130100Z
UID:10007314-1761768000-1761771600@www.humanserviceforum.org
SUMMARY:Special Education Forum for Parents
DESCRIPTION:The Special Education Forum is an opportunity for parents\nand caregivers to share information amongst each other and\ngain insight from Nancy Farnsworth\, Autism Connections’\nInformation & Resource Coordinator and Special Education\nConsultant.\nJoin the Zoom meeting for a conversation about experiences\,\nconcerns\, problem solving and success stories in a safe and\nsupportive environment. The group’s concerns determine\nthe topics of the meetings\, while Nancy provides educational\nupdates for that month.\nImportant information about the Forum:\n• The Forum is for parents/caregivers only and registration\nis required.\n• The meetings will not be recorded\, to respect private\nconversations.\n• Any handouts discussed during the meeting will be\nemailed within a few days to attendees.\n* Special dates
URL:https://www.humanserviceforum.org/event/special-education-forum-for-parents/2025-10-29/
CATEGORIES:Community Calendar,HSF Member Event
ORGANIZER;CN="ServiceNet":MAILTO:dcole-duffy@servicenet.org
END:VEVENT
END:VCALENDAR